{"text_format":"1","workbook":"xlsx","n_sheets":10,"sheets":["User Control","Select ECPs","Contracted ECP List","Uncontracted ECP List","Geographic Analysis","Errors","Specialty Types","DataValidationFields","HPSA","County Names"],"not_rendered":{"charts":0,"images":5,"macros":1,"external_links":0,"defined_names":62,"comments":0,"pivot_tables":1},"unopened":[],"bounds":{"document_bytes":16777216,"sheet_cells":100000,"rows_first":2000,"rows_last":500,"rows_between":2000,"halvings":0,"cell_chars":16384,"cell_head_chars":4096},"cells_cut":0,"cells_raw":0,"read":"whole","date_system":"1900"}

{"sheet":"User Control","index":0,"n_rows":15,"n_cols":23,"rows_kept":15,"cut":false,"hidden":false,"merged":[[1,2,1,9],[2,2,2,9],[4,2,4,3],[4,6,4,9],[5,6,6,9],[9,6,12,9],[13,6,13,9],[14,6,19,9],[12,2,12,3],[7,6,8,9],[9,2,9,3],[10,2,10,4],[11,2,11,3],[13,2,13,4],[14,2,14,4]]}
["If macros are disabled, press and hold the ALT key and press the F, then I and then N key. After that, select the \"Enable All Content\" options by pressing enter."]
[null,null,"2026 MHBE Essential Community \nProviders Dental Template",null,null,null,null,null,null,null,null,null,"Current Tabs","Number of Rows per Tab","Number of Validation Errors","ECP Contracting Requirements Calculation:",null,{"$f":"SUM(N3:N3)","v":0}]
[null,null,"User Control & Details for Template",null,null,null,null,null,null,null,null,null,"Contracted ECP List",{"$f":"Ind_ECP_Row_Count","v":0},0,0,null,"Source Systems","Networks","Network Number","No. of Individual Tabs","Issuer's Selected State","Number of Selected Network IDs"]
[null,null,null,null,null,null,null,null,null,null,null,null,"Uncontracted ECP List",{"$f":"Uncontract_ECP_Count","v":0},0,null,null,"HIOS","AKN001",1,1,"MD","No"]
[null,null,"Issuer Information",null,null,null,"Notes & Instructions",null,null,null,null,null,null,null,null,null,null,"SERFF","AKN002",2]
[null,null,"Issuer ID:*",12345,null,null,"1. Enter all Issuer Information, then import network IDs from the CMS Network ID Template."]
[null,null,"Source System:*","SERFF"]
[null,null,"State:*","MD",null,null,"2. If you need to list uncontracted ECPs, select \"Yes\" from the dropdown next to \"Is this an Alternate ECP Calculation Issuer?\" (cell D9 of this tab)",null,null,null,null,null,"Validation Status"]
[null,null,"Is this an Alternate ECP Calculation Issuer?*","Yes",null,null,null,null,null,null,null,null,"Incomplete"]
[null,null,"Actions",null,null,null,"3. Data can be entered manually or Copy & Pasted into each tab. For Write-In ECPs that are not included on the \"Select ECPs\" tab, please indicate \"Write-In\" in the \"MHBE Number\" column! Ensure automatic calculation is turned on. Formulas → Calculation Options → Automatic\n\n4. ECPs are added to the \"Contracted ECP List\" by double-clicking the cell in the A column labelled \"Add ECP\" on the \"Select ECPs\" tab, then selecting \"Insert Selected ECPs\" in the top row of the \"Select ECPs\" tab.\n\n5. After inputting all contracted ECPs (or updating the \"Contracted ECP List\" tab) click the \"Refresh Pivot Table\" button on the \"Geographic Analysis\" tab.\n\n6. On the \"Contracted ECP List\" and \"Uncontracted ECP List\" tabs, all fields with an asterisk (*) are required. On the \"Contracted ECP List\" tab, 3 fields will need your input: \"Physician/Non-Physician\" (F), \"Specialty (Area of Medicine)\" (G), and \"Network IDs\" (Y).\n\n7. Validate data (using the \"Validate\" button below) after entering in all information "]
[null,null,"\n1.          Import Network IDs"]
[null,null,"Click the Import Network IDs button to import a list from the Network ID template."]
[null,null,"\n\n2.         Select ECPs\nAdd ECPs from the \"Select ECPs\" tab to the \"Contracted ECP List\" tab by double-clicking the cell in the \"Add ECP\" column. After selecting these cells for all ECPs you wish to add, select \"Insert Seleced ECPs\" in the top row of the \"Select ECPs\" tab. You may repeat these two steps (selecting the cell in the \"Add ECP\" column for all ECPs you wish to add, then selecting \"Insert Selected ECPs\") as many times as you need."]
[null,null,null,null,null,null,"8. Calculate the percentage of ECPs contracted using the \"Calculate\" button to the right once all ECP information has been input"]
[null,null,"3.          Validate Data\nValidate information entered into all tabs. Warning: Depending on data size, validation may take several minutes."]

{"sheet":"Select ECPs","index":1,"n_rows":70,"n_cols":40,"rows_kept":70,"cut":false,"hidden":false,"merged":[]}
["Action Keyboard Shortcut:\nShow All ECPs: CTRL + SHIFT + U\nClear All: CTRL + SHIFT + C\nShow Selected ECPs: CTRL + SHIFT + G\nInsert Selected ECPs: CTRL + SHIFT + M",null,null,null,null,null,null,null,null,null,null,null,null,null,null,null,null,null,null,null,null,null,null,null,null,null,null,null,null,null,null,null,null,null,null,null,null,null,null,{"$f":"MAX(COUNTA(A:A)-1,COUNTA(B:B),COUNTA(C:C),COUNTA(D:D),COUNTA(E:E),COUNTA(F:F),COUNTA(G:G),COUNTA(H:H),COUNTA(I:I),COUNTA(J:J),COUNTA(M:M),COUNTA(N:N),COUNTA(O:O),COUNTA(P:P),COUNTA(Q:Q),COUNTA(R:R))-1","v":68}]
["Add ECP?","MHBE Number","Site Name","Organization Name","National Provider Identifier","ECP Type: Hospital","ECP Type: FQHC","ECP Type: Ryan White","ECP Type: Family Planning","ECP Type: Indian Provider","ECP Type: Mental Health Facilities","ECP Type: Substance Use Disorder Treatment Centers","ECP Type: Other","ECP Type: 2016 Expansion Providers","MDH","Site Street Address 1","Site Street Address 2","Site City","Site State","Site Zip Code","Site County","Org Street Address 1","Org Street Address 2","Org City","Org State","Org Zip Code","Org County","POC 1 Name","POC 1 Title","POC 1 Phone #","POC 1 Phone Ext","POC 1 Email","URL 1","POC 2 Name","POC 2 Title","POC 2 Phone #","POC 2 Phone Ext","POC 2 Email","URL 2"]
[null,"MD_46886131_ECP","ANNE ARUNDEL COUNTY DEPARTMENT OF HEALTH","ANNE ARUNDEL CO. DEPT. OF HLTH","1932263795",0,0,0,0,0,0,0,0,1,1,"3 HARRY S. TRUMAN PKWY",null,"ANNAPOLIS","MD","21401-7085","ANNE ARUNDEL","3 HARRY S. TRUMAN PKWY",null,"ANNAPOLIS","MD","21401",null,"CECELIA THOMAS","OFFICE MANAGER, ACCOUNTS RECEIVABLE","410-222-7135"]
[null,"MD_87948973_ECP","BALTIMORE COUNTY DEPARTMENT OF HEALTH/DENTAL","BALTIMORE COUNTY DEPARTMENT OF HEALTH","1003042045",0,0,0,0,0,0,0,0,1,1,"9150 FRANKLIN SQUARE DR FL 3",null,"ROSEDALE","MD","21237-3903","BALTIMORE COUNTY","6401 YORK RD","3RD FLOOR","BALTIMORE","MD","21212-2152",null,"DAVID TAYLOR","HIPAA COMPLIANCE MANAGER","410-887-2702"]
[null,"MD_17990602_ECP","BALTIMORE MEDICAL SYSTEM","BALTIMORE MEDICAL SYSTEM","1346664562",0,1,0,0,0,0,0,0,0,0,"100 KANE STREET",null,"BALTIMORE","MD","21224","BALTIMORE CITY","5525 EASTERN AVE STE 301",null,"BALTIMORE","MD","21224-2796","BALTIMORE CITY","SHIRLEY SUTTON","PRESIDENT/CEO","410-558-4891",null,"Shirley.Sutton@bmsi.org","http://bmsi.org/our-programs/school-based-health-centers/",null,null,null,null,"Joe.Martin@bmsi.org"]
[null,"MD_60900928_ECP","BAY HUNDRED HEALTH CENTER AND DENTAL CENTER","CHOPTANK COMMUNITY HEALTH SYSTEM INC","1356388599",0,1,0,0,0,0,0,0,0,0,"301 RANDOLPH ST",null,"DENTON","MD","21629-1243","TALBOT","301 RANDOLPH ST",null,"DENTON","MD","21629-1243","CAROLINE","SARA RICH","CEO","410-479-4306",null,"jsheehan@choptankhealth.org",null,null,null,null,null,"smjohnson@choptankhealth.org"]
[null,"MD_44244608_ECP","BCHD ORAL HEALTH SERVICES","MAYOR AND CITY COUNCIL OF BALTIMORE","1679628846",0,0,0,0,0,0,0,0,1,1,"1515 W NORTH AVE",null,"BALTIMORE","MD","21217-1735","BALTIMORE CITY","1001 E FAYETTE ST",null,"BALTIMORE","MD","21202-4715",null,"TYRONE CHAPMAN","BILLING & REVENUE MGR.","443-739-3253"]
[null,"MD_89925442_ECP","BROOKLYN","FAMILY HEALTH CENTERS OF BALTIMORE, INC.","1336326248",0,1,0,0,0,0,0,0,0,0,"3540 S HANOVER ST",null,"BROOKLYN","MD","21225-1732","BALTIMORE CITY","631 CHERRY HILL RD",null,"BALTIMORE","MD","21225-1228","BALTIMORE CITY","PAULA MCLELLAN","CEO","410-354-2001",null,"pmclellan@fhcb.org",null,null,null,null,"11222","wmccray@fhcb.org"]
[null,"MD_70794553_ECP","CARROLL HOSPITAL","CARROLL HEALTH GROUP, LLC","1528403995",1,0,0,0,0,1,0,0,0,0,"200 MEMORIAL AVE",null,"WESTMINSTER","MD","21157-5726","CARROLL","200 MEMORIAL AVE",null,"WESTMINSTER","MD","21157-5726",null,"MICHAEL MYERS","VP","410-871-6114",null,null,"http://www.carrollhospitalcenter.org/behavioral-health"]
[null,"MD_13629719_ECP","CHASE BREXTON HEALTH CARE AT COLUMBIA","CHASE BREXTON HEALTH SERVICES, INC.","1376589309",0,1,1,0,0,1,0,0,0,0,"5500 KNOLL NORTH DR","STE 370","COLUMBIA","MD","21045-2209","HOWARD","1111 NORTH CHARLES STREET",null,"BALTIMORE","MD","21201","BALTIMORE CITY","KYLE EASTON","REVENUE CYCLE DIRECTOR","410-837-2050",null,"jshahan@chasebrexton.org"]
[null,"MD_80120920_ECP","CHASE BREXTON HEALTH CARE AT MOUNT VERNON","CHASE BREXTON HEALTH SERVICES, INC.","1588606305",0,1,1,0,0,1,1,1,0,0,"1111 NORTH CHARLES STREET",null,"BALTIMORE","MD","21201-5505","BALTIMORE CITY","1111 NORTH CHARLES STREET",null,"BALTIMORE","MD","21201","BALTIMORE CITY","KYLE EASTON","REVENUE CYCLE DIRECTOR","410-837-2050",null,"jshahan@chasebrexton.org"]
[null,"MD_89490453_ECP","CHASE BREXTON HEALTH CARE OF RANDALLSTOWN","CHASE BREXTON HEALTH SERVICES, INC.","1851320147",0,1,1,0,0,1,0,0,0,0,"6901 SECURITY BLVD STE 200",null,"WINDSOR MILL","MD","21244-2412","BALTIMORE COUNTY","1111 NORTH CHARLES STREET",null,"BALTIMORE","MD","21201","BALTIMORE CITY","KYLE EASTON","REVENUE CYCLE DIRECTOR","667-260-7924",null,"jshahan@chasebrexton.org"]
[null,"MD_91346924_ECP","CHEVERLY HEALTH CENTER","PRINCE GEORGE'S COUNTY HEALTH DEPARTMENT","1083945125",0,0,1,1,0,1,1,1,0,0,"3003 HOSPITAL DRIVE - GROUND FLOOR",null,"CHEVERLY","MD","20785","PRINCE GEORGES","1701 MCCORMICK DR",null,"LARGO","MD","20774-5329","PRINCE GEORGES","TAMALA BUTLER","CREDENTIALING SPECIALIST","301-883-7822",null,"DJYoung@co.pg.md.us",null,null,null,null,null,"DSAdams@co.pg.md.us"]
[null,"MD_71267541_ECP","CHOPTANK COMMUNITY HEALT","CHOPTANK COMMUNITY HEALTH SYSTEM INC","1487333035",0,1,0,0,0,0,0,0,0,1,"601 HIGH ST",null,"CHESTERTOWN","MD","21620-1124","KENT","601 HIGH ST",null,"CHESTERTOWN","MD","21620-1124",null,"SARA RICH","CEO","410-479-4306"]
[null,"MD_39725170_ECP","CHOPTANK COMMUNITY HEALT","CHOPTANK COMMUNITY HEALTH SYSTEM INC","1508577578",0,1,0,0,0,0,0,0,0,1,"522 CYNWOOD DR UNIT 1",null,"EASTON","MD","21601-3876","TALBOT","522 CYNWOOD DR UNIT 1",null,"EASTON","MD","21601-3876",null,"SARA RICH","CEO","410-479-4306"]
[null,"MD_13128334_ECP","CHOPTANK COMMUNITY HEALTH EASTON PEDIATRICS","CHOPTANK COMMUNITY HEALTH SYSTEM INC","1356388599",0,1,0,0,0,0,0,0,0,0,"301 RANDOLPH ST",null,"DENTON","MD","21629-1243","TALBOT","301 RANDOLPH ST",null,"DENTON","MD","21629-1243","CAROLINE","SARA RICH","CEO","410-479-4306",null,"jsheehan@choptankhealth.org",null,null,null,null,"5005","smjohnson@choptankhealth.org"]
[null,"MD_69661397_ECP","CHOPTANK COMMUNITY HEALTH SYSTEM, INC.","CHOPTANK COMMUNITY HEALTH SYSTEM INC","1356388599",0,1,0,0,0,0,0,0,0,0,"301 RANDOLPH ST",null,"DENTON","MD","21629-1243","CAROLINE","301 RANDOLPH ST",null,"DENTON","MD","21629-1243","CAROLINE","SARA RICH","CEO","410-479-4306",null,"jsheehan@choptankhealth.org","https://choptankhealth.org/locations/school-based-locations/",null,null,null,null,"smjohnson@choptankhealth.org"]
[null,"MD_98514452_ECP","CHOPTANK MOBILE VAN #1 MEDICAL","CHOPTANK COMMUNITY HEALTH SYSTEM INC","1609533637",0,1,0,0,0,0,0,0,0,1,"808 S 5TH AVE",null,"DENTON","MD","21629-1398","CAROLINE","808 S 5TH AVE",null,"DENTON","MD","21629-1398",null,"SARA RICH","CEO","410-479-4306"]
[null,"MD_47686746_ECP","COMMUNITY CLINIC AT WAH","COMMUNITY CLINIC, INC.","1790730281",0,1,0,0,0,0,0,0,0,0,"7676 NEW HAMPSHIRE AVE STE 220A",null,"TAKOMA PARK","MD","20912-7514","MONTGOMERY","8665 GEORGIA AVE",null,"SILVER SPRING","MD","20910-3405","MONTGOMERY","SONYA BRUTON","CEO","240-839-5107",null,"Kathleen.Knolhoff@cciweb.org","www.cciweb.org",null,null,null,null,"Sheldon.Kronzek@cciweb.org"]
[null,"MD_54575083_ECP","COMMUNITY CLINIC, INC.","COMMUNITY CLINIC, INC","1619287638",0,1,0,0,0,0,0,0,0,1,"8630 FENTON STREET","SUITE 1200","SILVER SPRING","MD","20910","MONTGOMERY","8665 GEORGIA AVE",null,"SILVER SPRING","MD","20910-3405",null,"PARASTOO GOLESTANI","CHIEF DENTAL OFFICER","301-340-7525"]
[null,"MD_16446471_ECP","COMMUNITY OF HOPE","COMMUNITY OF HOPE, INC.","1881639714",0,1,0,0,0,0,0,0,0,1,"2155 CHAMPLAIN ST NW",null,"WASHINGTON","DC","20009-2795","OUT OF STATE","4 ATLANTIC ST SW",null,"WASHINGTON","DC","20032-2350",null,"DEREK SYKES","VP OF FINANCE AND OPERATIONS","202-407-7747"]
[null,"MD_27810656_ECP","DENTAL CARE CENTER","GARRETT COUNTY HEALTH DEPARTMENT","1063595163",0,0,0,0,0,0,0,0,1,1,"1025 MEMORIAL DR",null,"OAKLAND","MD","21550-4343","GARRETT","1025 MEMORIAL DR",null,"OAKLAND","MD","21550-4343",null,"TAYLER GEORGE","FISCAL SUPERVISOR","301-334-7708"]
[null,"MD_88743925_ECP","DENTAL ROCKVILLE CLINIC","MONTGOMERY COUNTY MARYLAND GOVERNMENT","1235734708",0,0,0,0,0,0,0,0,1,1,"1401 ROCKVILLE PIKE FL 3",null,"ROCKVILLE","MD","20852-1428","MONTGOMERY","401 HUNGERFORD DR FL 6",null,"ROCKVILLE","MD","20850-4154",null,"JAMEELAH JOHNSON","MANAGER","240-733-1211"]
[null,"MD_92282308_ECP","DENTON MEDICAL CENTER","CHOPTANK COMMUNITY HEALTH SYSTEM INC","1356388599",0,1,0,0,0,0,0,0,0,0,"301 RANDOLPH ST",null,"DENTON","MD","21629-1243","CAROLINE","301 RANDOLPH ST",null,"DENTON","MD","21629-1243","CAROLINE","SARA RICH","CEO","410-479-4306",null,"jsheehan@choptankhealth.org",null,null,null,null,null,"smjohnson@choptankhealth.org"]
[null,"MD_39573537_ECP","DYER HEALTH CENTER","PRINCE GEORGE'S COUNTY HEALTH DEPARTMENT","1083945125",0,0,1,0,0,1,0,1,0,0,"3003 HOSPITAL DRIVE - GROUND FLOOR",null,"CHEVERLY","MD","20785","PRINCE GEORGES","1701 MCCORMICK DR",null,"LARGO","MD","20774-5329","PRINCE GEORGES","TAMALA BUTLER","CREDENTIALING SPECIALIST","301-883-7822",null,"DJYoung@co.pg.md.us",null,null,null,null,null,"DSAdams@co.pg.md.us"]
[null,"MD_21568503_ECP","EASTERN FAMILY RESOURCE CENTER","BALTIMORE COUNTY MARYLAND","1538439617",0,0,0,1,0,0,0,1,0,0,"9150 FRANKLIN SQUARE DR",null,"BALTIMORE","MD","21237-3903","BALTIMORE COUNTY","6401 YORK RD","3RD FLOOR","BALTIMORE","MD","21212-2152","BALTIMORE","TONIA ROSS","BILLING MANAGER","410-887-0684",null,"ryoungfellow@baltimorecountymd.gov","http://www.baltimorecountymd.gov/Agencies/health/healthservices/familyplanning.html"]
[null,"MD_30839252_ECP","ELAINE ELLIS CENTER OF HEALTH","ELAINE ELLIS CENTER OF HEALTH, INC.","1427331461",0,1,0,0,0,0,0,0,0,1,"1627 KENILWORTH AVE NE",null,"WASHINGTON","DC","20019-2010","OUT OF STATE","1627 KENILWORTH AVE NE",null,"WASHINGTON","DC","20019-2010",null,"JACQUELYN WALKER","CEO/EXECUTIVE DIRECTOR","202-425-2313"]
[null,"MD_51460809_ECP","FAMILY HEALTH CENTER OF BALTIMORE","FAMILY HEALTH CENTERS OF BALTIMORE","1346286713",0,1,0,0,0,1,0,0,0,0,"631 CHERRY HILL RD",null,"BALTIMORE","MD","21225-1228","BALTIMORE CITY","631 CHERRY HILL RD",null,"BALTIMORE","MD","21225-1228","BALTIMORE CITY","BRIAN HAWKINS","CEO","410-354-2000",null,"pmclellan@fhcb.org","fhcb.org",null,null,null,null,"wmccray@fhcb.org"]
[null,"MD_25377975_ECP","FAMILY HEALTH CENTERS OF BALTIMORE, INC.","FAMILY HEALTH CENTERS OF BALTIMORE, INC.","1205013539",0,1,0,0,0,0,0,0,0,0,"631 CHERRY HILL RD",null,"BALTIMORE","MD","21225-1228","BALTIMORE CITY","631 CHERRY HILL RD",null,"BALTIMORE","MD","21225-1228","BALTIMORE CITY","PAULA MCLELLAN","CEO","410-354-2001",null,"wmccray@fhcb.org",null,null,null,null,"11222","wmccray@fhcb.org"]
[null,"MD_16266289_ECP","FAMILY HEALTHCARE OF HAGERSTOWN","WALNUT STREET COMMUNITY HEALTH CENTER, INC.","1366425266",0,1,0,0,0,1,0,0,0,0,"201 S CLEVELAND AVE",null,"HAGERSTOWN","MD","21740-5745","WASHINGTON","201 S CLEVELAND AVE",null,"HAGERSTOWN","MD","21740-5745","WASHINGTON","DAVID BECKER","CFO","301-745-3777",null,"david.becker@familyhch.org","www.familyhch.org",null,null,null,null,"David.Olson@familyhch.org"]
[null,"MD_93478563_ECP","FASSETT-MAGEE HEALTH CENTER AND CAMBRIDGE DENTAL CENTER","CHOPTANK COMMUNITY HEALTH SYSTEM INC","1356388599",0,1,0,0,0,0,0,0,0,0,"301 RANDOLPH ST",null,"DENTON","MD","21629-1243","DORCHESTER","301 RANDOLPH ST",null,"DENTON","MD","21629-1243","CAROLINE","SARA RICH","CEO","410-479-4306",null,"jsheehan@choptankhealth.org",null,null,null,null,null,"smjohnson@choptankhealth.org"]
[null,"MD_70460231_ECP","FEDERALSBURG MEDICAL AND DENTAL CENTER","CHOPTANK COMMUNITY HEALTH SYSTEM INC","1356388599",0,1,0,0,0,0,0,0,0,0,"301 RANDOLPH ST",null,"DENTON","MD","21629-1243","CAROLINE","301 RANDOLPH ST",null,"DENTON","MD","21629-1243","CAROLINE","SARA RICH","CEO","410-479-4306",null,"jsheehan@choptankhealth.org",null,null,null,null,null,"smjohnson@choptankhealth.org"]
[null,"MD_93385327_ECP","FRANKLIN PARK HEALTH CENTER","COMMUNITY CLINIC, INC.","1790730281",0,1,0,0,0,0,0,1,0,0,"7676 NEW HAMPSHIRE AVE STE 220A",null,"TAKOMA PARK","MD","20912-7514","PRINCE GEORGES","8665 GEORGIA AVE",null,"SILVER SPRING","MD","20910-3405","MONTGOMERY","SONYA BRUTON","CEO","240-839-5107",null,"Kathleen.Knolhoff@cciweb.org","www.cciweb.org"]
[null,"MD_47494213_ECP","GAITHERSBURG HEALTH CENTER","COMMUNITY CLINIC, INC.","1790730281",0,1,0,0,0,0,0,0,0,0,"7676 NEW HAMPSHIRE AVE STE 220A",null,"TAKOMA PARK","MD","20912-7514","MONTGOMERY","8665 GEORGIA AVE",null,"SILVER SPRING","MD","20910-3405","MONTGOMERY","SONYA BRUTON","CEO","240-839-5107",null,"Kathleen.Knolhoff@cciweb.org","www.cciweb.org",null,null,null,null,"Sheldon.Kronzek@cciweb.org"]
[null,"MD_36627425_ECP","GARRETT COUNTY HEALTH DEPT.","GARRETT COUNTY HEALTH DEPARTMENT","1326096751",0,0,0,0,0,1,1,0,0,0,"1025 MEMORIAL DR",null,"OAKLAND","MD","21550-4343","GARRETT","1025 MEMORIAL DR",null,"OAKLAND","MD","21550-4343","GARRETT","JENNIFER HARE","ADMINISTRATOR","301-334-7703",null,"jennifer.hare@maryland.gov","Garretthealth.org",null,null,null,null,"taylerc.george@maryland.gov"]
[null,"MD_92471014_ECP","GARRETT COUNTY HEALTH DEPT.","GARRETT COUNTY HEALTH DEPARTMENT","1326096751",0,0,0,0,0,1,0,0,0,1,"1025 MEMORIAL DR",null,"OAKLAND","MD","21550-4343","GARRETT","1025 MEMORIAL DR",null,"OAKLAND","MD","21550-4343",null,"JENNIFER HARE","ADMINISTRATOR","301-334-7703"]
[null,"MD_16638833_ECP","GARRETT COUNTY HEALTH DEPT.- GRANSTVILLE CLINIC","GARRETT COUNTY HEALTH DEPT.- GRANSTVILLE CLINIC","1255467346",0,0,1,1,0,0,0,1,0,0,"1025 MEMORIAL DR",null,"OAKLAND","MD","21550-4343","GARRETT","395 PHILOS AVE",null,"WESTERNPORT","MD","21562-1510","GARRETT","JENNIFER LEE-STECKMAN",null,null,null,"Jennifer.Lee-Steckman@Maryland.gov","http://www.garretthealth.org/departments/Personal/Family.htm",null,null,null,null,"kara.taylor@maryland.gov"]
[null,"MD_59896146_ECP","GOLDSBORO MEDICAL AND DENTAL CENTER","CHOPTANK COMMUNITY HEALTH SYSTEM INC","1356388599",0,1,0,0,0,0,0,0,0,0,"301 RANDOLPH ST",null,"DENTON","MD","21629-1243","CAROLINE","301 RANDOLPH ST",null,"DENTON","MD","21629-1243","CAROLINE","SARA RICH","CEO","410-479-4306",null,"jsheehan@choptankhealth.org",null,null,null,null,null,"smjohnson@choptankhealth.org"]
[null,"MD_15613168_ECP","HARFORD COUNTY HEALTH DEPARTMENT-DENTAL","HARFORD COUNTY HEALTH DEPARTMENT","1255598686",0,0,0,0,0,0,0,0,1,1,"2204 HANSON RD",null,"EDGEWOOD","MD","21040-2608","HARFORD","120 S HAYS ST",null,"BEL AIR","MD","21014-3615",null,"MARCY AUSTIN","DEPUTY HEALTH OFFICER","410-877-1033"]
[null,"MD_35891775_ECP","HEALTHCARE FOR THE HOMELESS INC","HEALTH CARE FOR THE HOMELESS, INC","1003819665",0,0,0,0,0,1,1,0,0,0,"421 FALLSWAY",null,"BALTIMORE","MD","21202-4800","BALTIMORE CITY","421 FALLSWAY",null,"BALTIMORE","MD","21202-4800",null,"KEVIN LINDAMOOD","PRESIDENT & CEO","410-837-5533",null,null,"http://www.hchmd.org/health-care-services"]
[null,"MD_23725225_ECP","HEALTHCARE FOR THE HOMELESS INC","HEALTH CARE FOR THE HOMELESS, INC","1003819665",0,1,0,0,0,0,0,0,0,1,"421 FALLSWAY",null,"BALTIMORE","MD","21202-4800","BALTIMORE CITY","421 FALLSWAY",null,"BALTIMORE","MD","21202-4800",null,"KEVIN LINDAMOOD","PRESIDENT & CEO","410-837-5533"]
[null,"MD_77542216_ECP","INDEPENDENT LIVING FOUNDATION","INDEPENDENT LIVING FOUNDATION","1437127586",0,0,1,0,0,0,0,0,0,0,"2116 W PRATT ST",null,"BALTO","MD","21223","BALTIMORE CITY","2116 W PRATT ST",null,"BALTO","MD","21223","BALTIMORE CITY","LARRY BANK",null,null,null,"larrybank@comcast.net",null,null,null,null,null,"larrybank@comcast.net"]
[null,"MD_74346292_ECP","KCHD CHILDRENS DENTAL","KENT COUNTY HEALTH DEPARTMENT","1568601698",0,0,0,0,0,0,0,0,1,1,"125 S LYNCHBURG ST",null,"CHESTERTOWN","MD","21620-1146","KENT","125 S LYNCHBURG ST",null,"CHESTERTOWN","MD","21620-1146",null,"THERESA ASHLEY","FISCAL TECH.","410-778-2103"]
[null,"MD_15816192_ECP","LIBERTY FAMILY RESOURCE CENTER","BALTIMORE COUNTY MARYLAND","1174893259",0,0,0,1,0,0,0,1,0,0,"3525 RESOURCE DR",null,"RANDALLSTOWN","MD","21133-4733","BALTIMORE COUNTY","6401 YORK RD","3RD FLOOR","BALTIMORE","MD","21212-2130","BALTIMORE","TONIA ROSS","MEDICAL BILLING MANAGER","410-887-0684",null,"ryoungfellow@baltimorecountymd.gov","http://www.baltimorecountymd.gov/Agencies/health/healthservices/familyplanning.html"]
[null,"MD_38797517_ECP","MARY'S CENTER - MATERNAL & CHILD CARE INC.","MARY'S CENTER FOR MATERNAL AND CHILD CARE","1053522060",0,1,0,0,0,0,0,0,0,1,"3912 GEORGIA AVE NW",null,"WASHINGTON","DC","20011-5861","OUT OF STATE","2333 ONTARIO RD NW",null,"WASHINGTON","DC","20009-2627",null,"TOLLIE ELLIOTT","CHIEF EXECUTIVE OFFICER","202-847-4247"]
[null,"MD_55510133_ECP","MARY'S CENTER - MATERNAL & CHILD CARE, INC","MARY'S CENTER FOR MATERNAL AND CHILD CARE, INC.","1972920742",0,1,0,0,0,0,0,0,0,1,"8908 RIGGS RD",null,"ADELPHI","MD","20783-1632","PRINCE GEORGES","2333 ONTARIO RD NW",null,"WASHINGTON","DC","20009-2627",null,"TOLLIE ELLIOTT","CHIEF EXECUTIVE OFFICER","202-483-8196"]
[null,"MD_27252325_ECP","MEDSTAR HARBOR HOSPITAL","HARBOR HOSPITAL","1831110873",1,0,0,0,0,1,0,0,0,0,"3001 S HANOVER ST",null,"BALTIMORE","MD","21225-1233","BALTIMORE CITY","3001 S HANOVER ST",null,"BALTIMORE","MD","21225-1233",null,"GOVIND MAHESHWARI","A.V.P","410-350-3636",null,null,"http://www.medstarharbor.org/"]
[null,"MD_17164348_ECP","MI CASA ES SU CASA","D&T HEALTH SERVICES","1720793136",0,0,0,0,0,0,1,0,0,0,"1212 E 25TH ST",null,"BALTIMORE","MD","21218-5512","BALTIMORE CITY","1212 E 25TH ST",null,"BALTIMORE","MD","21218-5512",null,"RONALD HILL","CEO","443-868-4189",null,null,"http://www.mycasaliving.org"]
[null,"MD_26721850_ECP","NATIVE AMERICAN LIFELINES OF BOSTON AND BALTIMORE","NATIVE AMERICAN LIFELINES, INC.","1679863344",0,0,0,0,1,0,0,0,0,0,"106 CLAY ST",null,"BALTIMORE","MD","21201-3501","BALTIMORE CITY","106 CLAY ST",null,"BALTIMORE","MD","21201-3501","BALTIMORE CITY","SUSAN ROTH","EXECUTIVE DIRECTOR","410-837-2258",null,"kerry@nativelifelines.org",null,null,null,null,null,"jess@nativelifelines.org"]
[null,"MD_96450081_ECP","ORAL HEALTH","MAYOR AND CITY COUNCIL OF BALTIMORE","1104422377",0,0,0,0,0,0,0,0,1,1,"1200 E FAYETTE ST","ORAL HEALTH","BALTIMORE","MD","21202","BALTIMORE CITY","1001 E FAYETTE ST",null,"BALTIMORE","MD","21202-4715",null,"TYRONE CHAPMAN","BILLING AND REVENUE MGR.","443-739-3253"]
[null,"MD_60983337_ECP","PARK WEST MEDICAL CENTER - BELVEDERE","PARK WEST HEALTH SYSTEMS INCORPORATED","1205896719",0,1,0,0,0,0,0,0,0,0,"3319 W BELVEDERE AVE",null,"BALTIMORE","MD","21215-5103","BALTIMORE CITY","3319 W BELVEDERE AVE",null,"BALTIMORE","MD","21215-5103","BALTIMORE CITY","TERRI MITCHELL","CEO","410-542-7800",null,"abennett@parkwestmed.org","www.parkwestmed.org",null,null,null,"7501","NGAYLE@PARKWESTMED.ORG"]
[null,"MD_66814435_ECP","PENINSULA REGIONAL MEDICAL CENTER","TIDALHEALTH PENINSULA REGIONAL, INC.","1184832040",0,0,0,0,0,1,0,0,0,0,"100 E CARROLL ST","PENINSULA REGIONAL MEDICAL GROUP","SALISBURY","MD","21801-5422","WICOMICO","100 E CARROLL ST","PENINSULA REGIONAL MEDICAL GROUP","SALISBURY","MD","21801-5422",null,"STEPHANIE GARY","CFO","410-912-6059",null,null,"http://www.peninsula.org/"]
[null,"MD_83303273_ECP","QUEEN ANNES COUNTY HEALTH DENTAL CENTER","QUEEN ANNE'S COUNTY HEALTH DEPARTMENT","1962772319",0,0,0,0,0,0,0,0,1,1,"206 N COMMERCE ST",null,"CENTREVILLE","MD","21617-1049","QUEEN ANNES","206 N COMMERCE ST",null,"CENTREVILLE","MD","21617-1049",null,"BRICE STRANG","HEALTH OFFICER","410-758-0720"]
[null,"MD_85585679_ECP","TAKOMA PARK HEALTH CENTER","COMMUNITY CLINIC, INC.","1790730281",0,1,0,0,0,0,0,0,0,0,"7676 NEW HAMPSHIRE AVE STE 220A",null,"TAKOMA PARK","MD","20912-7514","MONTGOMERY","8665 GEORGIA AVE",null,"SILVER SPRING","MD","20910-3405","MONTGOMERY","SONYA BRUTON","CEO","240-839-5107",null,"Kathleen.Knolhoff@cciweb.org","www.cciweb.org",null,null,null,null,"Sheldon.Kronzek@cciweb.org"]
[null,"MD_50279041_ECP","TEEN AND YOUNG ADULT (TAYA) HEALTH CONNECTION","COMMUNITY CLINIC, INC.","1790730281",0,1,0,1,0,0,0,0,0,0,"7676 NEW HAMPSHIRE AVE STE 220A",null,"TAKOMA PARK","MD","20912-7514","MONTGOMERY","8665 GEORGIA AVE",null,"SILVER SPRING","MD","20910-3405","MONTGOMERY","SONYA BRUTON","CEO","240-839-5107",null,"Kathleen.Knolhoff@cciweb.org","www.cciweb.org",null,null,null,null,"Sheldon.Kronzek@cciweb.org"]
[null,"MD_26209605_ECP","THE MATERNAL AND CHILD HEALTH CENTER AT LAUREL","PRINCE GEORGE'S COUNTY HEALTH DEPARTMENT","1083945125",0,0,1,1,0,0,0,1,0,0,"3003 HOSPITAL DRIVE - GROUND FLOOR",null,"CHEVERLY","MD","20785","PRINCE GEORGES","1701 MCCORMICK DR",null,"LARGO","MD","20774-5329","PRINCE GEORGES","TAMALA BUTLER","CREDENTIALING SPECIALIST","301-883-7822",null,"djyoung@co.pg.md.us","https://www.princegeorgescountymd.gov/departments-offices/health/family-health-services/maternal-and-child-health-center-laurel",null,null,null,null,"MGiles@co.pg.md.us"]
[null,"MD_89958607_ECP","TOTAL HEALTH CARE, INC","TOTAL HEALTH CARE INC","1841496304",0,1,0,0,0,0,0,0,0,1,"1501 DIVISION ST",null,"BALTIMORE","MD","21217-3121","BALTIMORE CITY","1501 DIVISION ST",null,"BALTIMORE","MD","21217-3121",null,"KEVIN BELLAMY","CEO","410-728-4090"]
[null,"MD_74879818_ECP","UNITY HEALTH CARE INC","UNITY HEALTH CARE, INC.","1093894172",0,1,0,0,0,0,0,0,0,1,"3020 14TH ST NW",null,"WASHINGTON","DC","20009-6865","OUT OF STATE","1100 NEW JERSEY AVE SE STE 500",null,"WASHINGTON","DC","20003-3326",null,"JESSICA BOYD","PRESIDENT/CEO","202-715-6562"]
[null,"MD_14724977_ECP","VILLAGE DENTAL CENTER","WICOMICO COUNTY HEALTH DEPARTMENT","1508946047",0,0,0,0,0,0,0,0,1,1,"705 N SALISBURY BLVD",null,"SALISBURY","MD","21801-4120","WICOMICO","108 E MAIN ST",null,"SALISBURY","MD","21801-4921",null,"MATTHEW MCCONAUGHEY","HEALTH OFFICER","410-543-6930"]
[null,"MD_15752869_ECP","WALNUT STREET COMMUNITY HEALTH CENTER, INC DBA FAMILY HEALTHCARE OF HAGERSTOWN","WALNUT STREET COMMUNITY HEALTH CENTER","1104135268",0,1,0,0,0,0,0,0,0,1,"201 S CLEVELAND AVE",null,"HAGERSTOWN","MD","21740-5745","WASHINGTON","201 S CLEVELAND AVE",null,"HAGERSTOWN","MD","21740-5745",null,"ANGELA MUNSON","OFFICE MANAGER","301-745-3777"]
[null,"MD_45718131_ECP","WALNUT STREET COMMUNITY HEALTH CENTER, INC DBA FAMILY HEALTHCARE OF HAGERSTOWN","WALNUT STREET COMMUNITY HEALTH CENTER INC","1487930913",0,1,0,0,0,0,0,0,0,1,"201 S CLEVELAND AVE",null,"HAGERSTOWN","MD","21740-5745","WASHINGTON","201 S CLEVELAND AVE",null,"HAGERSTOWN","MD","21740-5745",null,"ANGELS MUNSON","OFFICE MANAGER","301-745-3777"]
[null,"MD_64865210_ECP","WALNUT STREET COMMUNITY HEALTH CENTER, INC DBA FAMILY HEALTHCARE OF HAGERSTOWN","WALNUT STREET COMMUNITY HEALTH CENTER","1982804977",0,1,0,0,0,0,0,0,0,1,"201 S CLEVELAND AVE",null,"HAGERSTOWN","MD","21740-5745","WASHINGTON","201 S CLEVELAND AVE",null,"HAGERSTOWN","MD","21740-5745",null,"ANGELA MUNSON","OFFICE MANAGER","301-745-3777"]
[null,"MD_26269903_ECP","WALNUT STREET COMMUNITY HEALTH CENTER, INC.","WALNUT STREET COMMUNITY HEALTH CENTER INC.","1194276832",0,1,0,0,0,0,0,0,0,1,"201 S CLEVELAND AVE",null,"HAGERSTOWN","MD","21740-5745","WASHINGTON","201 SOUTH CLEVELAND AVE.",null,"HAGERSTOWN","MD","21740",null,"DAVID BECKER","CFO","301-745-3777"]
[null,"MD_75919021_ECP","WEST CECIL HEALTH CENTER INC","WEST CECIL HEALTH CENTER INC.","1366625089",0,1,0,0,0,0,0,0,0,0,"49 ROCK SPRINGS RD",null,"CONOWINGO","MD","21918-1352","CECIL","PO BOX 99",null,"CONOWINGO","MD","21918-0099","CECIL","JOHN NESS","PRESIDENT & CEO","410-378-9696",null,"atebin@westcecilhealth.org","http://www.westcecilhealth.org",null,null,null,"1115","jness@westcecilhealth.org"]
[null,"MD_16642440_ECP","WEST CECIL HEALTH CENTER INC","WEST CECIL HEALTH CENTER INC.","1366625089",0,1,0,0,0,0,0,0,0,1,"49 ROCK SPRINGS RD",null,"CONOWINGO","MD","21918-1352","CECIL","PO BOX 99",null,"CONOWINGO","MD","21918-0099",null,"JOHN NESS","PRESIDENT & CEO","410-378-9696"]
[null,"MD_53978386_ECP","WHITMAN-WALKER CLINIC, INC.","WHITMAN-WALKER CLINIC, INC","1184616617",0,1,0,0,0,0,0,0,0,1,"1525 14TH ST NW",null,"WASHINGTON","DC","20005-3706","OUT OF STATE","1377 R ST NW",null,"WASHINGTON","DC","20009-6293",null,"FELICIA DAVIS","CREDENTIALING","202-797-4428"]
[null,"MD_55672091_ECP","WICOMICO COUNTY HEALTH DEPARTMENT","WICOMICO COUNTY HEALTH DEPARTMENT","1013286111",0,0,0,0,0,0,0,0,1,1,"300 W CARROLL ST",null,"SALISBURY","MD","21801-5305","WICOMICO","108 E MAIN ST",null,"SALISBURY","MD","21801-4921",null,"MATTHEW MCCONAUGHEY","HEALTH OFFICER","410-543-6930"]
[null,"MD_50124135_ECP","WICOMICO COUNTY HEALTH DEPARTMENT COMMUNITY HEALTH SERVICES","WICOMICO COUNTY HEALTH DEPARTMENT","1013286111",0,0,0,1,0,1,0,1,0,0,"300 W CARROLL ST",null,"SALISBURY","MD","21801-5305","WICOMICO","108 E MAIN ST",null,"SALISBURY","MD","21801-4921","WICOMICO","MATTHEW MCCONAUGHEY","HEALTH OFFICER","410-543-6930",null,"brandy.wink@maryland.gov","wicomicohealth.org",null,null,null,"14591","lori.brewster@maryland.gov"]
[null,"MD_57345395_ECP","WORCESTER COUNTY HEALTH DEPARTMENT","WORCESTER COUNTY HEALTH DEPARTMENT","1003868076",0,0,1,1,0,1,1,0,0,0,"6040 PUBLIC LANDING ROAD",null,"SNOW HILL","MD","21863","WORCESTER","P.O. BOX 249",null,"SNOW HILL","MD","21863-0249","WORCESTER","HEATHER BARTON","DIRECTOR OF ADMIN","410-632-1100",null,"loren.sallah@maryland.gov","worcesterhealth.org",null,null,null,"1255","heather.barton@maryland.gov"]
[null,"MD_98958364_ECP","WORCESTER COUNTY HEALTH DEPARTMENT","WORCESTER COUNTY HEALTH DEPARTMENT","1003868076",0,0,0,1,0,1,1,1,0,0,"6040 PUBLIC LANDING ROAD",null,"SNOW HILL","MD","21863","WORCESTER","P.O. BOX 249",null,"SNOW HILL","MD","21863-0249","WORCESTER","HEATHER BARTON","DIRECTOR OF ADMIN","410-632-1100",null,"loren.sallah@maryland.gov","worcesterhealth.org",null,null,null,"1255","heather.barton@maryland.gov"]

{"sheet":"Contracted ECP List","index":2,"n_rows":2,"n_cols":26,"rows_kept":2,"cut":false,"hidden":false,"merged":[]}
["Action Keyboard Shortcut:\nSelect All: CTRL + SHIFT + A\nClear All: CTRL + SHIFT + C\nRemove Selected ECPs and Blank Rows: CTRL + SHIFT + R",null,null,null,null,null,null,null,null,null,null,null,null,null,null,null,null,null,null,null,null,null,null,null,null,{"$f":"MAX(COUNTA(A:A)-1,COUNTA(B:B),COUNTA(C:C),COUNTA(G:G),COUNTA(I:I),COUNTA(J:J),COUNTA(K:K),COUNTA(L:L),COUNTA(M:M),COUNTA(P:P),COUNTA(Q:Q),COUNTA(R:R),COUNTA(S:S),COUNTA(T:T),COUNTA(U:U),COUNTA(V:V),COUNTA(W:W))-1","v":0}]
["REMOVE","MHBE Number","National Provider Identifier (NPI)*","Name of Provider*","Suffix of Provider","Physician/Non Physician*","Specialty Type (area of medicine)*","Provider Entity Name*","ECP Type: Hospital","ECP Type: FQHC","ECP Type: Ryan White","ECP Type: Family Planning","ECP Type: Indian Provider","ECP Type: Mental Health Facilities","ECP Type: Substance Use Disorder Treatment Centers","ECP Type: Other","ECP Type: 2016 Expansion Providers","MDH List","Street Address*","Street Address 2","City*"," State*","County*","Zip*","Network IDs*"]

{"sheet":"Uncontracted ECP List","index":3,"n_rows":1430,"n_cols":7,"rows_kept":1430,"cut":false,"hidden":false,"merged":[[0,4,0,5]]}
["If you selected \"Yes\" to the question \"Are you an Alternate ECP Standard Issuer?\",  please use this tab to list the ECPs that you were unable to contract with by their MHBE number, NPI, Provider Name, and how the ECP does not meet the credentialing standards. Select the MHBE Number from the dropdown list and the NPI and Provider Name will autopopulate to their columns. If you need to remove an ECP, double-click in the \"Remove ECP?\" column and click the \"Remove Selected ECPs\" button. Click the \"Clear All\" button or double-click again to undo \"Remove ECP?\" selection.",null,null,null,"Uncontracted ECP List",null,{"$f":"MAX(COUNTA(B:B))-1","v":0}]
["Remove ECP?","MHBE Number*","National Provider Identification (NPI)*","County","Provider Name*","Reason unable to contract*","Additional Information"]
[null,null,{"$f":"IFERROR((VLOOKUP(B3,'Select ECPs'!$B$2:$E$77,4,0)),\"\")","v":""},{"$f":"IFERROR((VLOOKUP(B3,'Select ECPs'!$B$2:$U$77,20,0)),\"\")","v":""},{"$f":"IFERROR((VLOOKUP(B3,'Select ECPs'!$B$2:$E$77,2,0)),\"\")","v":""}]
[null,null,{"$f":"IFERROR((VLOOKUP(B4,'Select ECPs'!$B$2:$E$77,4,0)),\"\")","v":""},{"$f":"IFERROR((VLOOKUP(B4,'Select ECPs'!$B$2:$U$77,20,0)),\"\")","v":""},{"$f":"IFERROR((VLOOKUP(B4,'Select ECPs'!$B$2:$E$77,2,0)),\"\")","v":""}]
[null,null,{"$f":"IFERROR((VLOOKUP(B5,'Select ECPs'!$B$2:$E$77,4,0)),\"\")","v":""},{"$f":"IFERROR((VLOOKUP(B5,'Select ECPs'!$B$2:$U$77,20,0)),\"\")","v":""},{"$f":"IFERROR((VLOOKUP(B5,'Select ECPs'!$B$2:$E$77,2,0)),\"\")","v":""}]
[null,null,{"$f":"IFERROR((VLOOKUP(B6,'Select ECPs'!$B$2:$E$77,4,0)),\"\")","v":""},{"$f":"IFERROR((VLOOKUP(B6,'Select ECPs'!$B$2:$U$77,20,0)),\"\")","v":""},{"$f":"IFERROR((VLOOKUP(B6,'Select ECPs'!$B$2:$E$77,2,0)),\"\")","v":""}]
[null,null,{"$f":"IFERROR((VLOOKUP(B7,'Select ECPs'!$B$2:$E$77,4,0)),\"\")","v":""},{"$f":"IFERROR((VLOOKUP(B7,'Select ECPs'!$B$2:$U$77,20,0)),\"\")","v":""},{"$f":"IFERROR((VLOOKUP(B7,'Select ECPs'!$B$2:$E$77,2,0)),\"\")","v":""}]
[null,null,{"$f":"IFERROR((VLOOKUP(B8,'Select ECPs'!$B$2:$E$77,4,0)),\"\")","v":""},{"$f":"IFERROR((VLOOKUP(B8,'Select ECPs'!$B$2:$U$77,20,0)),\"\")","v":""},{"$f":"IFERROR((VLOOKUP(B8,'Select ECPs'!$B$2:$E$77,2,0)),\"\")","v":""}]
[null,null,{"$f":"IFERROR((VLOOKUP(B9,'Select ECPs'!$B$2:$E$77,4,0)),\"\")","v":""},{"$f":"IFERROR((VLOOKUP(B9,'Select ECPs'!$B$2:$U$77,20,0)),\"\")","v":""},{"$f":"IFERROR((VLOOKUP(B9,'Select ECPs'!$B$2:$E$77,2,0)),\"\")","v":""}]
[null,null,{"$f":"IFERROR((VLOOKUP(B10,'Select ECPs'!$B$2:$E$77,4,0)),\"\")","v":""},{"$f":"IFERROR((VLOOKUP(B10,'Select ECPs'!$B$2:$U$77,20,0)),\"\")","v":""},{"$f":"IFERROR((VLOOKUP(B10,'Select ECPs'!$B$2:$E$77,2,0)),\"\")","v":""}]
[null,null,{"$f":"IFERROR((VLOOKUP(B11,'Select ECPs'!$B$2:$E$77,4,0)),\"\")","v":""},{"$f":"IFERROR((VLOOKUP(B11,'Select ECPs'!$B$2:$U$77,20,0)),\"\")","v":""},{"$f":"IFERROR((VLOOKUP(B11,'Select ECPs'!$B$2:$E$77,2,0)),\"\")","v":""}]
[null,null,{"$f":"IFERROR((VLOOKUP(B12,'Select ECPs'!$B$2:$E$77,4,0)),\"\")","v":""},{"$f":"IFERROR((VLOOKUP(B12,'Select ECPs'!$B$2:$U$77,20,0)),\"\")","v":""},{"$f":"IFERROR((VLOOKUP(B12,'Select ECPs'!$B$2:$E$77,2,0)),\"\")","v":""}]
[null,null,{"$f":"IFERROR((VLOOKUP(B13,'Select ECPs'!$B$2:$E$77,4,0)),\"\")","v":""},{"$f":"IFERROR((VLOOKUP(B13,'Select ECPs'!$B$2:$U$77,20,0)),\"\")","v":""},{"$f":"IFERROR((VLOOKUP(B13,'Select ECPs'!$B$2:$E$77,2,0)),\"\")","v":""}]
[null,null,{"$f":"IFERROR((VLOOKUP(B14,'Select ECPs'!$B$2:$E$77,4,0)),\"\")","v":""},{"$f":"IFERROR((VLOOKUP(B14,'Select ECPs'!$B$2:$U$77,20,0)),\"\")","v":""},{"$f":"IFERROR((VLOOKUP(B14,'Select ECPs'!$B$2:$E$77,2,0)),\"\")","v":""}]
[null,null,{"$f":"IFERROR((VLOOKUP(B15,'Select ECPs'!$B$2:$E$77,4,0)),\"\")","v":""},{"$f":"IFERROR((VLOOKUP(B15,'Select ECPs'!$B$2:$U$77,20,0)),\"\")","v":""},{"$f":"IFERROR((VLOOKUP(B15,'Select ECPs'!$B$2:$E$77,2,0)),\"\")","v":""}]
[null,null,{"$f":"IFERROR((VLOOKUP(B16,'Select ECPs'!$B$2:$E$77,4,0)),\"\")","v":""},{"$f":"IFERROR((VLOOKUP(B16,'Select ECPs'!$B$2:$U$77,20,0)),\"\")","v":""},{"$f":"IFERROR((VLOOKUP(B16,'Select ECPs'!$B$2:$E$77,2,0)),\"\")","v":""}]
[null,null,{"$f":"IFERROR((VLOOKUP(B17,'Select ECPs'!$B$2:$E$77,4,0)),\"\")","v":""},{"$f":"IFERROR((VLOOKUP(B17,'Select ECPs'!$B$2:$U$77,20,0)),\"\")","v":""},{"$f":"IFERROR((VLOOKUP(B17,'Select ECPs'!$B$2:$E$77,2,0)),\"\")","v":""}]
[null,null,{"$f":"IFERROR((VLOOKUP(B18,'Select ECPs'!$B$2:$E$77,4,0)),\"\")","v":""},{"$f":"IFERROR((VLOOKUP(B18,'Select ECPs'!$B$2:$U$77,20,0)),\"\")","v":""},{"$f":"IFERROR((VLOOKUP(B18,'Select ECPs'!$B$2:$E$77,2,0)),\"\")","v":""}]
[null,null,{"$f":"IFERROR((VLOOKUP(B19,'Select ECPs'!$B$2:$E$77,4,0)),\"\")","v":""},{"$f":"IFERROR((VLOOKUP(B19,'Select ECPs'!$B$2:$U$77,20,0)),\"\")","v":""},{"$f":"IFERROR((VLOOKUP(B19,'Select ECPs'!$B$2:$E$77,2,0)),\"\")","v":""}]
[null,null,{"$f":"IFERROR((VLOOKUP(B20,'Select ECPs'!$B$2:$E$77,4,0)),\"\")","v":""},{"$f":"IFERROR((VLOOKUP(B20,'Select ECPs'!$B$2:$U$77,20,0)),\"\")","v":""},{"$f":"IFERROR((VLOOKUP(B20,'Select ECPs'!$B$2:$E$77,2,0)),\"\")","v":""}]
[null,null,{"$f":"IFERROR((VLOOKUP(B21,'Select ECPs'!$B$2:$E$77,4,0)),\"\")","v":""},{"$f":"IFERROR((VLOOKUP(B21,'Select ECPs'!$B$2:$U$77,20,0)),\"\")","v":""},{"$f":"IFERROR((VLOOKUP(B21,'Select ECPs'!$B$2:$E$77,2,0)),\"\")","v":""}]
[null,null,{"$f":"IFERROR((VLOOKUP(B22,'Select ECPs'!$B$2:$E$77,4,0)),\"\")","v":""},{"$f":"IFERROR((VLOOKUP(B22,'Select ECPs'!$B$2:$U$77,20,0)),\"\")","v":""},{"$f":"IFERROR((VLOOKUP(B22,'Select ECPs'!$B$2:$E$77,2,0)),\"\")","v":""}]
[null,null,{"$f":"IFERROR((VLOOKUP(B23,'Select ECPs'!$B$2:$E$77,4,0)),\"\")","v":""},{"$f":"IFERROR((VLOOKUP(B23,'Select ECPs'!$B$2:$U$77,20,0)),\"\")","v":""},{"$f":"IFERROR((VLOOKUP(B23,'Select ECPs'!$B$2:$E$77,2,0)),\"\")","v":""}]
[null,null,{"$f":"IFERROR((VLOOKUP(B24,'Select ECPs'!$B$2:$E$77,4,0)),\"\")","v":""},{"$f":"IFERROR((VLOOKUP(B24,'Select ECPs'!$B$2:$U$77,20,0)),\"\")","v":""},{"$f":"IFERROR((VLOOKUP(B24,'Select ECPs'!$B$2:$E$77,2,0)),\"\")","v":""}]
[null,null,{"$f":"IFERROR((VLOOKUP(B25,'Select ECPs'!$B$2:$E$77,4,0)),\"\")","v":""},{"$f":"IFERROR((VLOOKUP(B25,'Select ECPs'!$B$2:$U$77,20,0)),\"\")","v":""},{"$f":"IFERROR((VLOOKUP(B25,'Select ECPs'!$B$2:$E$77,2,0)),\"\")","v":""}]
[null,null,{"$f":"IFERROR((VLOOKUP(B26,'Select ECPs'!$B$2:$E$77,4,0)),\"\")","v":""},{"$f":"IFERROR((VLOOKUP(B26,'Select ECPs'!$B$2:$U$77,20,0)),\"\")","v":""},{"$f":"IFERROR((VLOOKUP(B26,'Select ECPs'!$B$2:$E$77,2,0)),\"\")","v":""}]
[null,null,{"$f":"IFERROR((VLOOKUP(B27,'Select ECPs'!$B$2:$E$77,4,0)),\"\")","v":""},{"$f":"IFERROR((VLOOKUP(B27,'Select ECPs'!$B$2:$U$77,20,0)),\"\")","v":""},{"$f":"IFERROR((VLOOKUP(B27,'Select ECPs'!$B$2:$E$77,2,0)),\"\")","v":""}]
[null,null,{"$f":"IFERROR((VLOOKUP(B28,'Select ECPs'!$B$2:$E$77,4,0)),\"\")","v":""},{"$f":"IFERROR((VLOOKUP(B28,'Select ECPs'!$B$2:$U$77,20,0)),\"\")","v":""},{"$f":"IFERROR((VLOOKUP(B28,'Select ECPs'!$B$2:$E$77,2,0)),\"\")","v":""}]
[null,null,{"$f":"IFERROR((VLOOKUP(B29,'Select ECPs'!$B$2:$E$77,4,0)),\"\")","v":""},{"$f":"IFERROR((VLOOKUP(B29,'Select ECPs'!$B$2:$U$77,20,0)),\"\")","v":""},{"$f":"IFERROR((VLOOKUP(B29,'Select ECPs'!$B$2:$E$77,2,0)),\"\")","v":""}]
[null,null,{"$f":"IFERROR((VLOOKUP(B30,'Select ECPs'!$B$2:$E$77,4,0)),\"\")","v":""},{"$f":"IFERROR((VLOOKUP(B30,'Select ECPs'!$B$2:$U$77,20,0)),\"\")","v":""},{"$f":"IFERROR((VLOOKUP(B30,'Select ECPs'!$B$2:$E$77,2,0)),\"\")","v":""}]
[null,null,{"$f":"IFERROR((VLOOKUP(B31,'Select ECPs'!$B$2:$E$77,4,0)),\"\")","v":""},{"$f":"IFERROR((VLOOKUP(B31,'Select ECPs'!$B$2:$U$77,20,0)),\"\")","v":""},{"$f":"IFERROR((VLOOKUP(B31,'Select ECPs'!$B$2:$E$77,2,0)),\"\")","v":""}]
[null,null,{"$f":"IFERROR((VLOOKUP(B32,'Select ECPs'!$B$2:$E$77,4,0)),\"\")","v":""},{"$f":"IFERROR((VLOOKUP(B32,'Select ECPs'!$B$2:$U$77,20,0)),\"\")","v":""},{"$f":"IFERROR((VLOOKUP(B32,'Select ECPs'!$B$2:$E$77,2,0)),\"\")","v":""}]
[null,null,{"$f":"IFERROR((VLOOKUP(B33,'Select ECPs'!$B$2:$E$77,4,0)),\"\")","v":""},{"$f":"IFERROR((VLOOKUP(B33,'Select ECPs'!$B$2:$U$77,20,0)),\"\")","v":""},{"$f":"IFERROR((VLOOKUP(B33,'Select ECPs'!$B$2:$E$77,2,0)),\"\")","v":""}]
[null,null,{"$f":"IFERROR((VLOOKUP(B34,'Select ECPs'!$B$2:$E$77,4,0)),\"\")","v":""},{"$f":"IFERROR((VLOOKUP(B34,'Select ECPs'!$B$2:$U$77,20,0)),\"\")","v":""},{"$f":"IFERROR((VLOOKUP(B34,'Select ECPs'!$B$2:$E$77,2,0)),\"\")","v":""}]
[null,null,{"$f":"IFERROR((VLOOKUP(B35,'Select ECPs'!$B$2:$E$77,4,0)),\"\")","v":""},{"$f":"IFERROR((VLOOKUP(B35,'Select ECPs'!$B$2:$U$77,20,0)),\"\")","v":""},{"$f":"IFERROR((VLOOKUP(B35,'Select ECPs'!$B$2:$E$77,2,0)),\"\")","v":""}]
[null,null,{"$f":"IFERROR((VLOOKUP(B36,'Select ECPs'!$B$2:$E$77,4,0)),\"\")","v":""},{"$f":"IFERROR((VLOOKUP(B36,'Select ECPs'!$B$2:$U$77,20,0)),\"\")","v":""},{"$f":"IFERROR((VLOOKUP(B36,'Select ECPs'!$B$2:$E$77,2,0)),\"\")","v":""}]
[null,null,{"$f":"IFERROR((VLOOKUP(B37,'Select ECPs'!$B$2:$E$77,4,0)),\"\")","v":""},{"$f":"IFERROR((VLOOKUP(B37,'Select ECPs'!$B$2:$U$77,20,0)),\"\")","v":""},{"$f":"IFERROR((VLOOKUP(B37,'Select ECPs'!$B$2:$E$77,2,0)),\"\")","v":""}]
[null,null,{"$f":"IFERROR((VLOOKUP(B38,'Select ECPs'!$B$2:$E$77,4,0)),\"\")","v":""},{"$f":"IFERROR((VLOOKUP(B38,'Select ECPs'!$B$2:$U$77,20,0)),\"\")","v":""},{"$f":"IFERROR((VLOOKUP(B38,'Select ECPs'!$B$2:$E$77,2,0)),\"\")","v":""}]
[null,null,{"$f":"IFERROR((VLOOKUP(B39,'Select ECPs'!$B$2:$E$77,4,0)),\"\")","v":""},{"$f":"IFERROR((VLOOKUP(B39,'Select ECPs'!$B$2:$U$77,20,0)),\"\")","v":""},{"$f":"IFERROR((VLOOKUP(B39,'Select ECPs'!$B$2:$E$77,2,0)),\"\")","v":""}]
[null,null,{"$f":"IFERROR((VLOOKUP(B40,'Select ECPs'!$B$2:$E$77,4,0)),\"\")","v":""},{"$f":"IFERROR((VLOOKUP(B40,'Select ECPs'!$B$2:$U$77,20,0)),\"\")","v":""},{"$f":"IFERROR((VLOOKUP(B40,'Select ECPs'!$B$2:$E$77,2,0)),\"\")","v":""}]
[null,null,{"$f":"IFERROR((VLOOKUP(B41,'Select ECPs'!$B$2:$E$77,4,0)),\"\")","v":""},{"$f":"IFERROR((VLOOKUP(B41,'Select ECPs'!$B$2:$U$77,20,0)),\"\")","v":""},{"$f":"IFERROR((VLOOKUP(B41,'Select ECPs'!$B$2:$E$77,2,0)),\"\")","v":""}]
[null,null,{"$f":"IFERROR((VLOOKUP(B42,'Select ECPs'!$B$2:$E$77,4,0)),\"\")","v":""},{"$f":"IFERROR((VLOOKUP(B42,'Select ECPs'!$B$2:$U$77,20,0)),\"\")","v":""},{"$f":"IFERROR((VLOOKUP(B42,'Select ECPs'!$B$2:$E$77,2,0)),\"\")","v":""}]
[null,null,{"$f":"IFERROR((VLOOKUP(B43,'Select ECPs'!$B$2:$E$77,4,0)),\"\")","v":""},{"$f":"IFERROR((VLOOKUP(B43,'Select ECPs'!$B$2:$U$77,20,0)),\"\")","v":""},{"$f":"IFERROR((VLOOKUP(B43,'Select ECPs'!$B$2:$E$77,2,0)),\"\")","v":""}]
[null,null,{"$f":"IFERROR((VLOOKUP(B44,'Select ECPs'!$B$2:$E$77,4,0)),\"\")","v":""},{"$f":"IFERROR((VLOOKUP(B44,'Select ECPs'!$B$2:$U$77,20,0)),\"\")","v":""},{"$f":"IFERROR((VLOOKUP(B44,'Select ECPs'!$B$2:$E$77,2,0)),\"\")","v":""}]
[null,null,{"$f":"IFERROR((VLOOKUP(B45,'Select ECPs'!$B$2:$E$77,4,0)),\"\")","v":""},{"$f":"IFERROR((VLOOKUP(B45,'Select ECPs'!$B$2:$U$77,20,0)),\"\")","v":""},{"$f":"IFERROR((VLOOKUP(B45,'Select ECPs'!$B$2:$E$77,2,0)),\"\")","v":""}]
[null,null,{"$f":"IFERROR((VLOOKUP(B46,'Select ECPs'!$B$2:$E$77,4,0)),\"\")","v":""},{"$f":"IFERROR((VLOOKUP(B46,'Select ECPs'!$B$2:$U$77,20,0)),\"\")","v":""},{"$f":"IFERROR((VLOOKUP(B46,'Select ECPs'!$B$2:$E$77,2,0)),\"\")","v":""}]
[null,null,{"$f":"IFERROR((VLOOKUP(B47,'Select ECPs'!$B$2:$E$77,4,0)),\"\")","v":""},{"$f":"IFERROR((VLOOKUP(B47,'Select ECPs'!$B$2:$U$77,20,0)),\"\")","v":""},{"$f":"IFERROR((VLOOKUP(B47,'Select ECPs'!$B$2:$E$77,2,0)),\"\")","v":""}]
[null,null,{"$f":"IFERROR((VLOOKUP(B48,'Select ECPs'!$B$2:$E$77,4,0)),\"\")","v":""},{"$f":"IFERROR((VLOOKUP(B48,'Select ECPs'!$B$2:$U$77,20,0)),\"\")","v":""},{"$f":"IFERROR((VLOOKUP(B48,'Select ECPs'!$B$2:$E$77,2,0)),\"\")","v":""}]
[null,null,{"$f":"IFERROR((VLOOKUP(B49,'Select ECPs'!$B$2:$E$77,4,0)),\"\")","v":""},{"$f":"IFERROR((VLOOKUP(B49,'Select ECPs'!$B$2:$U$77,20,0)),\"\")","v":""},{"$f":"IFERROR((VLOOKUP(B49,'Select ECPs'!$B$2:$E$77,2,0)),\"\")","v":""}]
[null,null,{"$f":"IFERROR((VLOOKUP(B50,'Select ECPs'!$B$2:$E$77,4,0)),\"\")","v":""},{"$f":"IFERROR((VLOOKUP(B50,'Select ECPs'!$B$2:$U$77,20,0)),\"\")","v":""},{"$f":"IFERROR((VLOOKUP(B50,'Select ECPs'!$B$2:$E$77,2,0)),\"\")","v":""}]
[null,null,{"$f":"IFERROR((VLOOKUP(B51,'Select ECPs'!$B$2:$E$77,4,0)),\"\")","v":""},{"$f":"IFERROR((VLOOKUP(B51,'Select ECPs'!$B$2:$U$77,20,0)),\"\")","v":""},{"$f":"IFERROR((VLOOKUP(B51,'Select ECPs'!$B$2:$E$77,2,0)),\"\")","v":""}]
[null,null,{"$f":"IFERROR((VLOOKUP(B52,'Select ECPs'!$B$2:$E$77,4,0)),\"\")","v":""},{"$f":"IFERROR((VLOOKUP(B52,'Select ECPs'!$B$2:$U$77,20,0)),\"\")","v":""},{"$f":"IFERROR((VLOOKUP(B52,'Select ECPs'!$B$2:$E$77,2,0)),\"\")","v":""}]
[null,null,{"$f":"IFERROR((VLOOKUP(B53,'Select ECPs'!$B$2:$E$77,4,0)),\"\")","v":""},{"$f":"IFERROR((VLOOKUP(B53,'Select ECPs'!$B$2:$U$77,20,0)),\"\")","v":""},{"$f":"IFERROR((VLOOKUP(B53,'Select ECPs'!$B$2:$E$77,2,0)),\"\")","v":""}]
[null,null,{"$f":"IFERROR((VLOOKUP(B54,'Select ECPs'!$B$2:$E$77,4,0)),\"\")","v":""},{"$f":"IFERROR((VLOOKUP(B54,'Select ECPs'!$B$2:$U$77,20,0)),\"\")","v":""},{"$f":"IFERROR((VLOOKUP(B54,'Select ECPs'!$B$2:$E$77,2,0)),\"\")","v":""}]
[null,null,{"$f":"IFERROR((VLOOKUP(B55,'Select ECPs'!$B$2:$E$77,4,0)),\"\")","v":""},{"$f":"IFERROR((VLOOKUP(B55,'Select ECPs'!$B$2:$U$77,20,0)),\"\")","v":""},{"$f":"IFERROR((VLOOKUP(B55,'Select ECPs'!$B$2:$E$77,2,0)),\"\")","v":""}]
[null,null,{"$f":"IFERROR((VLOOKUP(B56,'Select ECPs'!$B$2:$E$77,4,0)),\"\")","v":""},{"$f":"IFERROR((VLOOKUP(B56,'Select ECPs'!$B$2:$U$77,20,0)),\"\")","v":""},{"$f":"IFERROR((VLOOKUP(B56,'Select ECPs'!$B$2:$E$77,2,0)),\"\")","v":""}]
[null,null,{"$f":"IFERROR((VLOOKUP(B57,'Select ECPs'!$B$2:$E$77,4,0)),\"\")","v":""},{"$f":"IFERROR((VLOOKUP(B57,'Select ECPs'!$B$2:$U$77,20,0)),\"\")","v":""},{"$f":"IFERROR((VLOOKUP(B57,'Select ECPs'!$B$2:$E$77,2,0)),\"\")","v":""}]
[null,null,{"$f":"IFERROR((VLOOKUP(B58,'Select ECPs'!$B$2:$E$77,4,0)),\"\")","v":""},{"$f":"IFERROR((VLOOKUP(B58,'Select ECPs'!$B$2:$U$77,20,0)),\"\")","v":""},{"$f":"IFERROR((VLOOKUP(B58,'Select ECPs'!$B$2:$E$77,2,0)),\"\")","v":""}]
[null,null,{"$f":"IFERROR((VLOOKUP(B59,'Select ECPs'!$B$2:$E$77,4,0)),\"\")","v":""},{"$f":"IFERROR((VLOOKUP(B59,'Select ECPs'!$B$2:$U$77,20,0)),\"\")","v":""},{"$f":"IFERROR((VLOOKUP(B59,'Select ECPs'!$B$2:$E$77,2,0)),\"\")","v":""}]
[null,null,{"$f":"IFERROR((VLOOKUP(B60,'Select ECPs'!$B$2:$E$77,4,0)),\"\")","v":""},{"$f":"IFERROR((VLOOKUP(B60,'Select ECPs'!$B$2:$U$77,20,0)),\"\")","v":""},{"$f":"IFERROR((VLOOKUP(B60,'Select ECPs'!$B$2:$E$77,2,0)),\"\")","v":""}]
[null,null,{"$f":"IFERROR((VLOOKUP(B61,'Select ECPs'!$B$2:$E$77,4,0)),\"\")","v":""},{"$f":"IFERROR((VLOOKUP(B61,'Select ECPs'!$B$2:$U$77,20,0)),\"\")","v":""},{"$f":"IFERROR((VLOOKUP(B61,'Select ECPs'!$B$2:$E$77,2,0)),\"\")","v":""}]
[null,null,{"$f":"IFERROR((VLOOKUP(B62,'Select ECPs'!$B$2:$E$77,4,0)),\"\")","v":""},{"$f":"IFERROR((VLOOKUP(B62,'Select ECPs'!$B$2:$U$77,20,0)),\"\")","v":""},{"$f":"IFERROR((VLOOKUP(B62,'Select ECPs'!$B$2:$E$77,2,0)),\"\")","v":""}]
[null,null,{"$f":"IFERROR((VLOOKUP(B63,'Select ECPs'!$B$2:$E$77,4,0)),\"\")","v":""},{"$f":"IFERROR((VLOOKUP(B63,'Select ECPs'!$B$2:$U$77,20,0)),\"\")","v":""},{"$f":"IFERROR((VLOOKUP(B63,'Select ECPs'!$B$2:$E$77,2,0)),\"\")","v":""}]
[null,null,{"$f":"IFERROR((VLOOKUP(B64,'Select ECPs'!$B$2:$E$77,4,0)),\"\")","v":""},{"$f":"IFERROR((VLOOKUP(B64,'Select ECPs'!$B$2:$U$77,20,0)),\"\")","v":""},{"$f":"IFERROR((VLOOKUP(B64,'Select ECPs'!$B$2:$E$77,2,0)),\"\")","v":""}]
[null,null,{"$f":"IFERROR((VLOOKUP(B65,'Select ECPs'!$B$2:$E$77,4,0)),\"\")","v":""},{"$f":"IFERROR((VLOOKUP(B65,'Select ECPs'!$B$2:$U$77,20,0)),\"\")","v":""},{"$f":"IFERROR((VLOOKUP(B65,'Select ECPs'!$B$2:$E$77,2,0)),\"\")","v":""}]
[null,null,{"$f":"IFERROR((VLOOKUP(B66,'Select ECPs'!$B$2:$E$77,4,0)),\"\")","v":""},{"$f":"IFERROR((VLOOKUP(B66,'Select ECPs'!$B$2:$U$77,20,0)),\"\")","v":""},{"$f":"IFERROR((VLOOKUP(B66,'Select ECPs'!$B$2:$E$77,2,0)),\"\")","v":""}]
[null,null,{"$f":"IFERROR((VLOOKUP(B67,'Select ECPs'!$B$2:$E$77,4,0)),\"\")","v":""},{"$f":"IFERROR((VLOOKUP(B67,'Select ECPs'!$B$2:$U$77,20,0)),\"\")","v":""},{"$f":"IFERROR((VLOOKUP(B67,'Select ECPs'!$B$2:$E$77,2,0)),\"\")","v":""}]
[null,null,{"$f":"IFERROR((VLOOKUP(B68,'Select ECPs'!$B$2:$E$77,4,0)),\"\")","v":""},{"$f":"IFERROR((VLOOKUP(B68,'Select ECPs'!$B$2:$U$77,20,0)),\"\")","v":""},{"$f":"IFERROR((VLOOKUP(B68,'Select ECPs'!$B$2:$E$77,2,0)),\"\")","v":""}]
[null,null,{"$f":"IFERROR((VLOOKUP(B69,'Select ECPs'!$B$2:$E$77,4,0)),\"\")","v":""},{"$f":"IFERROR((VLOOKUP(B69,'Select ECPs'!$B$2:$U$77,20,0)),\"\")","v":""},{"$f":"IFERROR((VLOOKUP(B69,'Select ECPs'!$B$2:$E$77,2,0)),\"\")","v":""}]
[null,null,{"$f":"IFERROR((VLOOKUP(B70,'Select ECPs'!$B$2:$E$77,4,0)),\"\")","v":""},{"$f":"IFERROR((VLOOKUP(B70,'Select ECPs'!$B$2:$U$77,20,0)),\"\")","v":""},{"$f":"IFERROR((VLOOKUP(B70,'Select ECPs'!$B$2:$E$77,2,0)),\"\")","v":""}]
[null,null,{"$f":"IFERROR((VLOOKUP(B71,'Select ECPs'!$B$2:$E$77,4,0)),\"\")","v":""},{"$f":"IFERROR((VLOOKUP(B71,'Select ECPs'!$B$2:$U$77,20,0)),\"\")","v":""},{"$f":"IFERROR((VLOOKUP(B71,'Select ECPs'!$B$2:$E$77,2,0)),\"\")","v":""}]
[null,null,{"$f":"IFERROR((VLOOKUP(B72,'Select ECPs'!$B$2:$E$77,4,0)),\"\")","v":""},{"$f":"IFERROR((VLOOKUP(B72,'Select ECPs'!$B$2:$U$77,20,0)),\"\")","v":""},{"$f":"IFERROR((VLOOKUP(B72,'Select ECPs'!$B$2:$E$77,2,0)),\"\")","v":""}]
[null,null,{"$f":"IFERROR((VLOOKUP(B73,'Select ECPs'!$B$2:$E$77,4,0)),\"\")","v":""},{"$f":"IFERROR((VLOOKUP(B73,'Select ECPs'!$B$2:$U$77,20,0)),\"\")","v":""},{"$f":"IFERROR((VLOOKUP(B73,'Select ECPs'!$B$2:$E$77,2,0)),\"\")","v":""}]
[null,null,{"$f":"IFERROR((VLOOKUP(B74,'Select ECPs'!$B$2:$E$77,4,0)),\"\")","v":""},{"$f":"IFERROR((VLOOKUP(B74,'Select ECPs'!$B$2:$U$77,20,0)),\"\")","v":""},{"$f":"IFERROR((VLOOKUP(B74,'Select ECPs'!$B$2:$E$77,2,0)),\"\")","v":""}]
[null,null,{"$f":"IFERROR((VLOOKUP(B75,'Select ECPs'!$B$2:$E$77,4,0)),\"\")","v":""},{"$f":"IFERROR((VLOOKUP(B75,'Select ECPs'!$B$2:$U$77,20,0)),\"\")","v":""},{"$f":"IFERROR((VLOOKUP(B75,'Select ECPs'!$B$2:$E$77,2,0)),\"\")","v":""}]
[null,null,{"$f":"IFERROR((VLOOKUP(B76,'Select ECPs'!$B$2:$E$77,4,0)),\"\")","v":""},{"$f":"IFERROR((VLOOKUP(B76,'Select ECPs'!$B$2:$U$77,20,0)),\"\")","v":""},{"$f":"IFERROR((VLOOKUP(B76,'Select ECPs'!$B$2:$E$77,2,0)),\"\")","v":""}]
[null,null,{"$f":"IFERROR((VLOOKUP(B77,'Select ECPs'!$B$2:$E$77,4,0)),\"\")","v":""},{"$f":"IFERROR((VLOOKUP(B77,'Select ECPs'!$B$2:$U$77,20,0)),\"\")","v":""},{"$f":"IFERROR((VLOOKUP(B77,'Select ECPs'!$B$2:$E$77,2,0)),\"\")","v":""}]
[null,null,{"$f":"IFERROR((VLOOKUP(B78,'Select ECPs'!$B$2:$E$77,4,0)),\"\")","v":""},{"$f":"IFERROR((VLOOKUP(B78,'Select ECPs'!$B$2:$U$77,20,0)),\"\")","v":""},{"$f":"IFERROR((VLOOKUP(B78,'Select ECPs'!$B$2:$E$77,2,0)),\"\")","v":""}]
[null,null,{"$f":"IFERROR((VLOOKUP(B79,'Select ECPs'!$B$2:$E$77,4,0)),\"\")","v":""},{"$f":"IFERROR((VLOOKUP(B79,'Select ECPs'!$B$2:$U$77,20,0)),\"\")","v":""},{"$f":"IFERROR((VLOOKUP(B79,'Select ECPs'!$B$2:$E$77,2,0)),\"\")","v":""}]
[null,null,{"$f":"IFERROR((VLOOKUP(B80,'Select ECPs'!$B$2:$E$77,4,0)),\"\")","v":""},{"$f":"IFERROR((VLOOKUP(B80,'Select ECPs'!$B$2:$U$77,20,0)),\"\")","v":""},{"$f":"IFERROR((VLOOKUP(B80,'Select ECPs'!$B$2:$E$77,2,0)),\"\")","v":""}]
[null,null,{"$f":"IFERROR((VLOOKUP(B81,'Select ECPs'!$B$2:$E$77,4,0)),\"\")","v":""},{"$f":"IFERROR((VLOOKUP(B81,'Select ECPs'!$B$2:$U$77,20,0)),\"\")","v":""},{"$f":"IFERROR((VLOOKUP(B81,'Select ECPs'!$B$2:$E$77,2,0)),\"\")","v":""}]
[null,null,{"$f":"IFERROR((VLOOKUP(B82,'Select ECPs'!$B$2:$E$77,4,0)),\"\")","v":""},{"$f":"IFERROR((VLOOKUP(B82,'Select ECPs'!$B$2:$U$77,20,0)),\"\")","v":""},{"$f":"IFERROR((VLOOKUP(B82,'Select ECPs'!$B$2:$E$77,2,0)),\"\")","v":""}]
[null,null,{"$f":"IFERROR((VLOOKUP(B83,'Select ECPs'!$B$2:$E$77,4,0)),\"\")","v":""},{"$f":"IFERROR((VLOOKUP(B83,'Select ECPs'!$B$2:$U$77,20,0)),\"\")","v":""},{"$f":"IFERROR((VLOOKUP(B83,'Select ECPs'!$B$2:$E$77,2,0)),\"\")","v":""}]
[null,null,{"$f":"IFERROR((VLOOKUP(B84,'Select ECPs'!$B$2:$E$77,4,0)),\"\")","v":""},{"$f":"IFERROR((VLOOKUP(B84,'Select ECPs'!$B$2:$U$77,20,0)),\"\")","v":""},{"$f":"IFERROR((VLOOKUP(B84,'Select ECPs'!$B$2:$E$77,2,0)),\"\")","v":""}]
[null,null,{"$f":"IFERROR((VLOOKUP(B85,'Select ECPs'!$B$2:$E$77,4,0)),\"\")","v":""},{"$f":"IFERROR((VLOOKUP(B85,'Select ECPs'!$B$2:$U$77,20,0)),\"\")","v":""},{"$f":"IFERROR((VLOOKUP(B85,'Select ECPs'!$B$2:$E$77,2,0)),\"\")","v":""}]
[null,null,{"$f":"IFERROR((VLOOKUP(B86,'Select ECPs'!$B$2:$E$77,4,0)),\"\")","v":""},{"$f":"IFERROR((VLOOKUP(B86,'Select ECPs'!$B$2:$U$77,20,0)),\"\")","v":""},{"$f":"IFERROR((VLOOKUP(B86,'Select ECPs'!$B$2:$E$77,2,0)),\"\")","v":""}]
[null,null,{"$f":"IFERROR((VLOOKUP(B87,'Select ECPs'!$B$2:$E$77,4,0)),\"\")","v":""},{"$f":"IFERROR((VLOOKUP(B87,'Select ECPs'!$B$2:$U$77,20,0)),\"\")","v":""},{"$f":"IFERROR((VLOOKUP(B87,'Select ECPs'!$B$2:$E$77,2,0)),\"\")","v":""}]
[null,null,{"$f":"IFERROR((VLOOKUP(B88,'Select ECPs'!$B$2:$E$77,4,0)),\"\")","v":""},{"$f":"IFERROR((VLOOKUP(B88,'Select ECPs'!$B$2:$U$77,20,0)),\"\")","v":""},{"$f":"IFERROR((VLOOKUP(B88,'Select ECPs'!$B$2:$E$77,2,0)),\"\")","v":""}]
[null,null,{"$f":"IFERROR((VLOOKUP(B89,'Select ECPs'!$B$2:$E$77,4,0)),\"\")","v":""},{"$f":"IFERROR((VLOOKUP(B89,'Select ECPs'!$B$2:$U$77,20,0)),\"\")","v":""},{"$f":"IFERROR((VLOOKUP(B89,'Select ECPs'!$B$2:$E$77,2,0)),\"\")","v":""}]
[null,null,{"$f":"IFERROR((VLOOKUP(B90,'Select ECPs'!$B$2:$E$77,4,0)),\"\")","v":""},{"$f":"IFERROR((VLOOKUP(B90,'Select ECPs'!$B$2:$U$77,20,0)),\"\")","v":""},{"$f":"IFERROR((VLOOKUP(B90,'Select ECPs'!$B$2:$E$77,2,0)),\"\")","v":""}]
[null,null,{"$f":"IFERROR((VLOOKUP(B91,'Select ECPs'!$B$2:$E$77,4,0)),\"\")","v":""},{"$f":"IFERROR((VLOOKUP(B91,'Select ECPs'!$B$2:$U$77,20,0)),\"\")","v":""},{"$f":"IFERROR((VLOOKUP(B91,'Select ECPs'!$B$2:$E$77,2,0)),\"\")","v":""}]
[null,null,{"$f":"IFERROR((VLOOKUP(B92,'Select ECPs'!$B$2:$E$77,4,0)),\"\")","v":""},{"$f":"IFERROR((VLOOKUP(B92,'Select ECPs'!$B$2:$U$77,20,0)),\"\")","v":""},{"$f":"IFERROR((VLOOKUP(B92,'Select ECPs'!$B$2:$E$77,2,0)),\"\")","v":""}]
[null,null,{"$f":"IFERROR((VLOOKUP(B93,'Select ECPs'!$B$2:$E$77,4,0)),\"\")","v":""},{"$f":"IFERROR((VLOOKUP(B93,'Select ECPs'!$B$2:$U$77,20,0)),\"\")","v":""},{"$f":"IFERROR((VLOOKUP(B93,'Select ECPs'!$B$2:$E$77,2,0)),\"\")","v":""}]
[null,null,{"$f":"IFERROR((VLOOKUP(B94,'Select ECPs'!$B$2:$E$77,4,0)),\"\")","v":""},{"$f":"IFERROR((VLOOKUP(B94,'Select ECPs'!$B$2:$U$77,20,0)),\"\")","v":""},{"$f":"IFERROR((VLOOKUP(B94,'Select ECPs'!$B$2:$E$77,2,0)),\"\")","v":""}]
[null,null,{"$f":"IFERROR((VLOOKUP(B95,'Select ECPs'!$B$2:$E$77,4,0)),\"\")","v":""},{"$f":"IFERROR((VLOOKUP(B95,'Select ECPs'!$B$2:$U$77,20,0)),\"\")","v":""},{"$f":"IFERROR((VLOOKUP(B95,'Select ECPs'!$B$2:$E$77,2,0)),\"\")","v":""}]
[null,null,{"$f":"IFERROR((VLOOKUP(B96,'Select ECPs'!$B$2:$E$77,4,0)),\"\")","v":""},{"$f":"IFERROR((VLOOKUP(B96,'Select ECPs'!$B$2:$U$77,20,0)),\"\")","v":""},{"$f":"IFERROR((VLOOKUP(B96,'Select ECPs'!$B$2:$E$77,2,0)),\"\")","v":""}]
[null,null,{"$f":"IFERROR((VLOOKUP(B97,'Select ECPs'!$B$2:$E$77,4,0)),\"\")","v":""},{"$f":"IFERROR((VLOOKUP(B97,'Select ECPs'!$B$2:$U$77,20,0)),\"\")","v":""},{"$f":"IFERROR((VLOOKUP(B97,'Select ECPs'!$B$2:$E$77,2,0)),\"\")","v":""}]
[null,null,{"$f":"IFERROR((VLOOKUP(B98,'Select ECPs'!$B$2:$E$77,4,0)),\"\")","v":""},{"$f":"IFERROR((VLOOKUP(B98,'Select ECPs'!$B$2:$U$77,20,0)),\"\")","v":""},{"$f":"IFERROR((VLOOKUP(B98,'Select ECPs'!$B$2:$E$77,2,0)),\"\")","v":""}]
[null,null,{"$f":"IFERROR((VLOOKUP(B99,'Select ECPs'!$B$2:$E$77,4,0)),\"\")","v":""},{"$f":"IFERROR((VLOOKUP(B99,'Select ECPs'!$B$2:$U$77,20,0)),\"\")","v":""},{"$f":"IFERROR((VLOOKUP(B99,'Select ECPs'!$B$2:$E$77,2,0)),\"\")","v":""}]
[null,null,{"$f":"IFERROR((VLOOKUP(B100,'Select ECPs'!$B$2:$E$77,4,0)),\"\")","v":""},{"$f":"IFERROR((VLOOKUP(B100,'Select ECPs'!$B$2:$U$77,20,0)),\"\")","v":""},{"$f":"IFERROR((VLOOKUP(B100,'Select ECPs'!$B$2:$E$77,2,0)),\"\")","v":""}]
[null,null,{"$f":"IFERROR((VLOOKUP(B101,'Select ECPs'!$B$2:$E$77,4,0)),\"\")","v":""},{"$f":"IFERROR((VLOOKUP(B101,'Select ECPs'!$B$2:$U$77,20,0)),\"\")","v":""},{"$f":"IFERROR((VLOOKUP(B101,'Select ECPs'!$B$2:$E$77,2,0)),\"\")","v":""}]
[null,null,{"$f":"IFERROR((VLOOKUP(B102,'Select ECPs'!$B$2:$E$77,4,0)),\"\")","v":""},{"$f":"IFERROR((VLOOKUP(B102,'Select ECPs'!$B$2:$U$77,20,0)),\"\")","v":""},{"$f":"IFERROR((VLOOKUP(B102,'Select ECPs'!$B$2:$E$77,2,0)),\"\")","v":""}]
[null,null,{"$f":"IFERROR((VLOOKUP(B103,'Select ECPs'!$B$2:$E$77,4,0)),\"\")","v":""},{"$f":"IFERROR((VLOOKUP(B103,'Select ECPs'!$B$2:$U$77,20,0)),\"\")","v":""},{"$f":"IFERROR((VLOOKUP(B103,'Select ECPs'!$B$2:$E$77,2,0)),\"\")","v":""}]
[null,null,{"$f":"IFERROR((VLOOKUP(B104,'Select ECPs'!$B$2:$E$77,4,0)),\"\")","v":""},{"$f":"IFERROR((VLOOKUP(B104,'Select ECPs'!$B$2:$U$77,20,0)),\"\")","v":""},{"$f":"IFERROR((VLOOKUP(B104,'Select ECPs'!$B$2:$E$77,2,0)),\"\")","v":""}]
[null,null,{"$f":"IFERROR((VLOOKUP(B105,'Select ECPs'!$B$2:$E$77,4,0)),\"\")","v":""},{"$f":"IFERROR((VLOOKUP(B105,'Select ECPs'!$B$2:$U$77,20,0)),\"\")","v":""},{"$f":"IFERROR((VLOOKUP(B105,'Select ECPs'!$B$2:$E$77,2,0)),\"\")","v":""}]
[null,null,{"$f":"IFERROR((VLOOKUP(B106,'Select ECPs'!$B$2:$E$77,4,0)),\"\")","v":""},{"$f":"IFERROR((VLOOKUP(B106,'Select ECPs'!$B$2:$U$77,20,0)),\"\")","v":""},{"$f":"IFERROR((VLOOKUP(B106,'Select ECPs'!$B$2:$E$77,2,0)),\"\")","v":""}]
[null,null,{"$f":"IFERROR((VLOOKUP(B107,'Select ECPs'!$B$2:$E$77,4,0)),\"\")","v":""},{"$f":"IFERROR((VLOOKUP(B107,'Select ECPs'!$B$2:$U$77,20,0)),\"\")","v":""},{"$f":"IFERROR((VLOOKUP(B107,'Select ECPs'!$B$2:$E$77,2,0)),\"\")","v":""}]
[null,null,{"$f":"IFERROR((VLOOKUP(B108,'Select ECPs'!$B$2:$E$77,4,0)),\"\")","v":""},{"$f":"IFERROR((VLOOKUP(B108,'Select ECPs'!$B$2:$U$77,20,0)),\"\")","v":""},{"$f":"IFERROR((VLOOKUP(B108,'Select ECPs'!$B$2:$E$77,2,0)),\"\")","v":""}]
[null,null,{"$f":"IFERROR((VLOOKUP(B109,'Select ECPs'!$B$2:$E$77,4,0)),\"\")","v":""},{"$f":"IFERROR((VLOOKUP(B109,'Select ECPs'!$B$2:$U$77,20,0)),\"\")","v":""},{"$f":"IFERROR((VLOOKUP(B109,'Select ECPs'!$B$2:$E$77,2,0)),\"\")","v":""}]
[null,null,{"$f":"IFERROR((VLOOKUP(B110,'Select ECPs'!$B$2:$E$77,4,0)),\"\")","v":""},{"$f":"IFERROR((VLOOKUP(B110,'Select ECPs'!$B$2:$U$77,20,0)),\"\")","v":""},{"$f":"IFERROR((VLOOKUP(B110,'Select ECPs'!$B$2:$E$77,2,0)),\"\")","v":""}]
[null,null,{"$f":"IFERROR((VLOOKUP(B111,'Select ECPs'!$B$2:$E$77,4,0)),\"\")","v":""},{"$f":"IFERROR((VLOOKUP(B111,'Select ECPs'!$B$2:$U$77,20,0)),\"\")","v":""},{"$f":"IFERROR((VLOOKUP(B111,'Select ECPs'!$B$2:$E$77,2,0)),\"\")","v":""}]
[null,null,{"$f":"IFERROR((VLOOKUP(B112,'Select ECPs'!$B$2:$E$77,4,0)),\"\")","v":""},{"$f":"IFERROR((VLOOKUP(B112,'Select ECPs'!$B$2:$U$77,20,0)),\"\")","v":""},{"$f":"IFERROR((VLOOKUP(B112,'Select ECPs'!$B$2:$E$77,2,0)),\"\")","v":""}]
[null,null,{"$f":"IFERROR((VLOOKUP(B113,'Select ECPs'!$B$2:$E$77,4,0)),\"\")","v":""},{"$f":"IFERROR((VLOOKUP(B113,'Select ECPs'!$B$2:$U$77,20,0)),\"\")","v":""},{"$f":"IFERROR((VLOOKUP(B113,'Select ECPs'!$B$2:$E$77,2,0)),\"\")","v":""}]
[null,null,{"$f":"IFERROR((VLOOKUP(B114,'Select ECPs'!$B$2:$E$77,4,0)),\"\")","v":""},{"$f":"IFERROR((VLOOKUP(B114,'Select ECPs'!$B$2:$U$77,20,0)),\"\")","v":""},{"$f":"IFERROR((VLOOKUP(B114,'Select ECPs'!$B$2:$E$77,2,0)),\"\")","v":""}]
[null,null,{"$f":"IFERROR((VLOOKUP(B115,'Select ECPs'!$B$2:$E$77,4,0)),\"\")","v":""},{"$f":"IFERROR((VLOOKUP(B115,'Select ECPs'!$B$2:$U$77,20,0)),\"\")","v":""},{"$f":"IFERROR((VLOOKUP(B115,'Select ECPs'!$B$2:$E$77,2,0)),\"\")","v":""}]
[null,null,{"$f":"IFERROR((VLOOKUP(B116,'Select ECPs'!$B$2:$E$77,4,0)),\"\")","v":""},{"$f":"IFERROR((VLOOKUP(B116,'Select ECPs'!$B$2:$U$77,20,0)),\"\")","v":""},{"$f":"IFERROR((VLOOKUP(B116,'Select ECPs'!$B$2:$E$77,2,0)),\"\")","v":""}]
[null,null,{"$f":"IFERROR((VLOOKUP(B117,'Select ECPs'!$B$2:$E$77,4,0)),\"\")","v":""},{"$f":"IFERROR((VLOOKUP(B117,'Select ECPs'!$B$2:$U$77,20,0)),\"\")","v":""},{"$f":"IFERROR((VLOOKUP(B117,'Select ECPs'!$B$2:$E$77,2,0)),\"\")","v":""}]
[null,null,{"$f":"IFERROR((VLOOKUP(B118,'Select ECPs'!$B$2:$E$77,4,0)),\"\")","v":""},{"$f":"IFERROR((VLOOKUP(B118,'Select ECPs'!$B$2:$U$77,20,0)),\"\")","v":""},{"$f":"IFERROR((VLOOKUP(B118,'Select ECPs'!$B$2:$E$77,2,0)),\"\")","v":""}]
[null,null,{"$f":"IFERROR((VLOOKUP(B119,'Select ECPs'!$B$2:$E$77,4,0)),\"\")","v":""},{"$f":"IFERROR((VLOOKUP(B119,'Select ECPs'!$B$2:$U$77,20,0)),\"\")","v":""},{"$f":"IFERROR((VLOOKUP(B119,'Select ECPs'!$B$2:$E$77,2,0)),\"\")","v":""}]
[null,null,{"$f":"IFERROR((VLOOKUP(B120,'Select ECPs'!$B$2:$E$77,4,0)),\"\")","v":""},{"$f":"IFERROR((VLOOKUP(B120,'Select ECPs'!$B$2:$U$77,20,0)),\"\")","v":""},{"$f":"IFERROR((VLOOKUP(B120,'Select ECPs'!$B$2:$E$77,2,0)),\"\")","v":""}]
[null,null,{"$f":"IFERROR((VLOOKUP(B121,'Select ECPs'!$B$2:$E$77,4,0)),\"\")","v":""},{"$f":"IFERROR((VLOOKUP(B121,'Select ECPs'!$B$2:$U$77,20,0)),\"\")","v":""},{"$f":"IFERROR((VLOOKUP(B121,'Select ECPs'!$B$2:$E$77,2,0)),\"\")","v":""}]
[null,null,{"$f":"IFERROR((VLOOKUP(B122,'Select ECPs'!$B$2:$E$77,4,0)),\"\")","v":""},{"$f":"IFERROR((VLOOKUP(B122,'Select ECPs'!$B$2:$U$77,20,0)),\"\")","v":""},{"$f":"IFERROR((VLOOKUP(B122,'Select ECPs'!$B$2:$E$77,2,0)),\"\")","v":""}]
[null,null,{"$f":"IFERROR((VLOOKUP(B123,'Select ECPs'!$B$2:$E$77,4,0)),\"\")","v":""},{"$f":"IFERROR((VLOOKUP(B123,'Select ECPs'!$B$2:$U$77,20,0)),\"\")","v":""},{"$f":"IFERROR((VLOOKUP(B123,'Select ECPs'!$B$2:$E$77,2,0)),\"\")","v":""}]
[null,null,{"$f":"IFERROR((VLOOKUP(B124,'Select ECPs'!$B$2:$E$77,4,0)),\"\")","v":""},{"$f":"IFERROR((VLOOKUP(B124,'Select ECPs'!$B$2:$U$77,20,0)),\"\")","v":""},{"$f":"IFERROR((VLOOKUP(B124,'Select ECPs'!$B$2:$E$77,2,0)),\"\")","v":""}]
[null,null,{"$f":"IFERROR((VLOOKUP(B125,'Select ECPs'!$B$2:$E$77,4,0)),\"\")","v":""},{"$f":"IFERROR((VLOOKUP(B125,'Select ECPs'!$B$2:$U$77,20,0)),\"\")","v":""},{"$f":"IFERROR((VLOOKUP(B125,'Select ECPs'!$B$2:$E$77,2,0)),\"\")","v":""}]
[null,null,{"$f":"IFERROR((VLOOKUP(B126,'Select ECPs'!$B$2:$E$77,4,0)),\"\")","v":""},{"$f":"IFERROR((VLOOKUP(B126,'Select ECPs'!$B$2:$U$77,20,0)),\"\")","v":""},{"$f":"IFERROR((VLOOKUP(B126,'Select ECPs'!$B$2:$E$77,2,0)),\"\")","v":""}]
[null,null,{"$f":"IFERROR((VLOOKUP(B127,'Select ECPs'!$B$2:$E$77,4,0)),\"\")","v":""},{"$f":"IFERROR((VLOOKUP(B127,'Select ECPs'!$B$2:$U$77,20,0)),\"\")","v":""},{"$f":"IFERROR((VLOOKUP(B127,'Select ECPs'!$B$2:$E$77,2,0)),\"\")","v":""}]
[null,null,{"$f":"IFERROR((VLOOKUP(B128,'Select ECPs'!$B$2:$E$77,4,0)),\"\")","v":""},{"$f":"IFERROR((VLOOKUP(B128,'Select ECPs'!$B$2:$U$77,20,0)),\"\")","v":""},{"$f":"IFERROR((VLOOKUP(B128,'Select ECPs'!$B$2:$E$77,2,0)),\"\")","v":""}]
[null,null,{"$f":"IFERROR((VLOOKUP(B129,'Select ECPs'!$B$2:$E$77,4,0)),\"\")","v":""},{"$f":"IFERROR((VLOOKUP(B129,'Select ECPs'!$B$2:$U$77,20,0)),\"\")","v":""},{"$f":"IFERROR((VLOOKUP(B129,'Select ECPs'!$B$2:$E$77,2,0)),\"\")","v":""}]
[null,null,{"$f":"IFERROR((VLOOKUP(B130,'Select ECPs'!$B$2:$E$77,4,0)),\"\")","v":""},{"$f":"IFERROR((VLOOKUP(B130,'Select ECPs'!$B$2:$U$77,20,0)),\"\")","v":""},{"$f":"IFERROR((VLOOKUP(B130,'Select ECPs'!$B$2:$E$77,2,0)),\"\")","v":""}]
[null,null,{"$f":"IFERROR((VLOOKUP(B131,'Select ECPs'!$B$2:$E$77,4,0)),\"\")","v":""},{"$f":"IFERROR((VLOOKUP(B131,'Select ECPs'!$B$2:$U$77,20,0)),\"\")","v":""},{"$f":"IFERROR((VLOOKUP(B131,'Select ECPs'!$B$2:$E$77,2,0)),\"\")","v":""}]
[null,null,{"$f":"IFERROR((VLOOKUP(B132,'Select ECPs'!$B$2:$E$77,4,0)),\"\")","v":""},{"$f":"IFERROR((VLOOKUP(B132,'Select ECPs'!$B$2:$U$77,20,0)),\"\")","v":""},{"$f":"IFERROR((VLOOKUP(B132,'Select ECPs'!$B$2:$E$77,2,0)),\"\")","v":""}]
[null,null,{"$f":"IFERROR((VLOOKUP(B133,'Select ECPs'!$B$2:$E$77,4,0)),\"\")","v":""},{"$f":"IFERROR((VLOOKUP(B133,'Select ECPs'!$B$2:$U$77,20,0)),\"\")","v":""},{"$f":"IFERROR((VLOOKUP(B133,'Select ECPs'!$B$2:$E$77,2,0)),\"\")","v":""}]
[null,null,{"$f":"IFERROR((VLOOKUP(B134,'Select ECPs'!$B$2:$E$77,4,0)),\"\")","v":""},{"$f":"IFERROR((VLOOKUP(B134,'Select ECPs'!$B$2:$U$77,20,0)),\"\")","v":""},{"$f":"IFERROR((VLOOKUP(B134,'Select ECPs'!$B$2:$E$77,2,0)),\"\")","v":""}]
[null,null,{"$f":"IFERROR((VLOOKUP(B135,'Select ECPs'!$B$2:$E$77,4,0)),\"\")","v":""},{"$f":"IFERROR((VLOOKUP(B135,'Select ECPs'!$B$2:$U$77,20,0)),\"\")","v":""},{"$f":"IFERROR((VLOOKUP(B135,'Select ECPs'!$B$2:$E$77,2,0)),\"\")","v":""}]
[null,null,{"$f":"IFERROR((VLOOKUP(B136,'Select ECPs'!$B$2:$E$77,4,0)),\"\")","v":""},{"$f":"IFERROR((VLOOKUP(B136,'Select ECPs'!$B$2:$U$77,20,0)),\"\")","v":""},{"$f":"IFERROR((VLOOKUP(B136,'Select ECPs'!$B$2:$E$77,2,0)),\"\")","v":""}]
[null,null,{"$f":"IFERROR((VLOOKUP(B137,'Select ECPs'!$B$2:$E$77,4,0)),\"\")","v":""},{"$f":"IFERROR((VLOOKUP(B137,'Select ECPs'!$B$2:$U$77,20,0)),\"\")","v":""},{"$f":"IFERROR((VLOOKUP(B137,'Select ECPs'!$B$2:$E$77,2,0)),\"\")","v":""}]
[null,null,{"$f":"IFERROR((VLOOKUP(B138,'Select ECPs'!$B$2:$E$77,4,0)),\"\")","v":""},{"$f":"IFERROR((VLOOKUP(B138,'Select ECPs'!$B$2:$U$77,20,0)),\"\")","v":""},{"$f":"IFERROR((VLOOKUP(B138,'Select ECPs'!$B$2:$E$77,2,0)),\"\")","v":""}]
[null,null,{"$f":"IFERROR((VLOOKUP(B139,'Select ECPs'!$B$2:$E$77,4,0)),\"\")","v":""},{"$f":"IFERROR((VLOOKUP(B139,'Select ECPs'!$B$2:$U$77,20,0)),\"\")","v":""},{"$f":"IFERROR((VLOOKUP(B139,'Select ECPs'!$B$2:$E$77,2,0)),\"\")","v":""}]
[null,null,{"$f":"IFERROR((VLOOKUP(B140,'Select ECPs'!$B$2:$E$77,4,0)),\"\")","v":""},{"$f":"IFERROR((VLOOKUP(B140,'Select ECPs'!$B$2:$U$77,20,0)),\"\")","v":""},{"$f":"IFERROR((VLOOKUP(B140,'Select ECPs'!$B$2:$E$77,2,0)),\"\")","v":""}]
[null,null,{"$f":"IFERROR((VLOOKUP(B141,'Select ECPs'!$B$2:$E$77,4,0)),\"\")","v":""},{"$f":"IFERROR((VLOOKUP(B141,'Select ECPs'!$B$2:$U$77,20,0)),\"\")","v":""},{"$f":"IFERROR((VLOOKUP(B141,'Select ECPs'!$B$2:$E$77,2,0)),\"\")","v":""}]
[null,null,{"$f":"IFERROR((VLOOKUP(B142,'Select ECPs'!$B$2:$E$77,4,0)),\"\")","v":""},{"$f":"IFERROR((VLOOKUP(B142,'Select ECPs'!$B$2:$U$77,20,0)),\"\")","v":""},{"$f":"IFERROR((VLOOKUP(B142,'Select ECPs'!$B$2:$E$77,2,0)),\"\")","v":""}]
[null,null,{"$f":"IFERROR((VLOOKUP(B143,'Select ECPs'!$B$2:$E$77,4,0)),\"\")","v":""},{"$f":"IFERROR((VLOOKUP(B143,'Select ECPs'!$B$2:$U$77,20,0)),\"\")","v":""},{"$f":"IFERROR((VLOOKUP(B143,'Select ECPs'!$B$2:$E$77,2,0)),\"\")","v":""}]
[null,null,{"$f":"IFERROR((VLOOKUP(B144,'Select ECPs'!$B$2:$E$77,4,0)),\"\")","v":""},{"$f":"IFERROR((VLOOKUP(B144,'Select ECPs'!$B$2:$U$77,20,0)),\"\")","v":""},{"$f":"IFERROR((VLOOKUP(B144,'Select ECPs'!$B$2:$E$77,2,0)),\"\")","v":""}]
[null,null,{"$f":"IFERROR((VLOOKUP(B145,'Select ECPs'!$B$2:$E$77,4,0)),\"\")","v":""},{"$f":"IFERROR((VLOOKUP(B145,'Select ECPs'!$B$2:$U$77,20,0)),\"\")","v":""},{"$f":"IFERROR((VLOOKUP(B145,'Select ECPs'!$B$2:$E$77,2,0)),\"\")","v":""}]
[null,null,{"$f":"IFERROR((VLOOKUP(B146,'Select ECPs'!$B$2:$E$77,4,0)),\"\")","v":""},{"$f":"IFERROR((VLOOKUP(B146,'Select ECPs'!$B$2:$U$77,20,0)),\"\")","v":""},{"$f":"IFERROR((VLOOKUP(B146,'Select ECPs'!$B$2:$E$77,2,0)),\"\")","v":""}]
[null,null,{"$f":"IFERROR((VLOOKUP(B147,'Select ECPs'!$B$2:$E$77,4,0)),\"\")","v":""},{"$f":"IFERROR((VLOOKUP(B147,'Select ECPs'!$B$2:$U$77,20,0)),\"\")","v":""},{"$f":"IFERROR((VLOOKUP(B147,'Select ECPs'!$B$2:$E$77,2,0)),\"\")","v":""}]
[null,null,{"$f":"IFERROR((VLOOKUP(B148,'Select ECPs'!$B$2:$E$77,4,0)),\"\")","v":""},{"$f":"IFERROR((VLOOKUP(B148,'Select ECPs'!$B$2:$U$77,20,0)),\"\")","v":""},{"$f":"IFERROR((VLOOKUP(B148,'Select ECPs'!$B$2:$E$77,2,0)),\"\")","v":""}]
[null,null,{"$f":"IFERROR((VLOOKUP(B149,'Select ECPs'!$B$2:$E$77,4,0)),\"\")","v":""},{"$f":"IFERROR((VLOOKUP(B149,'Select ECPs'!$B$2:$U$77,20,0)),\"\")","v":""},{"$f":"IFERROR((VLOOKUP(B149,'Select ECPs'!$B$2:$E$77,2,0)),\"\")","v":""}]
[null,null,{"$f":"IFERROR((VLOOKUP(B150,'Select ECPs'!$B$2:$E$77,4,0)),\"\")","v":""},{"$f":"IFERROR((VLOOKUP(B150,'Select ECPs'!$B$2:$U$77,20,0)),\"\")","v":""},{"$f":"IFERROR((VLOOKUP(B150,'Select ECPs'!$B$2:$E$77,2,0)),\"\")","v":""}]
[null,null,{"$f":"IFERROR((VLOOKUP(B151,'Select ECPs'!$B$2:$E$77,4,0)),\"\")","v":""},{"$f":"IFERROR((VLOOKUP(B151,'Select ECPs'!$B$2:$U$77,20,0)),\"\")","v":""},{"$f":"IFERROR((VLOOKUP(B151,'Select ECPs'!$B$2:$E$77,2,0)),\"\")","v":""}]
[null,null,{"$f":"IFERROR((VLOOKUP(B152,'Select ECPs'!$B$2:$E$77,4,0)),\"\")","v":""},{"$f":"IFERROR((VLOOKUP(B152,'Select ECPs'!$B$2:$U$77,20,0)),\"\")","v":""},{"$f":"IFERROR((VLOOKUP(B152,'Select ECPs'!$B$2:$E$77,2,0)),\"\")","v":""}]
[null,null,{"$f":"IFERROR((VLOOKUP(B153,'Select ECPs'!$B$2:$E$77,4,0)),\"\")","v":""},{"$f":"IFERROR((VLOOKUP(B153,'Select ECPs'!$B$2:$U$77,20,0)),\"\")","v":""},{"$f":"IFERROR((VLOOKUP(B153,'Select ECPs'!$B$2:$E$77,2,0)),\"\")","v":""}]
[null,null,{"$f":"IFERROR((VLOOKUP(B154,'Select ECPs'!$B$2:$E$77,4,0)),\"\")","v":""},{"$f":"IFERROR((VLOOKUP(B154,'Select ECPs'!$B$2:$U$77,20,0)),\"\")","v":""},{"$f":"IFERROR((VLOOKUP(B154,'Select ECPs'!$B$2:$E$77,2,0)),\"\")","v":""}]
[null,null,{"$f":"IFERROR((VLOOKUP(B155,'Select ECPs'!$B$2:$E$77,4,0)),\"\")","v":""},{"$f":"IFERROR((VLOOKUP(B155,'Select ECPs'!$B$2:$U$77,20,0)),\"\")","v":""},{"$f":"IFERROR((VLOOKUP(B155,'Select ECPs'!$B$2:$E$77,2,0)),\"\")","v":""}]
[null,null,{"$f":"IFERROR((VLOOKUP(B156,'Select ECPs'!$B$2:$E$77,4,0)),\"\")","v":""},{"$f":"IFERROR((VLOOKUP(B156,'Select ECPs'!$B$2:$U$77,20,0)),\"\")","v":""},{"$f":"IFERROR((VLOOKUP(B156,'Select ECPs'!$B$2:$E$77,2,0)),\"\")","v":""}]
[null,null,{"$f":"IFERROR((VLOOKUP(B157,'Select ECPs'!$B$2:$E$77,4,0)),\"\")","v":""},{"$f":"IFERROR((VLOOKUP(B157,'Select ECPs'!$B$2:$U$77,20,0)),\"\")","v":""},{"$f":"IFERROR((VLOOKUP(B157,'Select ECPs'!$B$2:$E$77,2,0)),\"\")","v":""}]
[null,null,{"$f":"IFERROR((VLOOKUP(B158,'Select ECPs'!$B$2:$E$77,4,0)),\"\")","v":""},{"$f":"IFERROR((VLOOKUP(B158,'Select ECPs'!$B$2:$U$77,20,0)),\"\")","v":""},{"$f":"IFERROR((VLOOKUP(B158,'Select ECPs'!$B$2:$E$77,2,0)),\"\")","v":""}]
[null,null,{"$f":"IFERROR((VLOOKUP(B159,'Select ECPs'!$B$2:$E$77,4,0)),\"\")","v":""},{"$f":"IFERROR((VLOOKUP(B159,'Select ECPs'!$B$2:$U$77,20,0)),\"\")","v":""},{"$f":"IFERROR((VLOOKUP(B159,'Select ECPs'!$B$2:$E$77,2,0)),\"\")","v":""}]
[null,null,{"$f":"IFERROR((VLOOKUP(B160,'Select ECPs'!$B$2:$E$77,4,0)),\"\")","v":""},{"$f":"IFERROR((VLOOKUP(B160,'Select ECPs'!$B$2:$U$77,20,0)),\"\")","v":""},{"$f":"IFERROR((VLOOKUP(B160,'Select ECPs'!$B$2:$E$77,2,0)),\"\")","v":""}]
[null,null,{"$f":"IFERROR((VLOOKUP(B161,'Select ECPs'!$B$2:$E$77,4,0)),\"\")","v":""},{"$f":"IFERROR((VLOOKUP(B161,'Select ECPs'!$B$2:$U$77,20,0)),\"\")","v":""},{"$f":"IFERROR((VLOOKUP(B161,'Select ECPs'!$B$2:$E$77,2,0)),\"\")","v":""}]
[null,null,{"$f":"IFERROR((VLOOKUP(B162,'Select ECPs'!$B$2:$E$77,4,0)),\"\")","v":""},{"$f":"IFERROR((VLOOKUP(B162,'Select ECPs'!$B$2:$U$77,20,0)),\"\")","v":""},{"$f":"IFERROR((VLOOKUP(B162,'Select ECPs'!$B$2:$E$77,2,0)),\"\")","v":""}]
[null,null,{"$f":"IFERROR((VLOOKUP(B163,'Select ECPs'!$B$2:$E$77,4,0)),\"\")","v":""},{"$f":"IFERROR((VLOOKUP(B163,'Select ECPs'!$B$2:$U$77,20,0)),\"\")","v":""},{"$f":"IFERROR((VLOOKUP(B163,'Select ECPs'!$B$2:$E$77,2,0)),\"\")","v":""}]
[null,null,{"$f":"IFERROR((VLOOKUP(B164,'Select ECPs'!$B$2:$E$77,4,0)),\"\")","v":""},{"$f":"IFERROR((VLOOKUP(B164,'Select ECPs'!$B$2:$U$77,20,0)),\"\")","v":""},{"$f":"IFERROR((VLOOKUP(B164,'Select ECPs'!$B$2:$E$77,2,0)),\"\")","v":""}]
[null,null,{"$f":"IFERROR((VLOOKUP(B165,'Select ECPs'!$B$2:$E$77,4,0)),\"\")","v":""},{"$f":"IFERROR((VLOOKUP(B165,'Select ECPs'!$B$2:$U$77,20,0)),\"\")","v":""},{"$f":"IFERROR((VLOOKUP(B165,'Select ECPs'!$B$2:$E$77,2,0)),\"\")","v":""}]
[null,null,{"$f":"IFERROR((VLOOKUP(B166,'Select ECPs'!$B$2:$E$77,4,0)),\"\")","v":""},{"$f":"IFERROR((VLOOKUP(B166,'Select ECPs'!$B$2:$U$77,20,0)),\"\")","v":""},{"$f":"IFERROR((VLOOKUP(B166,'Select ECPs'!$B$2:$E$77,2,0)),\"\")","v":""}]
[null,null,{"$f":"IFERROR((VLOOKUP(B167,'Select ECPs'!$B$2:$E$77,4,0)),\"\")","v":""},{"$f":"IFERROR((VLOOKUP(B167,'Select ECPs'!$B$2:$U$77,20,0)),\"\")","v":""},{"$f":"IFERROR((VLOOKUP(B167,'Select ECPs'!$B$2:$E$77,2,0)),\"\")","v":""}]
[null,null,{"$f":"IFERROR((VLOOKUP(B168,'Select ECPs'!$B$2:$E$77,4,0)),\"\")","v":""},{"$f":"IFERROR((VLOOKUP(B168,'Select ECPs'!$B$2:$U$77,20,0)),\"\")","v":""},{"$f":"IFERROR((VLOOKUP(B168,'Select ECPs'!$B$2:$E$77,2,0)),\"\")","v":""}]
[null,null,{"$f":"IFERROR((VLOOKUP(B169,'Select ECPs'!$B$2:$E$77,4,0)),\"\")","v":""},{"$f":"IFERROR((VLOOKUP(B169,'Select ECPs'!$B$2:$U$77,20,0)),\"\")","v":""},{"$f":"IFERROR((VLOOKUP(B169,'Select ECPs'!$B$2:$E$77,2,0)),\"\")","v":""}]
[null,null,{"$f":"IFERROR((VLOOKUP(B170,'Select ECPs'!$B$2:$E$77,4,0)),\"\")","v":""},{"$f":"IFERROR((VLOOKUP(B170,'Select ECPs'!$B$2:$U$77,20,0)),\"\")","v":""},{"$f":"IFERROR((VLOOKUP(B170,'Select ECPs'!$B$2:$E$77,2,0)),\"\")","v":""}]
[null,null,{"$f":"IFERROR((VLOOKUP(B171,'Select ECPs'!$B$2:$E$77,4,0)),\"\")","v":""},{"$f":"IFERROR((VLOOKUP(B171,'Select ECPs'!$B$2:$U$77,20,0)),\"\")","v":""},{"$f":"IFERROR((VLOOKUP(B171,'Select ECPs'!$B$2:$E$77,2,0)),\"\")","v":""}]
[null,null,{"$f":"IFERROR((VLOOKUP(B172,'Select ECPs'!$B$2:$E$77,4,0)),\"\")","v":""},{"$f":"IFERROR((VLOOKUP(B172,'Select ECPs'!$B$2:$U$77,20,0)),\"\")","v":""},{"$f":"IFERROR((VLOOKUP(B172,'Select ECPs'!$B$2:$E$77,2,0)),\"\")","v":""}]
[null,null,{"$f":"IFERROR((VLOOKUP(B173,'Select ECPs'!$B$2:$E$77,4,0)),\"\")","v":""},{"$f":"IFERROR((VLOOKUP(B173,'Select ECPs'!$B$2:$U$77,20,0)),\"\")","v":""},{"$f":"IFERROR((VLOOKUP(B173,'Select ECPs'!$B$2:$E$77,2,0)),\"\")","v":""}]
[null,null,{"$f":"IFERROR((VLOOKUP(B174,'Select ECPs'!$B$2:$E$77,4,0)),\"\")","v":""},{"$f":"IFERROR((VLOOKUP(B174,'Select ECPs'!$B$2:$U$77,20,0)),\"\")","v":""},{"$f":"IFERROR((VLOOKUP(B174,'Select ECPs'!$B$2:$E$77,2,0)),\"\")","v":""}]
[null,null,{"$f":"IFERROR((VLOOKUP(B175,'Select ECPs'!$B$2:$E$77,4,0)),\"\")","v":""},{"$f":"IFERROR((VLOOKUP(B175,'Select ECPs'!$B$2:$U$77,20,0)),\"\")","v":""},{"$f":"IFERROR((VLOOKUP(B175,'Select ECPs'!$B$2:$E$77,2,0)),\"\")","v":""}]
[null,null,{"$f":"IFERROR((VLOOKUP(B176,'Select ECPs'!$B$2:$E$77,4,0)),\"\")","v":""},{"$f":"IFERROR((VLOOKUP(B176,'Select ECPs'!$B$2:$U$77,20,0)),\"\")","v":""},{"$f":"IFERROR((VLOOKUP(B176,'Select ECPs'!$B$2:$E$77,2,0)),\"\")","v":""}]
[null,null,{"$f":"IFERROR((VLOOKUP(B177,'Select ECPs'!$B$2:$E$77,4,0)),\"\")","v":""},{"$f":"IFERROR((VLOOKUP(B177,'Select ECPs'!$B$2:$U$77,20,0)),\"\")","v":""},{"$f":"IFERROR((VLOOKUP(B177,'Select ECPs'!$B$2:$E$77,2,0)),\"\")","v":""}]
[null,null,{"$f":"IFERROR((VLOOKUP(B178,'Select ECPs'!$B$2:$E$77,4,0)),\"\")","v":""},{"$f":"IFERROR((VLOOKUP(B178,'Select ECPs'!$B$2:$U$77,20,0)),\"\")","v":""},{"$f":"IFERROR((VLOOKUP(B178,'Select ECPs'!$B$2:$E$77,2,0)),\"\")","v":""}]
[null,null,{"$f":"IFERROR((VLOOKUP(B179,'Select ECPs'!$B$2:$E$77,4,0)),\"\")","v":""},{"$f":"IFERROR((VLOOKUP(B179,'Select ECPs'!$B$2:$U$77,20,0)),\"\")","v":""},{"$f":"IFERROR((VLOOKUP(B179,'Select ECPs'!$B$2:$E$77,2,0)),\"\")","v":""}]
[null,null,{"$f":"IFERROR((VLOOKUP(B180,'Select ECPs'!$B$2:$E$77,4,0)),\"\")","v":""},{"$f":"IFERROR((VLOOKUP(B180,'Select ECPs'!$B$2:$U$77,20,0)),\"\")","v":""},{"$f":"IFERROR((VLOOKUP(B180,'Select ECPs'!$B$2:$E$77,2,0)),\"\")","v":""}]
[null,null,{"$f":"IFERROR((VLOOKUP(B181,'Select ECPs'!$B$2:$E$77,4,0)),\"\")","v":""},{"$f":"IFERROR((VLOOKUP(B181,'Select ECPs'!$B$2:$U$77,20,0)),\"\")","v":""},{"$f":"IFERROR((VLOOKUP(B181,'Select ECPs'!$B$2:$E$77,2,0)),\"\")","v":""}]
[null,null,{"$f":"IFERROR((VLOOKUP(B182,'Select ECPs'!$B$2:$E$77,4,0)),\"\")","v":""},{"$f":"IFERROR((VLOOKUP(B182,'Select ECPs'!$B$2:$U$77,20,0)),\"\")","v":""},{"$f":"IFERROR((VLOOKUP(B182,'Select ECPs'!$B$2:$E$77,2,0)),\"\")","v":""}]
[null,null,{"$f":"IFERROR((VLOOKUP(B183,'Select ECPs'!$B$2:$E$77,4,0)),\"\")","v":""},{"$f":"IFERROR((VLOOKUP(B183,'Select ECPs'!$B$2:$U$77,20,0)),\"\")","v":""},{"$f":"IFERROR((VLOOKUP(B183,'Select ECPs'!$B$2:$E$77,2,0)),\"\")","v":""}]
[null,null,{"$f":"IFERROR((VLOOKUP(B184,'Select ECPs'!$B$2:$E$77,4,0)),\"\")","v":""},{"$f":"IFERROR((VLOOKUP(B184,'Select ECPs'!$B$2:$U$77,20,0)),\"\")","v":""},{"$f":"IFERROR((VLOOKUP(B184,'Select ECPs'!$B$2:$E$77,2,0)),\"\")","v":""}]
[null,null,{"$f":"IFERROR((VLOOKUP(B185,'Select ECPs'!$B$2:$E$77,4,0)),\"\")","v":""},{"$f":"IFERROR((VLOOKUP(B185,'Select ECPs'!$B$2:$U$77,20,0)),\"\")","v":""},{"$f":"IFERROR((VLOOKUP(B185,'Select ECPs'!$B$2:$E$77,2,0)),\"\")","v":""}]
[null,null,{"$f":"IFERROR((VLOOKUP(B186,'Select ECPs'!$B$2:$E$77,4,0)),\"\")","v":""},{"$f":"IFERROR((VLOOKUP(B186,'Select ECPs'!$B$2:$U$77,20,0)),\"\")","v":""},{"$f":"IFERROR((VLOOKUP(B186,'Select ECPs'!$B$2:$E$77,2,0)),\"\")","v":""}]
[null,null,{"$f":"IFERROR((VLOOKUP(B187,'Select ECPs'!$B$2:$E$77,4,0)),\"\")","v":""},{"$f":"IFERROR((VLOOKUP(B187,'Select ECPs'!$B$2:$U$77,20,0)),\"\")","v":""},{"$f":"IFERROR((VLOOKUP(B187,'Select ECPs'!$B$2:$E$77,2,0)),\"\")","v":""}]
[null,null,{"$f":"IFERROR((VLOOKUP(B188,'Select ECPs'!$B$2:$E$77,4,0)),\"\")","v":""},{"$f":"IFERROR((VLOOKUP(B188,'Select ECPs'!$B$2:$U$77,20,0)),\"\")","v":""},{"$f":"IFERROR((VLOOKUP(B188,'Select ECPs'!$B$2:$E$77,2,0)),\"\")","v":""}]
[null,null,{"$f":"IFERROR((VLOOKUP(B189,'Select ECPs'!$B$2:$E$77,4,0)),\"\")","v":""},{"$f":"IFERROR((VLOOKUP(B189,'Select ECPs'!$B$2:$U$77,20,0)),\"\")","v":""},{"$f":"IFERROR((VLOOKUP(B189,'Select ECPs'!$B$2:$E$77,2,0)),\"\")","v":""}]
[null,null,{"$f":"IFERROR((VLOOKUP(B190,'Select ECPs'!$B$2:$E$77,4,0)),\"\")","v":""},{"$f":"IFERROR((VLOOKUP(B190,'Select ECPs'!$B$2:$U$77,20,0)),\"\")","v":""},{"$f":"IFERROR((VLOOKUP(B190,'Select ECPs'!$B$2:$E$77,2,0)),\"\")","v":""}]
[null,null,{"$f":"IFERROR((VLOOKUP(B191,'Select ECPs'!$B$2:$E$77,4,0)),\"\")","v":""},{"$f":"IFERROR((VLOOKUP(B191,'Select ECPs'!$B$2:$U$77,20,0)),\"\")","v":""},{"$f":"IFERROR((VLOOKUP(B191,'Select ECPs'!$B$2:$E$77,2,0)),\"\")","v":""}]
[null,null,{"$f":"IFERROR((VLOOKUP(B192,'Select ECPs'!$B$2:$E$77,4,0)),\"\")","v":""},{"$f":"IFERROR((VLOOKUP(B192,'Select ECPs'!$B$2:$U$77,20,0)),\"\")","v":""},{"$f":"IFERROR((VLOOKUP(B192,'Select ECPs'!$B$2:$E$77,2,0)),\"\")","v":""}]
[null,null,{"$f":"IFERROR((VLOOKUP(B193,'Select ECPs'!$B$2:$E$77,4,0)),\"\")","v":""},{"$f":"IFERROR((VLOOKUP(B193,'Select ECPs'!$B$2:$U$77,20,0)),\"\")","v":""},{"$f":"IFERROR((VLOOKUP(B193,'Select ECPs'!$B$2:$E$77,2,0)),\"\")","v":""}]
[null,null,{"$f":"IFERROR((VLOOKUP(B194,'Select ECPs'!$B$2:$E$77,4,0)),\"\")","v":""},{"$f":"IFERROR((VLOOKUP(B194,'Select ECPs'!$B$2:$U$77,20,0)),\"\")","v":""},{"$f":"IFERROR((VLOOKUP(B194,'Select ECPs'!$B$2:$E$77,2,0)),\"\")","v":""}]
[null,null,{"$f":"IFERROR((VLOOKUP(B195,'Select ECPs'!$B$2:$E$77,4,0)),\"\")","v":""},{"$f":"IFERROR((VLOOKUP(B195,'Select ECPs'!$B$2:$U$77,20,0)),\"\")","v":""},{"$f":"IFERROR((VLOOKUP(B195,'Select ECPs'!$B$2:$E$77,2,0)),\"\")","v":""}]
[null,null,{"$f":"IFERROR((VLOOKUP(B196,'Select ECPs'!$B$2:$E$77,4,0)),\"\")","v":""},{"$f":"IFERROR((VLOOKUP(B196,'Select ECPs'!$B$2:$U$77,20,0)),\"\")","v":""},{"$f":"IFERROR((VLOOKUP(B196,'Select ECPs'!$B$2:$E$77,2,0)),\"\")","v":""}]
[null,null,{"$f":"IFERROR((VLOOKUP(B197,'Select ECPs'!$B$2:$E$77,4,0)),\"\")","v":""},{"$f":"IFERROR((VLOOKUP(B197,'Select ECPs'!$B$2:$U$77,20,0)),\"\")","v":""},{"$f":"IFERROR((VLOOKUP(B197,'Select ECPs'!$B$2:$E$77,2,0)),\"\")","v":""}]
[null,null,{"$f":"IFERROR((VLOOKUP(B198,'Select ECPs'!$B$2:$E$77,4,0)),\"\")","v":""},{"$f":"IFERROR((VLOOKUP(B198,'Select ECPs'!$B$2:$U$77,20,0)),\"\")","v":""},{"$f":"IFERROR((VLOOKUP(B198,'Select ECPs'!$B$2:$E$77,2,0)),\"\")","v":""}]
[null,null,{"$f":"IFERROR((VLOOKUP(B199,'Select ECPs'!$B$2:$E$77,4,0)),\"\")","v":""},{"$f":"IFERROR((VLOOKUP(B199,'Select ECPs'!$B$2:$U$77,20,0)),\"\")","v":""},{"$f":"IFERROR((VLOOKUP(B199,'Select ECPs'!$B$2:$E$77,2,0)),\"\")","v":""}]
[null,null,{"$f":"IFERROR((VLOOKUP(B200,'Select ECPs'!$B$2:$E$77,4,0)),\"\")","v":""},{"$f":"IFERROR((VLOOKUP(B200,'Select ECPs'!$B$2:$U$77,20,0)),\"\")","v":""},{"$f":"IFERROR((VLOOKUP(B200,'Select ECPs'!$B$2:$E$77,2,0)),\"\")","v":""}]
[null,null,{"$f":"IFERROR((VLOOKUP(B201,'Select ECPs'!$B$2:$E$77,4,0)),\"\")","v":""},{"$f":"IFERROR((VLOOKUP(B201,'Select ECPs'!$B$2:$U$77,20,0)),\"\")","v":""},{"$f":"IFERROR((VLOOKUP(B201,'Select ECPs'!$B$2:$E$77,2,0)),\"\")","v":""}]
[null,null,{"$f":"IFERROR((VLOOKUP(B202,'Select ECPs'!$B$2:$E$77,4,0)),\"\")","v":""},{"$f":"IFERROR((VLOOKUP(B202,'Select ECPs'!$B$2:$U$77,20,0)),\"\")","v":""},{"$f":"IFERROR((VLOOKUP(B202,'Select ECPs'!$B$2:$E$77,2,0)),\"\")","v":""}]
[null,null,{"$f":"IFERROR((VLOOKUP(B203,'Select ECPs'!$B$2:$E$77,4,0)),\"\")","v":""},{"$f":"IFERROR((VLOOKUP(B203,'Select ECPs'!$B$2:$U$77,20,0)),\"\")","v":""},{"$f":"IFERROR((VLOOKUP(B203,'Select ECPs'!$B$2:$E$77,2,0)),\"\")","v":""}]
[null,null,{"$f":"IFERROR((VLOOKUP(B204,'Select ECPs'!$B$2:$E$77,4,0)),\"\")","v":""},{"$f":"IFERROR((VLOOKUP(B204,'Select ECPs'!$B$2:$U$77,20,0)),\"\")","v":""},{"$f":"IFERROR((VLOOKUP(B204,'Select ECPs'!$B$2:$E$77,2,0)),\"\")","v":""}]
[null,null,{"$f":"IFERROR((VLOOKUP(B205,'Select ECPs'!$B$2:$E$77,4,0)),\"\")","v":""},{"$f":"IFERROR((VLOOKUP(B205,'Select ECPs'!$B$2:$U$77,20,0)),\"\")","v":""},{"$f":"IFERROR((VLOOKUP(B205,'Select ECPs'!$B$2:$E$77,2,0)),\"\")","v":""}]
[null,null,{"$f":"IFERROR((VLOOKUP(B206,'Select ECPs'!$B$2:$E$77,4,0)),\"\")","v":""},{"$f":"IFERROR((VLOOKUP(B206,'Select ECPs'!$B$2:$U$77,20,0)),\"\")","v":""},{"$f":"IFERROR((VLOOKUP(B206,'Select ECPs'!$B$2:$E$77,2,0)),\"\")","v":""}]
[null,null,{"$f":"IFERROR((VLOOKUP(B207,'Select ECPs'!$B$2:$E$77,4,0)),\"\")","v":""},{"$f":"IFERROR((VLOOKUP(B207,'Select ECPs'!$B$2:$U$77,20,0)),\"\")","v":""},{"$f":"IFERROR((VLOOKUP(B207,'Select ECPs'!$B$2:$E$77,2,0)),\"\")","v":""}]
[null,null,{"$f":"IFERROR((VLOOKUP(B208,'Select ECPs'!$B$2:$E$77,4,0)),\"\")","v":""},{"$f":"IFERROR((VLOOKUP(B208,'Select ECPs'!$B$2:$U$77,20,0)),\"\")","v":""},{"$f":"IFERROR((VLOOKUP(B208,'Select ECPs'!$B$2:$E$77,2,0)),\"\")","v":""}]
[null,null,{"$f":"IFERROR((VLOOKUP(B209,'Select ECPs'!$B$2:$E$77,4,0)),\"\")","v":""},{"$f":"IFERROR((VLOOKUP(B209,'Select ECPs'!$B$2:$U$77,20,0)),\"\")","v":""},{"$f":"IFERROR((VLOOKUP(B209,'Select ECPs'!$B$2:$E$77,2,0)),\"\")","v":""}]
[null,null,{"$f":"IFERROR((VLOOKUP(B210,'Select ECPs'!$B$2:$E$77,4,0)),\"\")","v":""},{"$f":"IFERROR((VLOOKUP(B210,'Select ECPs'!$B$2:$U$77,20,0)),\"\")","v":""},{"$f":"IFERROR((VLOOKUP(B210,'Select ECPs'!$B$2:$E$77,2,0)),\"\")","v":""}]
[null,null,{"$f":"IFERROR((VLOOKUP(B211,'Select ECPs'!$B$2:$E$77,4,0)),\"\")","v":""},{"$f":"IFERROR((VLOOKUP(B211,'Select ECPs'!$B$2:$U$77,20,0)),\"\")","v":""},{"$f":"IFERROR((VLOOKUP(B211,'Select ECPs'!$B$2:$E$77,2,0)),\"\")","v":""}]
[null,null,{"$f":"IFERROR((VLOOKUP(B212,'Select ECPs'!$B$2:$E$77,4,0)),\"\")","v":""},{"$f":"IFERROR((VLOOKUP(B212,'Select ECPs'!$B$2:$U$77,20,0)),\"\")","v":""},{"$f":"IFERROR((VLOOKUP(B212,'Select ECPs'!$B$2:$E$77,2,0)),\"\")","v":""}]
[null,null,{"$f":"IFERROR((VLOOKUP(B213,'Select ECPs'!$B$2:$E$77,4,0)),\"\")","v":""},{"$f":"IFERROR((VLOOKUP(B213,'Select ECPs'!$B$2:$U$77,20,0)),\"\")","v":""},{"$f":"IFERROR((VLOOKUP(B213,'Select ECPs'!$B$2:$E$77,2,0)),\"\")","v":""}]
[null,null,{"$f":"IFERROR((VLOOKUP(B214,'Select ECPs'!$B$2:$E$77,4,0)),\"\")","v":""},{"$f":"IFERROR((VLOOKUP(B214,'Select ECPs'!$B$2:$U$77,20,0)),\"\")","v":""},{"$f":"IFERROR((VLOOKUP(B214,'Select ECPs'!$B$2:$E$77,2,0)),\"\")","v":""}]
[null,null,{"$f":"IFERROR((VLOOKUP(B215,'Select ECPs'!$B$2:$E$77,4,0)),\"\")","v":""},{"$f":"IFERROR((VLOOKUP(B215,'Select ECPs'!$B$2:$U$77,20,0)),\"\")","v":""},{"$f":"IFERROR((VLOOKUP(B215,'Select ECPs'!$B$2:$E$77,2,0)),\"\")","v":""}]
[null,null,{"$f":"IFERROR((VLOOKUP(B216,'Select ECPs'!$B$2:$E$77,4,0)),\"\")","v":""},{"$f":"IFERROR((VLOOKUP(B216,'Select ECPs'!$B$2:$U$77,20,0)),\"\")","v":""},{"$f":"IFERROR((VLOOKUP(B216,'Select ECPs'!$B$2:$E$77,2,0)),\"\")","v":""}]
[null,null,{"$f":"IFERROR((VLOOKUP(B217,'Select ECPs'!$B$2:$E$77,4,0)),\"\")","v":""},{"$f":"IFERROR((VLOOKUP(B217,'Select ECPs'!$B$2:$U$77,20,0)),\"\")","v":""},{"$f":"IFERROR((VLOOKUP(B217,'Select ECPs'!$B$2:$E$77,2,0)),\"\")","v":""}]
[null,null,{"$f":"IFERROR((VLOOKUP(B218,'Select ECPs'!$B$2:$E$77,4,0)),\"\")","v":""},{"$f":"IFERROR((VLOOKUP(B218,'Select ECPs'!$B$2:$U$77,20,0)),\"\")","v":""},{"$f":"IFERROR((VLOOKUP(B218,'Select ECPs'!$B$2:$E$77,2,0)),\"\")","v":""}]
[null,null,{"$f":"IFERROR((VLOOKUP(B219,'Select ECPs'!$B$2:$E$77,4,0)),\"\")","v":""},{"$f":"IFERROR((VLOOKUP(B219,'Select ECPs'!$B$2:$U$77,20,0)),\"\")","v":""},{"$f":"IFERROR((VLOOKUP(B219,'Select ECPs'!$B$2:$E$77,2,0)),\"\")","v":""}]
[null,null,{"$f":"IFERROR((VLOOKUP(B220,'Select ECPs'!$B$2:$E$77,4,0)),\"\")","v":""},{"$f":"IFERROR((VLOOKUP(B220,'Select ECPs'!$B$2:$U$77,20,0)),\"\")","v":""},{"$f":"IFERROR((VLOOKUP(B220,'Select ECPs'!$B$2:$E$77,2,0)),\"\")","v":""}]
[null,null,{"$f":"IFERROR((VLOOKUP(B221,'Select ECPs'!$B$2:$E$77,4,0)),\"\")","v":""},{"$f":"IFERROR((VLOOKUP(B221,'Select ECPs'!$B$2:$U$77,20,0)),\"\")","v":""},{"$f":"IFERROR((VLOOKUP(B221,'Select ECPs'!$B$2:$E$77,2,0)),\"\")","v":""}]
[null,null,{"$f":"IFERROR((VLOOKUP(B222,'Select ECPs'!$B$2:$E$77,4,0)),\"\")","v":""},{"$f":"IFERROR((VLOOKUP(B222,'Select ECPs'!$B$2:$U$77,20,0)),\"\")","v":""},{"$f":"IFERROR((VLOOKUP(B222,'Select ECPs'!$B$2:$E$77,2,0)),\"\")","v":""}]
[null,null,{"$f":"IFERROR((VLOOKUP(B223,'Select ECPs'!$B$2:$E$77,4,0)),\"\")","v":""},{"$f":"IFERROR((VLOOKUP(B223,'Select ECPs'!$B$2:$U$77,20,0)),\"\")","v":""},{"$f":"IFERROR((VLOOKUP(B223,'Select ECPs'!$B$2:$E$77,2,0)),\"\")","v":""}]
[null,null,{"$f":"IFERROR((VLOOKUP(B224,'Select ECPs'!$B$2:$E$77,4,0)),\"\")","v":""},{"$f":"IFERROR((VLOOKUP(B224,'Select ECPs'!$B$2:$U$77,20,0)),\"\")","v":""},{"$f":"IFERROR((VLOOKUP(B224,'Select ECPs'!$B$2:$E$77,2,0)),\"\")","v":""}]
[null,null,{"$f":"IFERROR((VLOOKUP(B225,'Select ECPs'!$B$2:$E$77,4,0)),\"\")","v":""},{"$f":"IFERROR((VLOOKUP(B225,'Select ECPs'!$B$2:$U$77,20,0)),\"\")","v":""},{"$f":"IFERROR((VLOOKUP(B225,'Select ECPs'!$B$2:$E$77,2,0)),\"\")","v":""}]
[null,null,{"$f":"IFERROR((VLOOKUP(B226,'Select ECPs'!$B$2:$E$77,4,0)),\"\")","v":""},{"$f":"IFERROR((VLOOKUP(B226,'Select ECPs'!$B$2:$U$77,20,0)),\"\")","v":""},{"$f":"IFERROR((VLOOKUP(B226,'Select ECPs'!$B$2:$E$77,2,0)),\"\")","v":""}]
[null,null,{"$f":"IFERROR((VLOOKUP(B227,'Select ECPs'!$B$2:$E$77,4,0)),\"\")","v":""},{"$f":"IFERROR((VLOOKUP(B227,'Select ECPs'!$B$2:$U$77,20,0)),\"\")","v":""},{"$f":"IFERROR((VLOOKUP(B227,'Select ECPs'!$B$2:$E$77,2,0)),\"\")","v":""}]
[null,null,{"$f":"IFERROR((VLOOKUP(B228,'Select ECPs'!$B$2:$E$77,4,0)),\"\")","v":""},{"$f":"IFERROR((VLOOKUP(B228,'Select ECPs'!$B$2:$U$77,20,0)),\"\")","v":""},{"$f":"IFERROR((VLOOKUP(B228,'Select ECPs'!$B$2:$E$77,2,0)),\"\")","v":""}]
[null,null,{"$f":"IFERROR((VLOOKUP(B229,'Select ECPs'!$B$2:$E$77,4,0)),\"\")","v":""},{"$f":"IFERROR((VLOOKUP(B229,'Select ECPs'!$B$2:$U$77,20,0)),\"\")","v":""},{"$f":"IFERROR((VLOOKUP(B229,'Select ECPs'!$B$2:$E$77,2,0)),\"\")","v":""}]
[null,null,{"$f":"IFERROR((VLOOKUP(B230,'Select ECPs'!$B$2:$E$77,4,0)),\"\")","v":""},{"$f":"IFERROR((VLOOKUP(B230,'Select ECPs'!$B$2:$U$77,20,0)),\"\")","v":""},{"$f":"IFERROR((VLOOKUP(B230,'Select ECPs'!$B$2:$E$77,2,0)),\"\")","v":""}]
[null,null,{"$f":"IFERROR((VLOOKUP(B231,'Select ECPs'!$B$2:$E$77,4,0)),\"\")","v":""},{"$f":"IFERROR((VLOOKUP(B231,'Select ECPs'!$B$2:$U$77,20,0)),\"\")","v":""},{"$f":"IFERROR((VLOOKUP(B231,'Select ECPs'!$B$2:$E$77,2,0)),\"\")","v":""}]
[null,null,{"$f":"IFERROR((VLOOKUP(B232,'Select ECPs'!$B$2:$E$77,4,0)),\"\")","v":""},{"$f":"IFERROR((VLOOKUP(B232,'Select ECPs'!$B$2:$U$77,20,0)),\"\")","v":""},{"$f":"IFERROR((VLOOKUP(B232,'Select ECPs'!$B$2:$E$77,2,0)),\"\")","v":""}]
[null,null,{"$f":"IFERROR((VLOOKUP(B233,'Select ECPs'!$B$2:$E$77,4,0)),\"\")","v":""},{"$f":"IFERROR((VLOOKUP(B233,'Select ECPs'!$B$2:$U$77,20,0)),\"\")","v":""},{"$f":"IFERROR((VLOOKUP(B233,'Select ECPs'!$B$2:$E$77,2,0)),\"\")","v":""}]
[null,null,{"$f":"IFERROR((VLOOKUP(B234,'Select ECPs'!$B$2:$E$77,4,0)),\"\")","v":""},{"$f":"IFERROR((VLOOKUP(B234,'Select ECPs'!$B$2:$U$77,20,0)),\"\")","v":""},{"$f":"IFERROR((VLOOKUP(B234,'Select ECPs'!$B$2:$E$77,2,0)),\"\")","v":""}]
[null,null,{"$f":"IFERROR((VLOOKUP(B235,'Select ECPs'!$B$2:$E$77,4,0)),\"\")","v":""},{"$f":"IFERROR((VLOOKUP(B235,'Select ECPs'!$B$2:$U$77,20,0)),\"\")","v":""},{"$f":"IFERROR((VLOOKUP(B235,'Select ECPs'!$B$2:$E$77,2,0)),\"\")","v":""}]
[null,null,{"$f":"IFERROR((VLOOKUP(B236,'Select ECPs'!$B$2:$E$77,4,0)),\"\")","v":""},{"$f":"IFERROR((VLOOKUP(B236,'Select ECPs'!$B$2:$U$77,20,0)),\"\")","v":""},{"$f":"IFERROR((VLOOKUP(B236,'Select ECPs'!$B$2:$E$77,2,0)),\"\")","v":""}]
[null,null,{"$f":"IFERROR((VLOOKUP(B237,'Select ECPs'!$B$2:$E$77,4,0)),\"\")","v":""},{"$f":"IFERROR((VLOOKUP(B237,'Select ECPs'!$B$2:$U$77,20,0)),\"\")","v":""},{"$f":"IFERROR((VLOOKUP(B237,'Select ECPs'!$B$2:$E$77,2,0)),\"\")","v":""}]
[null,null,{"$f":"IFERROR((VLOOKUP(B238,'Select ECPs'!$B$2:$E$77,4,0)),\"\")","v":""},{"$f":"IFERROR((VLOOKUP(B238,'Select ECPs'!$B$2:$U$77,20,0)),\"\")","v":""},{"$f":"IFERROR((VLOOKUP(B238,'Select ECPs'!$B$2:$E$77,2,0)),\"\")","v":""}]
[null,null,{"$f":"IFERROR((VLOOKUP(B239,'Select ECPs'!$B$2:$E$77,4,0)),\"\")","v":""},{"$f":"IFERROR((VLOOKUP(B239,'Select ECPs'!$B$2:$U$77,20,0)),\"\")","v":""},{"$f":"IFERROR((VLOOKUP(B239,'Select ECPs'!$B$2:$E$77,2,0)),\"\")","v":""}]
[null,null,{"$f":"IFERROR((VLOOKUP(B240,'Select ECPs'!$B$2:$E$77,4,0)),\"\")","v":""},{"$f":"IFERROR((VLOOKUP(B240,'Select ECPs'!$B$2:$U$77,20,0)),\"\")","v":""},{"$f":"IFERROR((VLOOKUP(B240,'Select ECPs'!$B$2:$E$77,2,0)),\"\")","v":""}]
[null,null,{"$f":"IFERROR((VLOOKUP(B241,'Select ECPs'!$B$2:$E$77,4,0)),\"\")","v":""},{"$f":"IFERROR((VLOOKUP(B241,'Select ECPs'!$B$2:$U$77,20,0)),\"\")","v":""},{"$f":"IFERROR((VLOOKUP(B241,'Select ECPs'!$B$2:$E$77,2,0)),\"\")","v":""}]
[null,null,{"$f":"IFERROR((VLOOKUP(B242,'Select ECPs'!$B$2:$E$77,4,0)),\"\")","v":""},{"$f":"IFERROR((VLOOKUP(B242,'Select ECPs'!$B$2:$U$77,20,0)),\"\")","v":""},{"$f":"IFERROR((VLOOKUP(B242,'Select ECPs'!$B$2:$E$77,2,0)),\"\")","v":""}]
[null,null,{"$f":"IFERROR((VLOOKUP(B243,'Select ECPs'!$B$2:$E$77,4,0)),\"\")","v":""},{"$f":"IFERROR((VLOOKUP(B243,'Select ECPs'!$B$2:$U$77,20,0)),\"\")","v":""},{"$f":"IFERROR((VLOOKUP(B243,'Select ECPs'!$B$2:$E$77,2,0)),\"\")","v":""}]
[null,null,{"$f":"IFERROR((VLOOKUP(B244,'Select ECPs'!$B$2:$E$77,4,0)),\"\")","v":""},{"$f":"IFERROR((VLOOKUP(B244,'Select ECPs'!$B$2:$U$77,20,0)),\"\")","v":""},{"$f":"IFERROR((VLOOKUP(B244,'Select ECPs'!$B$2:$E$77,2,0)),\"\")","v":""}]
[null,null,{"$f":"IFERROR((VLOOKUP(B245,'Select ECPs'!$B$2:$E$77,4,0)),\"\")","v":""},{"$f":"IFERROR((VLOOKUP(B245,'Select ECPs'!$B$2:$U$77,20,0)),\"\")","v":""},{"$f":"IFERROR((VLOOKUP(B245,'Select ECPs'!$B$2:$E$77,2,0)),\"\")","v":""}]
[null,null,{"$f":"IFERROR((VLOOKUP(B246,'Select ECPs'!$B$2:$E$77,4,0)),\"\")","v":""},{"$f":"IFERROR((VLOOKUP(B246,'Select ECPs'!$B$2:$U$77,20,0)),\"\")","v":""},{"$f":"IFERROR((VLOOKUP(B246,'Select ECPs'!$B$2:$E$77,2,0)),\"\")","v":""}]
[null,null,{"$f":"IFERROR((VLOOKUP(B247,'Select ECPs'!$B$2:$E$77,4,0)),\"\")","v":""},{"$f":"IFERROR((VLOOKUP(B247,'Select ECPs'!$B$2:$U$77,20,0)),\"\")","v":""},{"$f":"IFERROR((VLOOKUP(B247,'Select ECPs'!$B$2:$E$77,2,0)),\"\")","v":""}]
[null,null,{"$f":"IFERROR((VLOOKUP(B248,'Select ECPs'!$B$2:$E$77,4,0)),\"\")","v":""},{"$f":"IFERROR((VLOOKUP(B248,'Select ECPs'!$B$2:$U$77,20,0)),\"\")","v":""},{"$f":"IFERROR((VLOOKUP(B248,'Select ECPs'!$B$2:$E$77,2,0)),\"\")","v":""}]
[null,null,{"$f":"IFERROR((VLOOKUP(B249,'Select ECPs'!$B$2:$E$77,4,0)),\"\")","v":""},{"$f":"IFERROR((VLOOKUP(B249,'Select ECPs'!$B$2:$U$77,20,0)),\"\")","v":""},{"$f":"IFERROR((VLOOKUP(B249,'Select ECPs'!$B$2:$E$77,2,0)),\"\")","v":""}]
[null,null,{"$f":"IFERROR((VLOOKUP(B250,'Select ECPs'!$B$2:$E$77,4,0)),\"\")","v":""},{"$f":"IFERROR((VLOOKUP(B250,'Select ECPs'!$B$2:$U$77,20,0)),\"\")","v":""},{"$f":"IFERROR((VLOOKUP(B250,'Select ECPs'!$B$2:$E$77,2,0)),\"\")","v":""}]
[null,null,{"$f":"IFERROR((VLOOKUP(B251,'Select ECPs'!$B$2:$E$77,4,0)),\"\")","v":""},{"$f":"IFERROR((VLOOKUP(B251,'Select ECPs'!$B$2:$U$77,20,0)),\"\")","v":""},{"$f":"IFERROR((VLOOKUP(B251,'Select ECPs'!$B$2:$E$77,2,0)),\"\")","v":""}]
[null,null,{"$f":"IFERROR((VLOOKUP(B252,'Select ECPs'!$B$2:$E$77,4,0)),\"\")","v":""},{"$f":"IFERROR((VLOOKUP(B252,'Select ECPs'!$B$2:$U$77,20,0)),\"\")","v":""},{"$f":"IFERROR((VLOOKUP(B252,'Select ECPs'!$B$2:$E$77,2,0)),\"\")","v":""}]
[null,null,{"$f":"IFERROR((VLOOKUP(B253,'Select ECPs'!$B$2:$E$77,4,0)),\"\")","v":""},{"$f":"IFERROR((VLOOKUP(B253,'Select ECPs'!$B$2:$U$77,20,0)),\"\")","v":""},{"$f":"IFERROR((VLOOKUP(B253,'Select ECPs'!$B$2:$E$77,2,0)),\"\")","v":""}]
[null,null,{"$f":"IFERROR((VLOOKUP(B254,'Select ECPs'!$B$2:$E$77,4,0)),\"\")","v":""},{"$f":"IFERROR((VLOOKUP(B254,'Select ECPs'!$B$2:$U$77,20,0)),\"\")","v":""},{"$f":"IFERROR((VLOOKUP(B254,'Select ECPs'!$B$2:$E$77,2,0)),\"\")","v":""}]
[null,null,{"$f":"IFERROR((VLOOKUP(B255,'Select ECPs'!$B$2:$E$77,4,0)),\"\")","v":""},{"$f":"IFERROR((VLOOKUP(B255,'Select ECPs'!$B$2:$U$77,20,0)),\"\")","v":""},{"$f":"IFERROR((VLOOKUP(B255,'Select ECPs'!$B$2:$E$77,2,0)),\"\")","v":""}]
[null,null,{"$f":"IFERROR((VLOOKUP(B256,'Select ECPs'!$B$2:$E$77,4,0)),\"\")","v":""},{"$f":"IFERROR((VLOOKUP(B256,'Select ECPs'!$B$2:$U$77,20,0)),\"\")","v":""},{"$f":"IFERROR((VLOOKUP(B256,'Select ECPs'!$B$2:$E$77,2,0)),\"\")","v":""}]
[null,null,{"$f":"IFERROR((VLOOKUP(B257,'Select ECPs'!$B$2:$E$77,4,0)),\"\")","v":""},{"$f":"IFERROR((VLOOKUP(B257,'Select ECPs'!$B$2:$U$77,20,0)),\"\")","v":""},{"$f":"IFERROR((VLOOKUP(B257,'Select ECPs'!$B$2:$E$77,2,0)),\"\")","v":""}]
[null,null,{"$f":"IFERROR((VLOOKUP(B258,'Select ECPs'!$B$2:$E$77,4,0)),\"\")","v":""},{"$f":"IFERROR((VLOOKUP(B258,'Select ECPs'!$B$2:$U$77,20,0)),\"\")","v":""},{"$f":"IFERROR((VLOOKUP(B258,'Select ECPs'!$B$2:$E$77,2,0)),\"\")","v":""}]
[null,null,{"$f":"IFERROR((VLOOKUP(B259,'Select ECPs'!$B$2:$E$77,4,0)),\"\")","v":""},{"$f":"IFERROR((VLOOKUP(B259,'Select ECPs'!$B$2:$U$77,20,0)),\"\")","v":""},{"$f":"IFERROR((VLOOKUP(B259,'Select ECPs'!$B$2:$E$77,2,0)),\"\")","v":""}]
[null,null,{"$f":"IFERROR((VLOOKUP(B260,'Select ECPs'!$B$2:$E$77,4,0)),\"\")","v":""},{"$f":"IFERROR((VLOOKUP(B260,'Select ECPs'!$B$2:$U$77,20,0)),\"\")","v":""},{"$f":"IFERROR((VLOOKUP(B260,'Select ECPs'!$B$2:$E$77,2,0)),\"\")","v":""}]
[null,null,{"$f":"IFERROR((VLOOKUP(B261,'Select ECPs'!$B$2:$E$77,4,0)),\"\")","v":""},{"$f":"IFERROR((VLOOKUP(B261,'Select ECPs'!$B$2:$U$77,20,0)),\"\")","v":""},{"$f":"IFERROR((VLOOKUP(B261,'Select ECPs'!$B$2:$E$77,2,0)),\"\")","v":""}]
[null,null,{"$f":"IFERROR((VLOOKUP(B262,'Select ECPs'!$B$2:$E$77,4,0)),\"\")","v":""},{"$f":"IFERROR((VLOOKUP(B262,'Select ECPs'!$B$2:$U$77,20,0)),\"\")","v":""},{"$f":"IFERROR((VLOOKUP(B262,'Select ECPs'!$B$2:$E$77,2,0)),\"\")","v":""}]
[null,null,{"$f":"IFERROR((VLOOKUP(B263,'Select ECPs'!$B$2:$E$77,4,0)),\"\")","v":""},{"$f":"IFERROR((VLOOKUP(B263,'Select ECPs'!$B$2:$U$77,20,0)),\"\")","v":""},{"$f":"IFERROR((VLOOKUP(B263,'Select ECPs'!$B$2:$E$77,2,0)),\"\")","v":""}]
[null,null,{"$f":"IFERROR((VLOOKUP(B264,'Select ECPs'!$B$2:$E$77,4,0)),\"\")","v":""},{"$f":"IFERROR((VLOOKUP(B264,'Select ECPs'!$B$2:$U$77,20,0)),\"\")","v":""},{"$f":"IFERROR((VLOOKUP(B264,'Select ECPs'!$B$2:$E$77,2,0)),\"\")","v":""}]
[null,null,{"$f":"IFERROR((VLOOKUP(B265,'Select ECPs'!$B$2:$E$77,4,0)),\"\")","v":""},{"$f":"IFERROR((VLOOKUP(B265,'Select ECPs'!$B$2:$U$77,20,0)),\"\")","v":""},{"$f":"IFERROR((VLOOKUP(B265,'Select ECPs'!$B$2:$E$77,2,0)),\"\")","v":""}]
[null,null,{"$f":"IFERROR((VLOOKUP(B266,'Select ECPs'!$B$2:$E$77,4,0)),\"\")","v":""},{"$f":"IFERROR((VLOOKUP(B266,'Select ECPs'!$B$2:$U$77,20,0)),\"\")","v":""},{"$f":"IFERROR((VLOOKUP(B266,'Select ECPs'!$B$2:$E$77,2,0)),\"\")","v":""}]
[null,null,{"$f":"IFERROR((VLOOKUP(B267,'Select ECPs'!$B$2:$E$77,4,0)),\"\")","v":""},{"$f":"IFERROR((VLOOKUP(B267,'Select ECPs'!$B$2:$U$77,20,0)),\"\")","v":""},{"$f":"IFERROR((VLOOKUP(B267,'Select ECPs'!$B$2:$E$77,2,0)),\"\")","v":""}]
[null,null,{"$f":"IFERROR((VLOOKUP(B268,'Select ECPs'!$B$2:$E$77,4,0)),\"\")","v":""},{"$f":"IFERROR((VLOOKUP(B268,'Select ECPs'!$B$2:$U$77,20,0)),\"\")","v":""},{"$f":"IFERROR((VLOOKUP(B268,'Select ECPs'!$B$2:$E$77,2,0)),\"\")","v":""}]
[null,null,{"$f":"IFERROR((VLOOKUP(B269,'Select ECPs'!$B$2:$E$77,4,0)),\"\")","v":""},{"$f":"IFERROR((VLOOKUP(B269,'Select ECPs'!$B$2:$U$77,20,0)),\"\")","v":""},{"$f":"IFERROR((VLOOKUP(B269,'Select ECPs'!$B$2:$E$77,2,0)),\"\")","v":""}]
[null,null,{"$f":"IFERROR((VLOOKUP(B270,'Select ECPs'!$B$2:$E$77,4,0)),\"\")","v":""},{"$f":"IFERROR((VLOOKUP(B270,'Select ECPs'!$B$2:$U$77,20,0)),\"\")","v":""},{"$f":"IFERROR((VLOOKUP(B270,'Select ECPs'!$B$2:$E$77,2,0)),\"\")","v":""}]
[null,null,{"$f":"IFERROR((VLOOKUP(B271,'Select ECPs'!$B$2:$E$77,4,0)),\"\")","v":""},{"$f":"IFERROR((VLOOKUP(B271,'Select ECPs'!$B$2:$U$77,20,0)),\"\")","v":""},{"$f":"IFERROR((VLOOKUP(B271,'Select ECPs'!$B$2:$E$77,2,0)),\"\")","v":""}]
[null,null,{"$f":"IFERROR((VLOOKUP(B272,'Select ECPs'!$B$2:$E$77,4,0)),\"\")","v":""},{"$f":"IFERROR((VLOOKUP(B272,'Select ECPs'!$B$2:$U$77,20,0)),\"\")","v":""},{"$f":"IFERROR((VLOOKUP(B272,'Select ECPs'!$B$2:$E$77,2,0)),\"\")","v":""}]
[null,null,{"$f":"IFERROR((VLOOKUP(B273,'Select ECPs'!$B$2:$E$77,4,0)),\"\")","v":""},{"$f":"IFERROR((VLOOKUP(B273,'Select ECPs'!$B$2:$U$77,20,0)),\"\")","v":""},{"$f":"IFERROR((VLOOKUP(B273,'Select ECPs'!$B$2:$E$77,2,0)),\"\")","v":""}]
[null,null,{"$f":"IFERROR((VLOOKUP(B274,'Select ECPs'!$B$2:$E$77,4,0)),\"\")","v":""},{"$f":"IFERROR((VLOOKUP(B274,'Select ECPs'!$B$2:$U$77,20,0)),\"\")","v":""},{"$f":"IFERROR((VLOOKUP(B274,'Select ECPs'!$B$2:$E$77,2,0)),\"\")","v":""}]
[null,null,{"$f":"IFERROR((VLOOKUP(B275,'Select ECPs'!$B$2:$E$77,4,0)),\"\")","v":""},{"$f":"IFERROR((VLOOKUP(B275,'Select ECPs'!$B$2:$U$77,20,0)),\"\")","v":""},{"$f":"IFERROR((VLOOKUP(B275,'Select ECPs'!$B$2:$E$77,2,0)),\"\")","v":""}]
[null,null,{"$f":"IFERROR((VLOOKUP(B276,'Select ECPs'!$B$2:$E$77,4,0)),\"\")","v":""},{"$f":"IFERROR((VLOOKUP(B276,'Select ECPs'!$B$2:$U$77,20,0)),\"\")","v":""},{"$f":"IFERROR((VLOOKUP(B276,'Select ECPs'!$B$2:$E$77,2,0)),\"\")","v":""}]
[null,null,{"$f":"IFERROR((VLOOKUP(B277,'Select ECPs'!$B$2:$E$77,4,0)),\"\")","v":""},{"$f":"IFERROR((VLOOKUP(B277,'Select ECPs'!$B$2:$U$77,20,0)),\"\")","v":""},{"$f":"IFERROR((VLOOKUP(B277,'Select ECPs'!$B$2:$E$77,2,0)),\"\")","v":""}]
[null,null,{"$f":"IFERROR((VLOOKUP(B278,'Select ECPs'!$B$2:$E$77,4,0)),\"\")","v":""},{"$f":"IFERROR((VLOOKUP(B278,'Select ECPs'!$B$2:$U$77,20,0)),\"\")","v":""},{"$f":"IFERROR((VLOOKUP(B278,'Select ECPs'!$B$2:$E$77,2,0)),\"\")","v":""}]
[null,null,{"$f":"IFERROR((VLOOKUP(B279,'Select ECPs'!$B$2:$E$77,4,0)),\"\")","v":""},{"$f":"IFERROR((VLOOKUP(B279,'Select ECPs'!$B$2:$U$77,20,0)),\"\")","v":""},{"$f":"IFERROR((VLOOKUP(B279,'Select ECPs'!$B$2:$E$77,2,0)),\"\")","v":""}]
[null,null,{"$f":"IFERROR((VLOOKUP(B280,'Select ECPs'!$B$2:$E$77,4,0)),\"\")","v":""},{"$f":"IFERROR((VLOOKUP(B280,'Select ECPs'!$B$2:$U$77,20,0)),\"\")","v":""},{"$f":"IFERROR((VLOOKUP(B280,'Select ECPs'!$B$2:$E$77,2,0)),\"\")","v":""}]
[null,null,{"$f":"IFERROR((VLOOKUP(B281,'Select ECPs'!$B$2:$E$77,4,0)),\"\")","v":""},{"$f":"IFERROR((VLOOKUP(B281,'Select ECPs'!$B$2:$U$77,20,0)),\"\")","v":""},{"$f":"IFERROR((VLOOKUP(B281,'Select ECPs'!$B$2:$E$77,2,0)),\"\")","v":""}]
[null,null,{"$f":"IFERROR((VLOOKUP(B282,'Select ECPs'!$B$2:$E$77,4,0)),\"\")","v":""},{"$f":"IFERROR((VLOOKUP(B282,'Select ECPs'!$B$2:$U$77,20,0)),\"\")","v":""},{"$f":"IFERROR((VLOOKUP(B282,'Select ECPs'!$B$2:$E$77,2,0)),\"\")","v":""}]
[null,null,{"$f":"IFERROR((VLOOKUP(B283,'Select ECPs'!$B$2:$E$77,4,0)),\"\")","v":""},{"$f":"IFERROR((VLOOKUP(B283,'Select ECPs'!$B$2:$U$77,20,0)),\"\")","v":""},{"$f":"IFERROR((VLOOKUP(B283,'Select ECPs'!$B$2:$E$77,2,0)),\"\")","v":""}]
[null,null,{"$f":"IFERROR((VLOOKUP(B284,'Select ECPs'!$B$2:$E$77,4,0)),\"\")","v":""},{"$f":"IFERROR((VLOOKUP(B284,'Select ECPs'!$B$2:$U$77,20,0)),\"\")","v":""},{"$f":"IFERROR((VLOOKUP(B284,'Select ECPs'!$B$2:$E$77,2,0)),\"\")","v":""}]
[null,null,{"$f":"IFERROR((VLOOKUP(B285,'Select ECPs'!$B$2:$E$77,4,0)),\"\")","v":""},{"$f":"IFERROR((VLOOKUP(B285,'Select ECPs'!$B$2:$U$77,20,0)),\"\")","v":""},{"$f":"IFERROR((VLOOKUP(B285,'Select ECPs'!$B$2:$E$77,2,0)),\"\")","v":""}]
[null,null,{"$f":"IFERROR((VLOOKUP(B286,'Select ECPs'!$B$2:$E$77,4,0)),\"\")","v":""},{"$f":"IFERROR((VLOOKUP(B286,'Select ECPs'!$B$2:$U$77,20,0)),\"\")","v":""},{"$f":"IFERROR((VLOOKUP(B286,'Select ECPs'!$B$2:$E$77,2,0)),\"\")","v":""}]
[null,null,{"$f":"IFERROR((VLOOKUP(B287,'Select ECPs'!$B$2:$E$77,4,0)),\"\")","v":""},{"$f":"IFERROR((VLOOKUP(B287,'Select ECPs'!$B$2:$U$77,20,0)),\"\")","v":""},{"$f":"IFERROR((VLOOKUP(B287,'Select ECPs'!$B$2:$E$77,2,0)),\"\")","v":""}]
[null,null,{"$f":"IFERROR((VLOOKUP(B288,'Select ECPs'!$B$2:$E$77,4,0)),\"\")","v":""},{"$f":"IFERROR((VLOOKUP(B288,'Select ECPs'!$B$2:$U$77,20,0)),\"\")","v":""},{"$f":"IFERROR((VLOOKUP(B288,'Select ECPs'!$B$2:$E$77,2,0)),\"\")","v":""}]
[null,null,{"$f":"IFERROR((VLOOKUP(B289,'Select ECPs'!$B$2:$E$77,4,0)),\"\")","v":""},{"$f":"IFERROR((VLOOKUP(B289,'Select ECPs'!$B$2:$U$77,20,0)),\"\")","v":""},{"$f":"IFERROR((VLOOKUP(B289,'Select ECPs'!$B$2:$E$77,2,0)),\"\")","v":""}]
[null,null,{"$f":"IFERROR((VLOOKUP(B290,'Select ECPs'!$B$2:$E$77,4,0)),\"\")","v":""},{"$f":"IFERROR((VLOOKUP(B290,'Select ECPs'!$B$2:$U$77,20,0)),\"\")","v":""},{"$f":"IFERROR((VLOOKUP(B290,'Select ECPs'!$B$2:$E$77,2,0)),\"\")","v":""}]
[null,null,{"$f":"IFERROR((VLOOKUP(B291,'Select ECPs'!$B$2:$E$77,4,0)),\"\")","v":""},{"$f":"IFERROR((VLOOKUP(B291,'Select ECPs'!$B$2:$U$77,20,0)),\"\")","v":""},{"$f":"IFERROR((VLOOKUP(B291,'Select ECPs'!$B$2:$E$77,2,0)),\"\")","v":""}]
[null,null,{"$f":"IFERROR((VLOOKUP(B292,'Select ECPs'!$B$2:$E$77,4,0)),\"\")","v":""},{"$f":"IFERROR((VLOOKUP(B292,'Select ECPs'!$B$2:$U$77,20,0)),\"\")","v":""},{"$f":"IFERROR((VLOOKUP(B292,'Select ECPs'!$B$2:$E$77,2,0)),\"\")","v":""}]
[null,null,{"$f":"IFERROR((VLOOKUP(B293,'Select ECPs'!$B$2:$E$77,4,0)),\"\")","v":""},{"$f":"IFERROR((VLOOKUP(B293,'Select ECPs'!$B$2:$U$77,20,0)),\"\")","v":""},{"$f":"IFERROR((VLOOKUP(B293,'Select ECPs'!$B$2:$E$77,2,0)),\"\")","v":""}]
[null,null,{"$f":"IFERROR((VLOOKUP(B294,'Select ECPs'!$B$2:$E$77,4,0)),\"\")","v":""},{"$f":"IFERROR((VLOOKUP(B294,'Select ECPs'!$B$2:$U$77,20,0)),\"\")","v":""},{"$f":"IFERROR((VLOOKUP(B294,'Select ECPs'!$B$2:$E$77,2,0)),\"\")","v":""}]
[null,null,{"$f":"IFERROR((VLOOKUP(B295,'Select ECPs'!$B$2:$E$77,4,0)),\"\")","v":""},{"$f":"IFERROR((VLOOKUP(B295,'Select ECPs'!$B$2:$U$77,20,0)),\"\")","v":""},{"$f":"IFERROR((VLOOKUP(B295,'Select ECPs'!$B$2:$E$77,2,0)),\"\")","v":""}]
[null,null,{"$f":"IFERROR((VLOOKUP(B296,'Select ECPs'!$B$2:$E$77,4,0)),\"\")","v":""},{"$f":"IFERROR((VLOOKUP(B296,'Select ECPs'!$B$2:$U$77,20,0)),\"\")","v":""},{"$f":"IFERROR((VLOOKUP(B296,'Select ECPs'!$B$2:$E$77,2,0)),\"\")","v":""}]
[null,null,{"$f":"IFERROR((VLOOKUP(B297,'Select ECPs'!$B$2:$E$77,4,0)),\"\")","v":""},{"$f":"IFERROR((VLOOKUP(B297,'Select ECPs'!$B$2:$U$77,20,0)),\"\")","v":""},{"$f":"IFERROR((VLOOKUP(B297,'Select ECPs'!$B$2:$E$77,2,0)),\"\")","v":""}]
[null,null,{"$f":"IFERROR((VLOOKUP(B298,'Select ECPs'!$B$2:$E$77,4,0)),\"\")","v":""},{"$f":"IFERROR((VLOOKUP(B298,'Select ECPs'!$B$2:$U$77,20,0)),\"\")","v":""},{"$f":"IFERROR((VLOOKUP(B298,'Select ECPs'!$B$2:$E$77,2,0)),\"\")","v":""}]
[null,null,{"$f":"IFERROR((VLOOKUP(B299,'Select ECPs'!$B$2:$E$77,4,0)),\"\")","v":""},{"$f":"IFERROR((VLOOKUP(B299,'Select ECPs'!$B$2:$U$77,20,0)),\"\")","v":""},{"$f":"IFERROR((VLOOKUP(B299,'Select ECPs'!$B$2:$E$77,2,0)),\"\")","v":""}]
[null,null,{"$f":"IFERROR((VLOOKUP(B300,'Select ECPs'!$B$2:$E$77,4,0)),\"\")","v":""},{"$f":"IFERROR((VLOOKUP(B300,'Select ECPs'!$B$2:$U$77,20,0)),\"\")","v":""},{"$f":"IFERROR((VLOOKUP(B300,'Select ECPs'!$B$2:$E$77,2,0)),\"\")","v":""}]
[null,null,{"$f":"IFERROR((VLOOKUP(B301,'Select ECPs'!$B$2:$E$77,4,0)),\"\")","v":""},{"$f":"IFERROR((VLOOKUP(B301,'Select ECPs'!$B$2:$U$77,20,0)),\"\")","v":""},{"$f":"IFERROR((VLOOKUP(B301,'Select ECPs'!$B$2:$E$77,2,0)),\"\")","v":""}]
[null,null,{"$f":"IFERROR((VLOOKUP(B302,'Select ECPs'!$B$2:$E$77,4,0)),\"\")","v":""},{"$f":"IFERROR((VLOOKUP(B302,'Select ECPs'!$B$2:$U$77,20,0)),\"\")","v":""},{"$f":"IFERROR((VLOOKUP(B302,'Select ECPs'!$B$2:$E$77,2,0)),\"\")","v":""}]
[null,null,{"$f":"IFERROR((VLOOKUP(B303,'Select ECPs'!$B$2:$E$77,4,0)),\"\")","v":""},{"$f":"IFERROR((VLOOKUP(B303,'Select ECPs'!$B$2:$U$77,20,0)),\"\")","v":""},{"$f":"IFERROR((VLOOKUP(B303,'Select ECPs'!$B$2:$E$77,2,0)),\"\")","v":""}]
[null,null,{"$f":"IFERROR((VLOOKUP(B304,'Select ECPs'!$B$2:$E$77,4,0)),\"\")","v":""},{"$f":"IFERROR((VLOOKUP(B304,'Select ECPs'!$B$2:$U$77,20,0)),\"\")","v":""},{"$f":"IFERROR((VLOOKUP(B304,'Select ECPs'!$B$2:$E$77,2,0)),\"\")","v":""}]
[null,null,{"$f":"IFERROR((VLOOKUP(B305,'Select ECPs'!$B$2:$E$77,4,0)),\"\")","v":""},{"$f":"IFERROR((VLOOKUP(B305,'Select ECPs'!$B$2:$U$77,20,0)),\"\")","v":""},{"$f":"IFERROR((VLOOKUP(B305,'Select ECPs'!$B$2:$E$77,2,0)),\"\")","v":""}]
[null,null,{"$f":"IFERROR((VLOOKUP(B306,'Select ECPs'!$B$2:$E$77,4,0)),\"\")","v":""},{"$f":"IFERROR((VLOOKUP(B306,'Select ECPs'!$B$2:$U$77,20,0)),\"\")","v":""},{"$f":"IFERROR((VLOOKUP(B306,'Select ECPs'!$B$2:$E$77,2,0)),\"\")","v":""}]
[null,null,{"$f":"IFERROR((VLOOKUP(B307,'Select ECPs'!$B$2:$E$77,4,0)),\"\")","v":""},{"$f":"IFERROR((VLOOKUP(B307,'Select ECPs'!$B$2:$U$77,20,0)),\"\")","v":""},{"$f":"IFERROR((VLOOKUP(B307,'Select ECPs'!$B$2:$E$77,2,0)),\"\")","v":""}]
[null,null,{"$f":"IFERROR((VLOOKUP(B308,'Select ECPs'!$B$2:$E$77,4,0)),\"\")","v":""},{"$f":"IFERROR((VLOOKUP(B308,'Select ECPs'!$B$2:$U$77,20,0)),\"\")","v":""},{"$f":"IFERROR((VLOOKUP(B308,'Select ECPs'!$B$2:$E$77,2,0)),\"\")","v":""}]
[null,null,{"$f":"IFERROR((VLOOKUP(B309,'Select ECPs'!$B$2:$E$77,4,0)),\"\")","v":""},{"$f":"IFERROR((VLOOKUP(B309,'Select ECPs'!$B$2:$U$77,20,0)),\"\")","v":""},{"$f":"IFERROR((VLOOKUP(B309,'Select ECPs'!$B$2:$E$77,2,0)),\"\")","v":""}]
[null,null,{"$f":"IFERROR((VLOOKUP(B310,'Select ECPs'!$B$2:$E$77,4,0)),\"\")","v":""},{"$f":"IFERROR((VLOOKUP(B310,'Select ECPs'!$B$2:$U$77,20,0)),\"\")","v":""},{"$f":"IFERROR((VLOOKUP(B310,'Select ECPs'!$B$2:$E$77,2,0)),\"\")","v":""}]
[null,null,{"$f":"IFERROR((VLOOKUP(B311,'Select ECPs'!$B$2:$E$77,4,0)),\"\")","v":""},{"$f":"IFERROR((VLOOKUP(B311,'Select ECPs'!$B$2:$U$77,20,0)),\"\")","v":""},{"$f":"IFERROR((VLOOKUP(B311,'Select ECPs'!$B$2:$E$77,2,0)),\"\")","v":""}]
[null,null,{"$f":"IFERROR((VLOOKUP(B312,'Select ECPs'!$B$2:$E$77,4,0)),\"\")","v":""},{"$f":"IFERROR((VLOOKUP(B312,'Select ECPs'!$B$2:$U$77,20,0)),\"\")","v":""},{"$f":"IFERROR((VLOOKUP(B312,'Select ECPs'!$B$2:$E$77,2,0)),\"\")","v":""}]
[null,null,{"$f":"IFERROR((VLOOKUP(B313,'Select ECPs'!$B$2:$E$77,4,0)),\"\")","v":""},{"$f":"IFERROR((VLOOKUP(B313,'Select ECPs'!$B$2:$U$77,20,0)),\"\")","v":""},{"$f":"IFERROR((VLOOKUP(B313,'Select ECPs'!$B$2:$E$77,2,0)),\"\")","v":""}]
[null,null,{"$f":"IFERROR((VLOOKUP(B314,'Select ECPs'!$B$2:$E$77,4,0)),\"\")","v":""},{"$f":"IFERROR((VLOOKUP(B314,'Select ECPs'!$B$2:$U$77,20,0)),\"\")","v":""},{"$f":"IFERROR((VLOOKUP(B314,'Select ECPs'!$B$2:$E$77,2,0)),\"\")","v":""}]
[null,null,{"$f":"IFERROR((VLOOKUP(B315,'Select ECPs'!$B$2:$E$77,4,0)),\"\")","v":""},{"$f":"IFERROR((VLOOKUP(B315,'Select ECPs'!$B$2:$U$77,20,0)),\"\")","v":""},{"$f":"IFERROR((VLOOKUP(B315,'Select ECPs'!$B$2:$E$77,2,0)),\"\")","v":""}]
[null,null,{"$f":"IFERROR((VLOOKUP(B316,'Select ECPs'!$B$2:$E$77,4,0)),\"\")","v":""},{"$f":"IFERROR((VLOOKUP(B316,'Select ECPs'!$B$2:$U$77,20,0)),\"\")","v":""},{"$f":"IFERROR((VLOOKUP(B316,'Select ECPs'!$B$2:$E$77,2,0)),\"\")","v":""}]
[null,null,{"$f":"IFERROR((VLOOKUP(B317,'Select ECPs'!$B$2:$E$77,4,0)),\"\")","v":""},{"$f":"IFERROR((VLOOKUP(B317,'Select ECPs'!$B$2:$U$77,20,0)),\"\")","v":""},{"$f":"IFERROR((VLOOKUP(B317,'Select ECPs'!$B$2:$E$77,2,0)),\"\")","v":""}]
[null,null,{"$f":"IFERROR((VLOOKUP(B318,'Select ECPs'!$B$2:$E$77,4,0)),\"\")","v":""},{"$f":"IFERROR((VLOOKUP(B318,'Select ECPs'!$B$2:$U$77,20,0)),\"\")","v":""},{"$f":"IFERROR((VLOOKUP(B318,'Select ECPs'!$B$2:$E$77,2,0)),\"\")","v":""}]
[null,null,{"$f":"IFERROR((VLOOKUP(B319,'Select ECPs'!$B$2:$E$77,4,0)),\"\")","v":""},{"$f":"IFERROR((VLOOKUP(B319,'Select ECPs'!$B$2:$U$77,20,0)),\"\")","v":""},{"$f":"IFERROR((VLOOKUP(B319,'Select ECPs'!$B$2:$E$77,2,0)),\"\")","v":""}]
[null,null,{"$f":"IFERROR((VLOOKUP(B320,'Select ECPs'!$B$2:$E$77,4,0)),\"\")","v":""},{"$f":"IFERROR((VLOOKUP(B320,'Select ECPs'!$B$2:$U$77,20,0)),\"\")","v":""},{"$f":"IFERROR((VLOOKUP(B320,'Select ECPs'!$B$2:$E$77,2,0)),\"\")","v":""}]
[null,null,{"$f":"IFERROR((VLOOKUP(B321,'Select ECPs'!$B$2:$E$77,4,0)),\"\")","v":""},{"$f":"IFERROR((VLOOKUP(B321,'Select ECPs'!$B$2:$U$77,20,0)),\"\")","v":""},{"$f":"IFERROR((VLOOKUP(B321,'Select ECPs'!$B$2:$E$77,2,0)),\"\")","v":""}]
[null,null,{"$f":"IFERROR((VLOOKUP(B322,'Select ECPs'!$B$2:$E$77,4,0)),\"\")","v":""},{"$f":"IFERROR((VLOOKUP(B322,'Select ECPs'!$B$2:$U$77,20,0)),\"\")","v":""},{"$f":"IFERROR((VLOOKUP(B322,'Select ECPs'!$B$2:$E$77,2,0)),\"\")","v":""}]
[null,null,{"$f":"IFERROR((VLOOKUP(B323,'Select ECPs'!$B$2:$E$77,4,0)),\"\")","v":""},{"$f":"IFERROR((VLOOKUP(B323,'Select ECPs'!$B$2:$U$77,20,0)),\"\")","v":""},{"$f":"IFERROR((VLOOKUP(B323,'Select ECPs'!$B$2:$E$77,2,0)),\"\")","v":""}]
[null,null,{"$f":"IFERROR((VLOOKUP(B324,'Select ECPs'!$B$2:$E$77,4,0)),\"\")","v":""},{"$f":"IFERROR((VLOOKUP(B324,'Select ECPs'!$B$2:$U$77,20,0)),\"\")","v":""},{"$f":"IFERROR((VLOOKUP(B324,'Select ECPs'!$B$2:$E$77,2,0)),\"\")","v":""}]
[null,null,{"$f":"IFERROR((VLOOKUP(B325,'Select ECPs'!$B$2:$E$77,4,0)),\"\")","v":""},{"$f":"IFERROR((VLOOKUP(B325,'Select ECPs'!$B$2:$U$77,20,0)),\"\")","v":""},{"$f":"IFERROR((VLOOKUP(B325,'Select ECPs'!$B$2:$E$77,2,0)),\"\")","v":""}]
[null,null,{"$f":"IFERROR((VLOOKUP(B326,'Select ECPs'!$B$2:$E$77,4,0)),\"\")","v":""},{"$f":"IFERROR((VLOOKUP(B326,'Select ECPs'!$B$2:$U$77,20,0)),\"\")","v":""},{"$f":"IFERROR((VLOOKUP(B326,'Select ECPs'!$B$2:$E$77,2,0)),\"\")","v":""}]
[null,null,{"$f":"IFERROR((VLOOKUP(B327,'Select ECPs'!$B$2:$E$77,4,0)),\"\")","v":""},{"$f":"IFERROR((VLOOKUP(B327,'Select ECPs'!$B$2:$U$77,20,0)),\"\")","v":""},{"$f":"IFERROR((VLOOKUP(B327,'Select ECPs'!$B$2:$E$77,2,0)),\"\")","v":""}]
[null,null,{"$f":"IFERROR((VLOOKUP(B328,'Select ECPs'!$B$2:$E$77,4,0)),\"\")","v":""},{"$f":"IFERROR((VLOOKUP(B328,'Select ECPs'!$B$2:$U$77,20,0)),\"\")","v":""},{"$f":"IFERROR((VLOOKUP(B328,'Select ECPs'!$B$2:$E$77,2,0)),\"\")","v":""}]
[null,null,{"$f":"IFERROR((VLOOKUP(B329,'Select ECPs'!$B$2:$E$77,4,0)),\"\")","v":""},{"$f":"IFERROR((VLOOKUP(B329,'Select ECPs'!$B$2:$U$77,20,0)),\"\")","v":""},{"$f":"IFERROR((VLOOKUP(B329,'Select ECPs'!$B$2:$E$77,2,0)),\"\")","v":""}]
[null,null,{"$f":"IFERROR((VLOOKUP(B330,'Select ECPs'!$B$2:$E$77,4,0)),\"\")","v":""},{"$f":"IFERROR((VLOOKUP(B330,'Select ECPs'!$B$2:$U$77,20,0)),\"\")","v":""},{"$f":"IFERROR((VLOOKUP(B330,'Select ECPs'!$B$2:$E$77,2,0)),\"\")","v":""}]
[null,null,{"$f":"IFERROR((VLOOKUP(B331,'Select ECPs'!$B$2:$E$77,4,0)),\"\")","v":""},{"$f":"IFERROR((VLOOKUP(B331,'Select ECPs'!$B$2:$U$77,20,0)),\"\")","v":""},{"$f":"IFERROR((VLOOKUP(B331,'Select ECPs'!$B$2:$E$77,2,0)),\"\")","v":""}]
[null,null,{"$f":"IFERROR((VLOOKUP(B332,'Select ECPs'!$B$2:$E$77,4,0)),\"\")","v":""},{"$f":"IFERROR((VLOOKUP(B332,'Select ECPs'!$B$2:$U$77,20,0)),\"\")","v":""},{"$f":"IFERROR((VLOOKUP(B332,'Select ECPs'!$B$2:$E$77,2,0)),\"\")","v":""}]
[null,null,{"$f":"IFERROR((VLOOKUP(B333,'Select ECPs'!$B$2:$E$77,4,0)),\"\")","v":""},{"$f":"IFERROR((VLOOKUP(B333,'Select ECPs'!$B$2:$U$77,20,0)),\"\")","v":""},{"$f":"IFERROR((VLOOKUP(B333,'Select ECPs'!$B$2:$E$77,2,0)),\"\")","v":""}]
[null,null,{"$f":"IFERROR((VLOOKUP(B334,'Select ECPs'!$B$2:$E$77,4,0)),\"\")","v":""},{"$f":"IFERROR((VLOOKUP(B334,'Select ECPs'!$B$2:$U$77,20,0)),\"\")","v":""},{"$f":"IFERROR((VLOOKUP(B334,'Select ECPs'!$B$2:$E$77,2,0)),\"\")","v":""}]
[null,null,{"$f":"IFERROR((VLOOKUP(B335,'Select ECPs'!$B$2:$E$77,4,0)),\"\")","v":""},{"$f":"IFERROR((VLOOKUP(B335,'Select ECPs'!$B$2:$U$77,20,0)),\"\")","v":""},{"$f":"IFERROR((VLOOKUP(B335,'Select ECPs'!$B$2:$E$77,2,0)),\"\")","v":""}]
[null,null,{"$f":"IFERROR((VLOOKUP(B336,'Select ECPs'!$B$2:$E$77,4,0)),\"\")","v":""},{"$f":"IFERROR((VLOOKUP(B336,'Select ECPs'!$B$2:$U$77,20,0)),\"\")","v":""},{"$f":"IFERROR((VLOOKUP(B336,'Select ECPs'!$B$2:$E$77,2,0)),\"\")","v":""}]
[null,null,{"$f":"IFERROR((VLOOKUP(B337,'Select ECPs'!$B$2:$E$77,4,0)),\"\")","v":""},{"$f":"IFERROR((VLOOKUP(B337,'Select ECPs'!$B$2:$U$77,20,0)),\"\")","v":""},{"$f":"IFERROR((VLOOKUP(B337,'Select ECPs'!$B$2:$E$77,2,0)),\"\")","v":""}]
[null,null,{"$f":"IFERROR((VLOOKUP(B338,'Select ECPs'!$B$2:$E$77,4,0)),\"\")","v":""},{"$f":"IFERROR((VLOOKUP(B338,'Select ECPs'!$B$2:$U$77,20,0)),\"\")","v":""},{"$f":"IFERROR((VLOOKUP(B338,'Select ECPs'!$B$2:$E$77,2,0)),\"\")","v":""}]
[null,null,{"$f":"IFERROR((VLOOKUP(B339,'Select ECPs'!$B$2:$E$77,4,0)),\"\")","v":""},{"$f":"IFERROR((VLOOKUP(B339,'Select ECPs'!$B$2:$U$77,20,0)),\"\")","v":""},{"$f":"IFERROR((VLOOKUP(B339,'Select ECPs'!$B$2:$E$77,2,0)),\"\")","v":""}]
[null,null,{"$f":"IFERROR((VLOOKUP(B340,'Select ECPs'!$B$2:$E$77,4,0)),\"\")","v":""},{"$f":"IFERROR((VLOOKUP(B340,'Select ECPs'!$B$2:$U$77,20,0)),\"\")","v":""},{"$f":"IFERROR((VLOOKUP(B340,'Select ECPs'!$B$2:$E$77,2,0)),\"\")","v":""}]
[null,null,{"$f":"IFERROR((VLOOKUP(B341,'Select ECPs'!$B$2:$E$77,4,0)),\"\")","v":""},{"$f":"IFERROR((VLOOKUP(B341,'Select ECPs'!$B$2:$U$77,20,0)),\"\")","v":""},{"$f":"IFERROR((VLOOKUP(B341,'Select ECPs'!$B$2:$E$77,2,0)),\"\")","v":""}]
[null,null,{"$f":"IFERROR((VLOOKUP(B342,'Select ECPs'!$B$2:$E$77,4,0)),\"\")","v":""},{"$f":"IFERROR((VLOOKUP(B342,'Select ECPs'!$B$2:$U$77,20,0)),\"\")","v":""},{"$f":"IFERROR((VLOOKUP(B342,'Select ECPs'!$B$2:$E$77,2,0)),\"\")","v":""}]
[null,null,{"$f":"IFERROR((VLOOKUP(B343,'Select ECPs'!$B$2:$E$77,4,0)),\"\")","v":""},{"$f":"IFERROR((VLOOKUP(B343,'Select ECPs'!$B$2:$U$77,20,0)),\"\")","v":""},{"$f":"IFERROR((VLOOKUP(B343,'Select ECPs'!$B$2:$E$77,2,0)),\"\")","v":""}]
[null,null,{"$f":"IFERROR((VLOOKUP(B344,'Select ECPs'!$B$2:$E$77,4,0)),\"\")","v":""},{"$f":"IFERROR((VLOOKUP(B344,'Select ECPs'!$B$2:$U$77,20,0)),\"\")","v":""},{"$f":"IFERROR((VLOOKUP(B344,'Select ECPs'!$B$2:$E$77,2,0)),\"\")","v":""}]
[null,null,{"$f":"IFERROR((VLOOKUP(B345,'Select ECPs'!$B$2:$E$77,4,0)),\"\")","v":""},{"$f":"IFERROR((VLOOKUP(B345,'Select ECPs'!$B$2:$U$77,20,0)),\"\")","v":""},{"$f":"IFERROR((VLOOKUP(B345,'Select ECPs'!$B$2:$E$77,2,0)),\"\")","v":""}]
[null,null,{"$f":"IFERROR((VLOOKUP(B346,'Select ECPs'!$B$2:$E$77,4,0)),\"\")","v":""},{"$f":"IFERROR((VLOOKUP(B346,'Select ECPs'!$B$2:$U$77,20,0)),\"\")","v":""},{"$f":"IFERROR((VLOOKUP(B346,'Select ECPs'!$B$2:$E$77,2,0)),\"\")","v":""}]
[null,null,{"$f":"IFERROR((VLOOKUP(B347,'Select ECPs'!$B$2:$E$77,4,0)),\"\")","v":""},{"$f":"IFERROR((VLOOKUP(B347,'Select ECPs'!$B$2:$U$77,20,0)),\"\")","v":""},{"$f":"IFERROR((VLOOKUP(B347,'Select ECPs'!$B$2:$E$77,2,0)),\"\")","v":""}]
[null,null,{"$f":"IFERROR((VLOOKUP(B348,'Select ECPs'!$B$2:$E$77,4,0)),\"\")","v":""},{"$f":"IFERROR((VLOOKUP(B348,'Select ECPs'!$B$2:$U$77,20,0)),\"\")","v":""},{"$f":"IFERROR((VLOOKUP(B348,'Select ECPs'!$B$2:$E$77,2,0)),\"\")","v":""}]
[null,null,{"$f":"IFERROR((VLOOKUP(B349,'Select ECPs'!$B$2:$E$77,4,0)),\"\")","v":""},{"$f":"IFERROR((VLOOKUP(B349,'Select ECPs'!$B$2:$U$77,20,0)),\"\")","v":""},{"$f":"IFERROR((VLOOKUP(B349,'Select ECPs'!$B$2:$E$77,2,0)),\"\")","v":""}]
[null,null,{"$f":"IFERROR((VLOOKUP(B350,'Select ECPs'!$B$2:$E$77,4,0)),\"\")","v":""},{"$f":"IFERROR((VLOOKUP(B350,'Select ECPs'!$B$2:$U$77,20,0)),\"\")","v":""},{"$f":"IFERROR((VLOOKUP(B350,'Select ECPs'!$B$2:$E$77,2,0)),\"\")","v":""}]
[null,null,{"$f":"IFERROR((VLOOKUP(B351,'Select ECPs'!$B$2:$E$77,4,0)),\"\")","v":""},{"$f":"IFERROR((VLOOKUP(B351,'Select ECPs'!$B$2:$U$77,20,0)),\"\")","v":""},{"$f":"IFERROR((VLOOKUP(B351,'Select ECPs'!$B$2:$E$77,2,0)),\"\")","v":""}]
[null,null,{"$f":"IFERROR((VLOOKUP(B352,'Select ECPs'!$B$2:$E$77,4,0)),\"\")","v":""},{"$f":"IFERROR((VLOOKUP(B352,'Select ECPs'!$B$2:$U$77,20,0)),\"\")","v":""},{"$f":"IFERROR((VLOOKUP(B352,'Select ECPs'!$B$2:$E$77,2,0)),\"\")","v":""}]
[null,null,{"$f":"IFERROR((VLOOKUP(B353,'Select ECPs'!$B$2:$E$77,4,0)),\"\")","v":""},{"$f":"IFERROR((VLOOKUP(B353,'Select ECPs'!$B$2:$U$77,20,0)),\"\")","v":""},{"$f":"IFERROR((VLOOKUP(B353,'Select ECPs'!$B$2:$E$77,2,0)),\"\")","v":""}]
[null,null,{"$f":"IFERROR((VLOOKUP(B354,'Select ECPs'!$B$2:$E$77,4,0)),\"\")","v":""},{"$f":"IFERROR((VLOOKUP(B354,'Select ECPs'!$B$2:$U$77,20,0)),\"\")","v":""},{"$f":"IFERROR((VLOOKUP(B354,'Select ECPs'!$B$2:$E$77,2,0)),\"\")","v":""}]
[null,null,{"$f":"IFERROR((VLOOKUP(B355,'Select ECPs'!$B$2:$E$77,4,0)),\"\")","v":""},{"$f":"IFERROR((VLOOKUP(B355,'Select ECPs'!$B$2:$U$77,20,0)),\"\")","v":""},{"$f":"IFERROR((VLOOKUP(B355,'Select ECPs'!$B$2:$E$77,2,0)),\"\")","v":""}]
[null,null,{"$f":"IFERROR((VLOOKUP(B356,'Select ECPs'!$B$2:$E$77,4,0)),\"\")","v":""},{"$f":"IFERROR((VLOOKUP(B356,'Select ECPs'!$B$2:$U$77,20,0)),\"\")","v":""},{"$f":"IFERROR((VLOOKUP(B356,'Select ECPs'!$B$2:$E$77,2,0)),\"\")","v":""}]
[null,null,{"$f":"IFERROR((VLOOKUP(B357,'Select ECPs'!$B$2:$E$77,4,0)),\"\")","v":""},{"$f":"IFERROR((VLOOKUP(B357,'Select ECPs'!$B$2:$U$77,20,0)),\"\")","v":""},{"$f":"IFERROR((VLOOKUP(B357,'Select ECPs'!$B$2:$E$77,2,0)),\"\")","v":""}]
[null,null,{"$f":"IFERROR((VLOOKUP(B358,'Select ECPs'!$B$2:$E$77,4,0)),\"\")","v":""},{"$f":"IFERROR((VLOOKUP(B358,'Select ECPs'!$B$2:$U$77,20,0)),\"\")","v":""},{"$f":"IFERROR((VLOOKUP(B358,'Select ECPs'!$B$2:$E$77,2,0)),\"\")","v":""}]
[null,null,{"$f":"IFERROR((VLOOKUP(B359,'Select ECPs'!$B$2:$E$77,4,0)),\"\")","v":""},{"$f":"IFERROR((VLOOKUP(B359,'Select ECPs'!$B$2:$U$77,20,0)),\"\")","v":""},{"$f":"IFERROR((VLOOKUP(B359,'Select ECPs'!$B$2:$E$77,2,0)),\"\")","v":""}]
[null,null,{"$f":"IFERROR((VLOOKUP(B360,'Select ECPs'!$B$2:$E$77,4,0)),\"\")","v":""},{"$f":"IFERROR((VLOOKUP(B360,'Select ECPs'!$B$2:$U$77,20,0)),\"\")","v":""},{"$f":"IFERROR((VLOOKUP(B360,'Select ECPs'!$B$2:$E$77,2,0)),\"\")","v":""}]
[null,null,{"$f":"IFERROR((VLOOKUP(B361,'Select ECPs'!$B$2:$E$77,4,0)),\"\")","v":""},{"$f":"IFERROR((VLOOKUP(B361,'Select ECPs'!$B$2:$U$77,20,0)),\"\")","v":""},{"$f":"IFERROR((VLOOKUP(B361,'Select ECPs'!$B$2:$E$77,2,0)),\"\")","v":""}]
[null,null,{"$f":"IFERROR((VLOOKUP(B362,'Select ECPs'!$B$2:$E$77,4,0)),\"\")","v":""},{"$f":"IFERROR((VLOOKUP(B362,'Select ECPs'!$B$2:$U$77,20,0)),\"\")","v":""},{"$f":"IFERROR((VLOOKUP(B362,'Select ECPs'!$B$2:$E$77,2,0)),\"\")","v":""}]
[null,null,{"$f":"IFERROR((VLOOKUP(B363,'Select ECPs'!$B$2:$E$77,4,0)),\"\")","v":""},{"$f":"IFERROR((VLOOKUP(B363,'Select ECPs'!$B$2:$U$77,20,0)),\"\")","v":""},{"$f":"IFERROR((VLOOKUP(B363,'Select ECPs'!$B$2:$E$77,2,0)),\"\")","v":""}]
[null,null,{"$f":"IFERROR((VLOOKUP(B364,'Select ECPs'!$B$2:$E$77,4,0)),\"\")","v":""},{"$f":"IFERROR((VLOOKUP(B364,'Select ECPs'!$B$2:$U$77,20,0)),\"\")","v":""},{"$f":"IFERROR((VLOOKUP(B364,'Select ECPs'!$B$2:$E$77,2,0)),\"\")","v":""}]
[null,null,{"$f":"IFERROR((VLOOKUP(B365,'Select ECPs'!$B$2:$E$77,4,0)),\"\")","v":""},{"$f":"IFERROR((VLOOKUP(B365,'Select ECPs'!$B$2:$U$77,20,0)),\"\")","v":""},{"$f":"IFERROR((VLOOKUP(B365,'Select ECPs'!$B$2:$E$77,2,0)),\"\")","v":""}]
[null,null,{"$f":"IFERROR((VLOOKUP(B366,'Select ECPs'!$B$2:$E$77,4,0)),\"\")","v":""},{"$f":"IFERROR((VLOOKUP(B366,'Select ECPs'!$B$2:$U$77,20,0)),\"\")","v":""},{"$f":"IFERROR((VLOOKUP(B366,'Select ECPs'!$B$2:$E$77,2,0)),\"\")","v":""}]
[null,null,{"$f":"IFERROR((VLOOKUP(B367,'Select ECPs'!$B$2:$E$77,4,0)),\"\")","v":""},{"$f":"IFERROR((VLOOKUP(B367,'Select ECPs'!$B$2:$U$77,20,0)),\"\")","v":""},{"$f":"IFERROR((VLOOKUP(B367,'Select ECPs'!$B$2:$E$77,2,0)),\"\")","v":""}]
[null,null,{"$f":"IFERROR((VLOOKUP(B368,'Select ECPs'!$B$2:$E$77,4,0)),\"\")","v":""},{"$f":"IFERROR((VLOOKUP(B368,'Select ECPs'!$B$2:$U$77,20,0)),\"\")","v":""},{"$f":"IFERROR((VLOOKUP(B368,'Select ECPs'!$B$2:$E$77,2,0)),\"\")","v":""}]
[null,null,{"$f":"IFERROR((VLOOKUP(B369,'Select ECPs'!$B$2:$E$77,4,0)),\"\")","v":""},{"$f":"IFERROR((VLOOKUP(B369,'Select ECPs'!$B$2:$U$77,20,0)),\"\")","v":""},{"$f":"IFERROR((VLOOKUP(B369,'Select ECPs'!$B$2:$E$77,2,0)),\"\")","v":""}]
[null,null,{"$f":"IFERROR((VLOOKUP(B370,'Select ECPs'!$B$2:$E$77,4,0)),\"\")","v":""},{"$f":"IFERROR((VLOOKUP(B370,'Select ECPs'!$B$2:$U$77,20,0)),\"\")","v":""},{"$f":"IFERROR((VLOOKUP(B370,'Select ECPs'!$B$2:$E$77,2,0)),\"\")","v":""}]
[null,null,{"$f":"IFERROR((VLOOKUP(B371,'Select ECPs'!$B$2:$E$77,4,0)),\"\")","v":""},{"$f":"IFERROR((VLOOKUP(B371,'Select ECPs'!$B$2:$U$77,20,0)),\"\")","v":""},{"$f":"IFERROR((VLOOKUP(B371,'Select ECPs'!$B$2:$E$77,2,0)),\"\")","v":""}]
[null,null,{"$f":"IFERROR((VLOOKUP(B372,'Select ECPs'!$B$2:$E$77,4,0)),\"\")","v":""},{"$f":"IFERROR((VLOOKUP(B372,'Select ECPs'!$B$2:$U$77,20,0)),\"\")","v":""},{"$f":"IFERROR((VLOOKUP(B372,'Select ECPs'!$B$2:$E$77,2,0)),\"\")","v":""}]
[null,null,{"$f":"IFERROR((VLOOKUP(B373,'Select ECPs'!$B$2:$E$77,4,0)),\"\")","v":""},{"$f":"IFERROR((VLOOKUP(B373,'Select ECPs'!$B$2:$U$77,20,0)),\"\")","v":""},{"$f":"IFERROR((VLOOKUP(B373,'Select ECPs'!$B$2:$E$77,2,0)),\"\")","v":""}]
[null,null,{"$f":"IFERROR((VLOOKUP(B374,'Select ECPs'!$B$2:$E$77,4,0)),\"\")","v":""},{"$f":"IFERROR((VLOOKUP(B374,'Select ECPs'!$B$2:$U$77,20,0)),\"\")","v":""},{"$f":"IFERROR((VLOOKUP(B374,'Select ECPs'!$B$2:$E$77,2,0)),\"\")","v":""}]
[null,null,{"$f":"IFERROR((VLOOKUP(B375,'Select ECPs'!$B$2:$E$77,4,0)),\"\")","v":""},{"$f":"IFERROR((VLOOKUP(B375,'Select ECPs'!$B$2:$U$77,20,0)),\"\")","v":""},{"$f":"IFERROR((VLOOKUP(B375,'Select ECPs'!$B$2:$E$77,2,0)),\"\")","v":""}]
[null,null,{"$f":"IFERROR((VLOOKUP(B376,'Select ECPs'!$B$2:$E$77,4,0)),\"\")","v":""},{"$f":"IFERROR((VLOOKUP(B376,'Select ECPs'!$B$2:$U$77,20,0)),\"\")","v":""},{"$f":"IFERROR((VLOOKUP(B376,'Select ECPs'!$B$2:$E$77,2,0)),\"\")","v":""}]
[null,null,{"$f":"IFERROR((VLOOKUP(B377,'Select ECPs'!$B$2:$E$77,4,0)),\"\")","v":""},{"$f":"IFERROR((VLOOKUP(B377,'Select ECPs'!$B$2:$U$77,20,0)),\"\")","v":""},{"$f":"IFERROR((VLOOKUP(B377,'Select ECPs'!$B$2:$E$77,2,0)),\"\")","v":""}]
[null,null,{"$f":"IFERROR((VLOOKUP(B378,'Select ECPs'!$B$2:$E$77,4,0)),\"\")","v":""},{"$f":"IFERROR((VLOOKUP(B378,'Select ECPs'!$B$2:$U$77,20,0)),\"\")","v":""},{"$f":"IFERROR((VLOOKUP(B378,'Select ECPs'!$B$2:$E$77,2,0)),\"\")","v":""}]
[null,null,{"$f":"IFERROR((VLOOKUP(B379,'Select ECPs'!$B$2:$E$77,4,0)),\"\")","v":""},{"$f":"IFERROR((VLOOKUP(B379,'Select ECPs'!$B$2:$U$77,20,0)),\"\")","v":""},{"$f":"IFERROR((VLOOKUP(B379,'Select ECPs'!$B$2:$E$77,2,0)),\"\")","v":""}]
[null,null,{"$f":"IFERROR((VLOOKUP(B380,'Select ECPs'!$B$2:$E$77,4,0)),\"\")","v":""},{"$f":"IFERROR((VLOOKUP(B380,'Select ECPs'!$B$2:$U$77,20,0)),\"\")","v":""},{"$f":"IFERROR((VLOOKUP(B380,'Select ECPs'!$B$2:$E$77,2,0)),\"\")","v":""}]
[null,null,{"$f":"IFERROR((VLOOKUP(B381,'Select ECPs'!$B$2:$E$77,4,0)),\"\")","v":""},{"$f":"IFERROR((VLOOKUP(B381,'Select ECPs'!$B$2:$U$77,20,0)),\"\")","v":""},{"$f":"IFERROR((VLOOKUP(B381,'Select ECPs'!$B$2:$E$77,2,0)),\"\")","v":""}]
[null,null,{"$f":"IFERROR((VLOOKUP(B382,'Select ECPs'!$B$2:$E$77,4,0)),\"\")","v":""},{"$f":"IFERROR((VLOOKUP(B382,'Select ECPs'!$B$2:$U$77,20,0)),\"\")","v":""},{"$f":"IFERROR((VLOOKUP(B382,'Select ECPs'!$B$2:$E$77,2,0)),\"\")","v":""}]
[null,null,{"$f":"IFERROR((VLOOKUP(B383,'Select ECPs'!$B$2:$E$77,4,0)),\"\")","v":""},{"$f":"IFERROR((VLOOKUP(B383,'Select ECPs'!$B$2:$U$77,20,0)),\"\")","v":""},{"$f":"IFERROR((VLOOKUP(B383,'Select ECPs'!$B$2:$E$77,2,0)),\"\")","v":""}]
[null,null,{"$f":"IFERROR((VLOOKUP(B384,'Select ECPs'!$B$2:$E$77,4,0)),\"\")","v":""},{"$f":"IFERROR((VLOOKUP(B384,'Select ECPs'!$B$2:$U$77,20,0)),\"\")","v":""},{"$f":"IFERROR((VLOOKUP(B384,'Select ECPs'!$B$2:$E$77,2,0)),\"\")","v":""}]
[null,null,{"$f":"IFERROR((VLOOKUP(B385,'Select ECPs'!$B$2:$E$77,4,0)),\"\")","v":""},{"$f":"IFERROR((VLOOKUP(B385,'Select ECPs'!$B$2:$U$77,20,0)),\"\")","v":""},{"$f":"IFERROR((VLOOKUP(B385,'Select ECPs'!$B$2:$E$77,2,0)),\"\")","v":""}]
[null,null,{"$f":"IFERROR((VLOOKUP(B386,'Select ECPs'!$B$2:$E$77,4,0)),\"\")","v":""},{"$f":"IFERROR((VLOOKUP(B386,'Select ECPs'!$B$2:$U$77,20,0)),\"\")","v":""},{"$f":"IFERROR((VLOOKUP(B386,'Select ECPs'!$B$2:$E$77,2,0)),\"\")","v":""}]
[null,null,{"$f":"IFERROR((VLOOKUP(B387,'Select ECPs'!$B$2:$E$77,4,0)),\"\")","v":""},{"$f":"IFERROR((VLOOKUP(B387,'Select ECPs'!$B$2:$U$77,20,0)),\"\")","v":""},{"$f":"IFERROR((VLOOKUP(B387,'Select ECPs'!$B$2:$E$77,2,0)),\"\")","v":""}]
[null,null,{"$f":"IFERROR((VLOOKUP(B388,'Select ECPs'!$B$2:$E$77,4,0)),\"\")","v":""},{"$f":"IFERROR((VLOOKUP(B388,'Select ECPs'!$B$2:$U$77,20,0)),\"\")","v":""},{"$f":"IFERROR((VLOOKUP(B388,'Select ECPs'!$B$2:$E$77,2,0)),\"\")","v":""}]
[null,null,{"$f":"IFERROR((VLOOKUP(B389,'Select ECPs'!$B$2:$E$77,4,0)),\"\")","v":""},{"$f":"IFERROR((VLOOKUP(B389,'Select ECPs'!$B$2:$U$77,20,0)),\"\")","v":""},{"$f":"IFERROR((VLOOKUP(B389,'Select ECPs'!$B$2:$E$77,2,0)),\"\")","v":""}]
[null,null,{"$f":"IFERROR((VLOOKUP(B390,'Select ECPs'!$B$2:$E$77,4,0)),\"\")","v":""},{"$f":"IFERROR((VLOOKUP(B390,'Select ECPs'!$B$2:$U$77,20,0)),\"\")","v":""},{"$f":"IFERROR((VLOOKUP(B390,'Select ECPs'!$B$2:$E$77,2,0)),\"\")","v":""}]
[null,null,{"$f":"IFERROR((VLOOKUP(B391,'Select ECPs'!$B$2:$E$77,4,0)),\"\")","v":""},{"$f":"IFERROR((VLOOKUP(B391,'Select ECPs'!$B$2:$U$77,20,0)),\"\")","v":""},{"$f":"IFERROR((VLOOKUP(B391,'Select ECPs'!$B$2:$E$77,2,0)),\"\")","v":""}]
[null,null,{"$f":"IFERROR((VLOOKUP(B392,'Select ECPs'!$B$2:$E$77,4,0)),\"\")","v":""},{"$f":"IFERROR((VLOOKUP(B392,'Select ECPs'!$B$2:$U$77,20,0)),\"\")","v":""},{"$f":"IFERROR((VLOOKUP(B392,'Select ECPs'!$B$2:$E$77,2,0)),\"\")","v":""}]
[null,null,{"$f":"IFERROR((VLOOKUP(B393,'Select ECPs'!$B$2:$E$77,4,0)),\"\")","v":""},{"$f":"IFERROR((VLOOKUP(B393,'Select ECPs'!$B$2:$U$77,20,0)),\"\")","v":""},{"$f":"IFERROR((VLOOKUP(B393,'Select ECPs'!$B$2:$E$77,2,0)),\"\")","v":""}]
[null,null,{"$f":"IFERROR((VLOOKUP(B394,'Select ECPs'!$B$2:$E$77,4,0)),\"\")","v":""},{"$f":"IFERROR((VLOOKUP(B394,'Select ECPs'!$B$2:$U$77,20,0)),\"\")","v":""},{"$f":"IFERROR((VLOOKUP(B394,'Select ECPs'!$B$2:$E$77,2,0)),\"\")","v":""}]
[null,null,{"$f":"IFERROR((VLOOKUP(B395,'Select ECPs'!$B$2:$E$77,4,0)),\"\")","v":""},{"$f":"IFERROR((VLOOKUP(B395,'Select ECPs'!$B$2:$U$77,20,0)),\"\")","v":""},{"$f":"IFERROR((VLOOKUP(B395,'Select ECPs'!$B$2:$E$77,2,0)),\"\")","v":""}]
[null,null,{"$f":"IFERROR((VLOOKUP(B396,'Select ECPs'!$B$2:$E$77,4,0)),\"\")","v":""},{"$f":"IFERROR((VLOOKUP(B396,'Select ECPs'!$B$2:$U$77,20,0)),\"\")","v":""},{"$f":"IFERROR((VLOOKUP(B396,'Select ECPs'!$B$2:$E$77,2,0)),\"\")","v":""}]
[null,null,{"$f":"IFERROR((VLOOKUP(B397,'Select ECPs'!$B$2:$E$77,4,0)),\"\")","v":""},{"$f":"IFERROR((VLOOKUP(B397,'Select ECPs'!$B$2:$U$77,20,0)),\"\")","v":""},{"$f":"IFERROR((VLOOKUP(B397,'Select ECPs'!$B$2:$E$77,2,0)),\"\")","v":""}]
[null,null,{"$f":"IFERROR((VLOOKUP(B398,'Select ECPs'!$B$2:$E$77,4,0)),\"\")","v":""},{"$f":"IFERROR((VLOOKUP(B398,'Select ECPs'!$B$2:$U$77,20,0)),\"\")","v":""},{"$f":"IFERROR((VLOOKUP(B398,'Select ECPs'!$B$2:$E$77,2,0)),\"\")","v":""}]
[null,null,{"$f":"IFERROR((VLOOKUP(B399,'Select ECPs'!$B$2:$E$77,4,0)),\"\")","v":""},{"$f":"IFERROR((VLOOKUP(B399,'Select ECPs'!$B$2:$U$77,20,0)),\"\")","v":""},{"$f":"IFERROR((VLOOKUP(B399,'Select ECPs'!$B$2:$E$77,2,0)),\"\")","v":""}]
[null,null,{"$f":"IFERROR((VLOOKUP(B400,'Select ECPs'!$B$2:$E$77,4,0)),\"\")","v":""},{"$f":"IFERROR((VLOOKUP(B400,'Select ECPs'!$B$2:$U$77,20,0)),\"\")","v":""},{"$f":"IFERROR((VLOOKUP(B400,'Select ECPs'!$B$2:$E$77,2,0)),\"\")","v":""}]
[null,null,{"$f":"IFERROR((VLOOKUP(B401,'Select ECPs'!$B$2:$E$77,4,0)),\"\")","v":""},{"$f":"IFERROR((VLOOKUP(B401,'Select ECPs'!$B$2:$U$77,20,0)),\"\")","v":""},{"$f":"IFERROR((VLOOKUP(B401,'Select ECPs'!$B$2:$E$77,2,0)),\"\")","v":""}]
[null,null,{"$f":"IFERROR((VLOOKUP(B402,'Select ECPs'!$B$2:$E$77,4,0)),\"\")","v":""},{"$f":"IFERROR((VLOOKUP(B402,'Select ECPs'!$B$2:$U$77,20,0)),\"\")","v":""},{"$f":"IFERROR((VLOOKUP(B402,'Select ECPs'!$B$2:$E$77,2,0)),\"\")","v":""}]
[null,null,{"$f":"IFERROR((VLOOKUP(B403,'Select ECPs'!$B$2:$E$77,4,0)),\"\")","v":""},{"$f":"IFERROR((VLOOKUP(B403,'Select ECPs'!$B$2:$U$77,20,0)),\"\")","v":""},{"$f":"IFERROR((VLOOKUP(B403,'Select ECPs'!$B$2:$E$77,2,0)),\"\")","v":""}]
[null,null,{"$f":"IFERROR((VLOOKUP(B404,'Select ECPs'!$B$2:$E$77,4,0)),\"\")","v":""},{"$f":"IFERROR((VLOOKUP(B404,'Select ECPs'!$B$2:$U$77,20,0)),\"\")","v":""},{"$f":"IFERROR((VLOOKUP(B404,'Select ECPs'!$B$2:$E$77,2,0)),\"\")","v":""}]
[null,null,{"$f":"IFERROR((VLOOKUP(B405,'Select ECPs'!$B$2:$E$77,4,0)),\"\")","v":""},{"$f":"IFERROR((VLOOKUP(B405,'Select ECPs'!$B$2:$U$77,20,0)),\"\")","v":""},{"$f":"IFERROR((VLOOKUP(B405,'Select ECPs'!$B$2:$E$77,2,0)),\"\")","v":""}]
[null,null,{"$f":"IFERROR((VLOOKUP(B406,'Select ECPs'!$B$2:$E$77,4,0)),\"\")","v":""},{"$f":"IFERROR((VLOOKUP(B406,'Select ECPs'!$B$2:$U$77,20,0)),\"\")","v":""},{"$f":"IFERROR((VLOOKUP(B406,'Select ECPs'!$B$2:$E$77,2,0)),\"\")","v":""}]
[null,null,{"$f":"IFERROR((VLOOKUP(B407,'Select ECPs'!$B$2:$E$77,4,0)),\"\")","v":""},{"$f":"IFERROR((VLOOKUP(B407,'Select ECPs'!$B$2:$U$77,20,0)),\"\")","v":""},{"$f":"IFERROR((VLOOKUP(B407,'Select ECPs'!$B$2:$E$77,2,0)),\"\")","v":""}]
[null,null,{"$f":"IFERROR((VLOOKUP(B408,'Select ECPs'!$B$2:$E$77,4,0)),\"\")","v":""},{"$f":"IFERROR((VLOOKUP(B408,'Select ECPs'!$B$2:$U$77,20,0)),\"\")","v":""},{"$f":"IFERROR((VLOOKUP(B408,'Select ECPs'!$B$2:$E$77,2,0)),\"\")","v":""}]
[null,null,{"$f":"IFERROR((VLOOKUP(B409,'Select ECPs'!$B$2:$E$77,4,0)),\"\")","v":""},{"$f":"IFERROR((VLOOKUP(B409,'Select ECPs'!$B$2:$U$77,20,0)),\"\")","v":""},{"$f":"IFERROR((VLOOKUP(B409,'Select ECPs'!$B$2:$E$77,2,0)),\"\")","v":""}]
[null,null,{"$f":"IFERROR((VLOOKUP(B410,'Select ECPs'!$B$2:$E$77,4,0)),\"\")","v":""},{"$f":"IFERROR((VLOOKUP(B410,'Select ECPs'!$B$2:$U$77,20,0)),\"\")","v":""},{"$f":"IFERROR((VLOOKUP(B410,'Select ECPs'!$B$2:$E$77,2,0)),\"\")","v":""}]
[null,null,{"$f":"IFERROR((VLOOKUP(B411,'Select ECPs'!$B$2:$E$77,4,0)),\"\")","v":""},{"$f":"IFERROR((VLOOKUP(B411,'Select ECPs'!$B$2:$U$77,20,0)),\"\")","v":""},{"$f":"IFERROR((VLOOKUP(B411,'Select ECPs'!$B$2:$E$77,2,0)),\"\")","v":""}]
[null,null,{"$f":"IFERROR((VLOOKUP(B412,'Select ECPs'!$B$2:$E$77,4,0)),\"\")","v":""},{"$f":"IFERROR((VLOOKUP(B412,'Select ECPs'!$B$2:$U$77,20,0)),\"\")","v":""},{"$f":"IFERROR((VLOOKUP(B412,'Select ECPs'!$B$2:$E$77,2,0)),\"\")","v":""}]
[null,null,{"$f":"IFERROR((VLOOKUP(B413,'Select ECPs'!$B$2:$E$77,4,0)),\"\")","v":""},{"$f":"IFERROR((VLOOKUP(B413,'Select ECPs'!$B$2:$U$77,20,0)),\"\")","v":""},{"$f":"IFERROR((VLOOKUP(B413,'Select ECPs'!$B$2:$E$77,2,0)),\"\")","v":""}]
[null,null,{"$f":"IFERROR((VLOOKUP(B414,'Select ECPs'!$B$2:$E$77,4,0)),\"\")","v":""},{"$f":"IFERROR((VLOOKUP(B414,'Select ECPs'!$B$2:$U$77,20,0)),\"\")","v":""},{"$f":"IFERROR((VLOOKUP(B414,'Select ECPs'!$B$2:$E$77,2,0)),\"\")","v":""}]
[null,null,{"$f":"IFERROR((VLOOKUP(B415,'Select ECPs'!$B$2:$E$77,4,0)),\"\")","v":""},{"$f":"IFERROR((VLOOKUP(B415,'Select ECPs'!$B$2:$U$77,20,0)),\"\")","v":""},{"$f":"IFERROR((VLOOKUP(B415,'Select ECPs'!$B$2:$E$77,2,0)),\"\")","v":""}]
[null,null,{"$f":"IFERROR((VLOOKUP(B416,'Select ECPs'!$B$2:$E$77,4,0)),\"\")","v":""},{"$f":"IFERROR((VLOOKUP(B416,'Select ECPs'!$B$2:$U$77,20,0)),\"\")","v":""},{"$f":"IFERROR((VLOOKUP(B416,'Select ECPs'!$B$2:$E$77,2,0)),\"\")","v":""}]
[null,null,{"$f":"IFERROR((VLOOKUP(B417,'Select ECPs'!$B$2:$E$77,4,0)),\"\")","v":""},{"$f":"IFERROR((VLOOKUP(B417,'Select ECPs'!$B$2:$U$77,20,0)),\"\")","v":""},{"$f":"IFERROR((VLOOKUP(B417,'Select ECPs'!$B$2:$E$77,2,0)),\"\")","v":""}]
[null,null,{"$f":"IFERROR((VLOOKUP(B418,'Select ECPs'!$B$2:$E$77,4,0)),\"\")","v":""},{"$f":"IFERROR((VLOOKUP(B418,'Select ECPs'!$B$2:$U$77,20,0)),\"\")","v":""},{"$f":"IFERROR((VLOOKUP(B418,'Select ECPs'!$B$2:$E$77,2,0)),\"\")","v":""}]
[null,null,{"$f":"IFERROR((VLOOKUP(B419,'Select ECPs'!$B$2:$E$77,4,0)),\"\")","v":""},{"$f":"IFERROR((VLOOKUP(B419,'Select ECPs'!$B$2:$U$77,20,0)),\"\")","v":""},{"$f":"IFERROR((VLOOKUP(B419,'Select ECPs'!$B$2:$E$77,2,0)),\"\")","v":""}]
[null,null,{"$f":"IFERROR((VLOOKUP(B420,'Select ECPs'!$B$2:$E$77,4,0)),\"\")","v":""},{"$f":"IFERROR((VLOOKUP(B420,'Select ECPs'!$B$2:$U$77,20,0)),\"\")","v":""},{"$f":"IFERROR((VLOOKUP(B420,'Select ECPs'!$B$2:$E$77,2,0)),\"\")","v":""}]
[null,null,{"$f":"IFERROR((VLOOKUP(B421,'Select ECPs'!$B$2:$E$77,4,0)),\"\")","v":""},{"$f":"IFERROR((VLOOKUP(B421,'Select ECPs'!$B$2:$U$77,20,0)),\"\")","v":""},{"$f":"IFERROR((VLOOKUP(B421,'Select ECPs'!$B$2:$E$77,2,0)),\"\")","v":""}]
[null,null,{"$f":"IFERROR((VLOOKUP(B422,'Select ECPs'!$B$2:$E$77,4,0)),\"\")","v":""},{"$f":"IFERROR((VLOOKUP(B422,'Select ECPs'!$B$2:$U$77,20,0)),\"\")","v":""},{"$f":"IFERROR((VLOOKUP(B422,'Select ECPs'!$B$2:$E$77,2,0)),\"\")","v":""}]
[null,null,{"$f":"IFERROR((VLOOKUP(B423,'Select ECPs'!$B$2:$E$77,4,0)),\"\")","v":""},{"$f":"IFERROR((VLOOKUP(B423,'Select ECPs'!$B$2:$U$77,20,0)),\"\")","v":""},{"$f":"IFERROR((VLOOKUP(B423,'Select ECPs'!$B$2:$E$77,2,0)),\"\")","v":""}]
[null,null,{"$f":"IFERROR((VLOOKUP(B424,'Select ECPs'!$B$2:$E$77,4,0)),\"\")","v":""},{"$f":"IFERROR((VLOOKUP(B424,'Select ECPs'!$B$2:$U$77,20,0)),\"\")","v":""},{"$f":"IFERROR((VLOOKUP(B424,'Select ECPs'!$B$2:$E$77,2,0)),\"\")","v":""}]
[null,null,{"$f":"IFERROR((VLOOKUP(B425,'Select ECPs'!$B$2:$E$77,4,0)),\"\")","v":""},{"$f":"IFERROR((VLOOKUP(B425,'Select ECPs'!$B$2:$U$77,20,0)),\"\")","v":""},{"$f":"IFERROR((VLOOKUP(B425,'Select ECPs'!$B$2:$E$77,2,0)),\"\")","v":""}]
[null,null,{"$f":"IFERROR((VLOOKUP(B426,'Select ECPs'!$B$2:$E$77,4,0)),\"\")","v":""},{"$f":"IFERROR((VLOOKUP(B426,'Select ECPs'!$B$2:$U$77,20,0)),\"\")","v":""},{"$f":"IFERROR((VLOOKUP(B426,'Select ECPs'!$B$2:$E$77,2,0)),\"\")","v":""}]
[null,null,{"$f":"IFERROR((VLOOKUP(B427,'Select ECPs'!$B$2:$E$77,4,0)),\"\")","v":""},{"$f":"IFERROR((VLOOKUP(B427,'Select ECPs'!$B$2:$U$77,20,0)),\"\")","v":""},{"$f":"IFERROR((VLOOKUP(B427,'Select ECPs'!$B$2:$E$77,2,0)),\"\")","v":""}]
[null,null,{"$f":"IFERROR((VLOOKUP(B428,'Select ECPs'!$B$2:$E$77,4,0)),\"\")","v":""},{"$f":"IFERROR((VLOOKUP(B428,'Select ECPs'!$B$2:$U$77,20,0)),\"\")","v":""},{"$f":"IFERROR((VLOOKUP(B428,'Select ECPs'!$B$2:$E$77,2,0)),\"\")","v":""}]
[null,null,{"$f":"IFERROR((VLOOKUP(B429,'Select ECPs'!$B$2:$E$77,4,0)),\"\")","v":""},{"$f":"IFERROR((VLOOKUP(B429,'Select ECPs'!$B$2:$U$77,20,0)),\"\")","v":""},{"$f":"IFERROR((VLOOKUP(B429,'Select ECPs'!$B$2:$E$77,2,0)),\"\")","v":""}]
[null,null,{"$f":"IFERROR((VLOOKUP(B430,'Select ECPs'!$B$2:$E$77,4,0)),\"\")","v":""},{"$f":"IFERROR((VLOOKUP(B430,'Select ECPs'!$B$2:$U$77,20,0)),\"\")","v":""},{"$f":"IFERROR((VLOOKUP(B430,'Select ECPs'!$B$2:$E$77,2,0)),\"\")","v":""}]
[null,null,{"$f":"IFERROR((VLOOKUP(B431,'Select ECPs'!$B$2:$E$77,4,0)),\"\")","v":""},{"$f":"IFERROR((VLOOKUP(B431,'Select ECPs'!$B$2:$U$77,20,0)),\"\")","v":""},{"$f":"IFERROR((VLOOKUP(B431,'Select ECPs'!$B$2:$E$77,2,0)),\"\")","v":""}]
[null,null,{"$f":"IFERROR((VLOOKUP(B432,'Select ECPs'!$B$2:$E$77,4,0)),\"\")","v":""},{"$f":"IFERROR((VLOOKUP(B432,'Select ECPs'!$B$2:$U$77,20,0)),\"\")","v":""},{"$f":"IFERROR((VLOOKUP(B432,'Select ECPs'!$B$2:$E$77,2,0)),\"\")","v":""}]
[null,null,{"$f":"IFERROR((VLOOKUP(B433,'Select ECPs'!$B$2:$E$77,4,0)),\"\")","v":""},{"$f":"IFERROR((VLOOKUP(B433,'Select ECPs'!$B$2:$U$77,20,0)),\"\")","v":""},{"$f":"IFERROR((VLOOKUP(B433,'Select ECPs'!$B$2:$E$77,2,0)),\"\")","v":""}]
[null,null,{"$f":"IFERROR((VLOOKUP(B434,'Select ECPs'!$B$2:$E$77,4,0)),\"\")","v":""},{"$f":"IFERROR((VLOOKUP(B434,'Select ECPs'!$B$2:$U$77,20,0)),\"\")","v":""},{"$f":"IFERROR((VLOOKUP(B434,'Select ECPs'!$B$2:$E$77,2,0)),\"\")","v":""}]
[null,null,{"$f":"IFERROR((VLOOKUP(B435,'Select ECPs'!$B$2:$E$77,4,0)),\"\")","v":""},{"$f":"IFERROR((VLOOKUP(B435,'Select ECPs'!$B$2:$U$77,20,0)),\"\")","v":""},{"$f":"IFERROR((VLOOKUP(B435,'Select ECPs'!$B$2:$E$77,2,0)),\"\")","v":""}]
[null,null,{"$f":"IFERROR((VLOOKUP(B436,'Select ECPs'!$B$2:$E$77,4,0)),\"\")","v":""},{"$f":"IFERROR((VLOOKUP(B436,'Select ECPs'!$B$2:$U$77,20,0)),\"\")","v":""},{"$f":"IFERROR((VLOOKUP(B436,'Select ECPs'!$B$2:$E$77,2,0)),\"\")","v":""}]
[null,null,{"$f":"IFERROR((VLOOKUP(B437,'Select ECPs'!$B$2:$E$77,4,0)),\"\")","v":""},{"$f":"IFERROR((VLOOKUP(B437,'Select ECPs'!$B$2:$U$77,20,0)),\"\")","v":""},{"$f":"IFERROR((VLOOKUP(B437,'Select ECPs'!$B$2:$E$77,2,0)),\"\")","v":""}]
[null,null,{"$f":"IFERROR((VLOOKUP(B438,'Select ECPs'!$B$2:$E$77,4,0)),\"\")","v":""},{"$f":"IFERROR((VLOOKUP(B438,'Select ECPs'!$B$2:$U$77,20,0)),\"\")","v":""},{"$f":"IFERROR((VLOOKUP(B438,'Select ECPs'!$B$2:$E$77,2,0)),\"\")","v":""}]
[null,null,{"$f":"IFERROR((VLOOKUP(B439,'Select ECPs'!$B$2:$E$77,4,0)),\"\")","v":""},{"$f":"IFERROR((VLOOKUP(B439,'Select ECPs'!$B$2:$U$77,20,0)),\"\")","v":""},{"$f":"IFERROR((VLOOKUP(B439,'Select ECPs'!$B$2:$E$77,2,0)),\"\")","v":""}]
[null,null,{"$f":"IFERROR((VLOOKUP(B440,'Select ECPs'!$B$2:$E$77,4,0)),\"\")","v":""},{"$f":"IFERROR((VLOOKUP(B440,'Select ECPs'!$B$2:$U$77,20,0)),\"\")","v":""},{"$f":"IFERROR((VLOOKUP(B440,'Select ECPs'!$B$2:$E$77,2,0)),\"\")","v":""}]
[null,null,{"$f":"IFERROR((VLOOKUP(B441,'Select ECPs'!$B$2:$E$77,4,0)),\"\")","v":""},{"$f":"IFERROR((VLOOKUP(B441,'Select ECPs'!$B$2:$U$77,20,0)),\"\")","v":""},{"$f":"IFERROR((VLOOKUP(B441,'Select ECPs'!$B$2:$E$77,2,0)),\"\")","v":""}]
[null,null,{"$f":"IFERROR((VLOOKUP(B442,'Select ECPs'!$B$2:$E$77,4,0)),\"\")","v":""},{"$f":"IFERROR((VLOOKUP(B442,'Select ECPs'!$B$2:$U$77,20,0)),\"\")","v":""},{"$f":"IFERROR((VLOOKUP(B442,'Select ECPs'!$B$2:$E$77,2,0)),\"\")","v":""}]
[null,null,{"$f":"IFERROR((VLOOKUP(B443,'Select ECPs'!$B$2:$E$77,4,0)),\"\")","v":""},{"$f":"IFERROR((VLOOKUP(B443,'Select ECPs'!$B$2:$U$77,20,0)),\"\")","v":""},{"$f":"IFERROR((VLOOKUP(B443,'Select ECPs'!$B$2:$E$77,2,0)),\"\")","v":""}]
[null,null,{"$f":"IFERROR((VLOOKUP(B444,'Select ECPs'!$B$2:$E$77,4,0)),\"\")","v":""},{"$f":"IFERROR((VLOOKUP(B444,'Select ECPs'!$B$2:$U$77,20,0)),\"\")","v":""},{"$f":"IFERROR((VLOOKUP(B444,'Select ECPs'!$B$2:$E$77,2,0)),\"\")","v":""}]
[null,null,{"$f":"IFERROR((VLOOKUP(B445,'Select ECPs'!$B$2:$E$77,4,0)),\"\")","v":""},{"$f":"IFERROR((VLOOKUP(B445,'Select ECPs'!$B$2:$U$77,20,0)),\"\")","v":""},{"$f":"IFERROR((VLOOKUP(B445,'Select ECPs'!$B$2:$E$77,2,0)),\"\")","v":""}]
[null,null,{"$f":"IFERROR((VLOOKUP(B446,'Select ECPs'!$B$2:$E$77,4,0)),\"\")","v":""},{"$f":"IFERROR((VLOOKUP(B446,'Select ECPs'!$B$2:$U$77,20,0)),\"\")","v":""},{"$f":"IFERROR((VLOOKUP(B446,'Select ECPs'!$B$2:$E$77,2,0)),\"\")","v":""}]
[null,null,{"$f":"IFERROR((VLOOKUP(B447,'Select ECPs'!$B$2:$E$77,4,0)),\"\")","v":""},{"$f":"IFERROR((VLOOKUP(B447,'Select ECPs'!$B$2:$U$77,20,0)),\"\")","v":""},{"$f":"IFERROR((VLOOKUP(B447,'Select ECPs'!$B$2:$E$77,2,0)),\"\")","v":""}]
[null,null,{"$f":"IFERROR((VLOOKUP(B448,'Select ECPs'!$B$2:$E$77,4,0)),\"\")","v":""},{"$f":"IFERROR((VLOOKUP(B448,'Select ECPs'!$B$2:$U$77,20,0)),\"\")","v":""},{"$f":"IFERROR((VLOOKUP(B448,'Select ECPs'!$B$2:$E$77,2,0)),\"\")","v":""}]
[null,null,{"$f":"IFERROR((VLOOKUP(B449,'Select ECPs'!$B$2:$E$77,4,0)),\"\")","v":""},{"$f":"IFERROR((VLOOKUP(B449,'Select ECPs'!$B$2:$U$77,20,0)),\"\")","v":""},{"$f":"IFERROR((VLOOKUP(B449,'Select ECPs'!$B$2:$E$77,2,0)),\"\")","v":""}]
[null,null,{"$f":"IFERROR((VLOOKUP(B450,'Select ECPs'!$B$2:$E$77,4,0)),\"\")","v":""},{"$f":"IFERROR((VLOOKUP(B450,'Select ECPs'!$B$2:$U$77,20,0)),\"\")","v":""},{"$f":"IFERROR((VLOOKUP(B450,'Select ECPs'!$B$2:$E$77,2,0)),\"\")","v":""}]
[null,null,{"$f":"IFERROR((VLOOKUP(B451,'Select ECPs'!$B$2:$E$77,4,0)),\"\")","v":""},{"$f":"IFERROR((VLOOKUP(B451,'Select ECPs'!$B$2:$U$77,20,0)),\"\")","v":""},{"$f":"IFERROR((VLOOKUP(B451,'Select ECPs'!$B$2:$E$77,2,0)),\"\")","v":""}]
[null,null,{"$f":"IFERROR((VLOOKUP(B452,'Select ECPs'!$B$2:$E$77,4,0)),\"\")","v":""},{"$f":"IFERROR((VLOOKUP(B452,'Select ECPs'!$B$2:$U$77,20,0)),\"\")","v":""},{"$f":"IFERROR((VLOOKUP(B452,'Select ECPs'!$B$2:$E$77,2,0)),\"\")","v":""}]
[null,null,{"$f":"IFERROR((VLOOKUP(B453,'Select ECPs'!$B$2:$E$77,4,0)),\"\")","v":""},{"$f":"IFERROR((VLOOKUP(B453,'Select ECPs'!$B$2:$U$77,20,0)),\"\")","v":""},{"$f":"IFERROR((VLOOKUP(B453,'Select ECPs'!$B$2:$E$77,2,0)),\"\")","v":""}]
[null,null,{"$f":"IFERROR((VLOOKUP(B454,'Select ECPs'!$B$2:$E$77,4,0)),\"\")","v":""},{"$f":"IFERROR((VLOOKUP(B454,'Select ECPs'!$B$2:$U$77,20,0)),\"\")","v":""},{"$f":"IFERROR((VLOOKUP(B454,'Select ECPs'!$B$2:$E$77,2,0)),\"\")","v":""}]
[null,null,{"$f":"IFERROR((VLOOKUP(B455,'Select ECPs'!$B$2:$E$77,4,0)),\"\")","v":""},{"$f":"IFERROR((VLOOKUP(B455,'Select ECPs'!$B$2:$U$77,20,0)),\"\")","v":""},{"$f":"IFERROR((VLOOKUP(B455,'Select ECPs'!$B$2:$E$77,2,0)),\"\")","v":""}]
[null,null,{"$f":"IFERROR((VLOOKUP(B456,'Select ECPs'!$B$2:$E$77,4,0)),\"\")","v":""},{"$f":"IFERROR((VLOOKUP(B456,'Select ECPs'!$B$2:$U$77,20,0)),\"\")","v":""},{"$f":"IFERROR((VLOOKUP(B456,'Select ECPs'!$B$2:$E$77,2,0)),\"\")","v":""}]
[null,null,{"$f":"IFERROR((VLOOKUP(B457,'Select ECPs'!$B$2:$E$77,4,0)),\"\")","v":""},{"$f":"IFERROR((VLOOKUP(B457,'Select ECPs'!$B$2:$U$77,20,0)),\"\")","v":""},{"$f":"IFERROR((VLOOKUP(B457,'Select ECPs'!$B$2:$E$77,2,0)),\"\")","v":""}]
[null,null,{"$f":"IFERROR((VLOOKUP(B458,'Select ECPs'!$B$2:$E$77,4,0)),\"\")","v":""},{"$f":"IFERROR((VLOOKUP(B458,'Select ECPs'!$B$2:$U$77,20,0)),\"\")","v":""},{"$f":"IFERROR((VLOOKUP(B458,'Select ECPs'!$B$2:$E$77,2,0)),\"\")","v":""}]
[null,null,{"$f":"IFERROR((VLOOKUP(B459,'Select ECPs'!$B$2:$E$77,4,0)),\"\")","v":""},{"$f":"IFERROR((VLOOKUP(B459,'Select ECPs'!$B$2:$U$77,20,0)),\"\")","v":""},{"$f":"IFERROR((VLOOKUP(B459,'Select ECPs'!$B$2:$E$77,2,0)),\"\")","v":""}]
[null,null,{"$f":"IFERROR((VLOOKUP(B460,'Select ECPs'!$B$2:$E$77,4,0)),\"\")","v":""},{"$f":"IFERROR((VLOOKUP(B460,'Select ECPs'!$B$2:$U$77,20,0)),\"\")","v":""},{"$f":"IFERROR((VLOOKUP(B460,'Select ECPs'!$B$2:$E$77,2,0)),\"\")","v":""}]
[null,null,{"$f":"IFERROR((VLOOKUP(B461,'Select ECPs'!$B$2:$E$77,4,0)),\"\")","v":""},{"$f":"IFERROR((VLOOKUP(B461,'Select ECPs'!$B$2:$U$77,20,0)),\"\")","v":""},{"$f":"IFERROR((VLOOKUP(B461,'Select ECPs'!$B$2:$E$77,2,0)),\"\")","v":""}]
[null,null,{"$f":"IFERROR((VLOOKUP(B462,'Select ECPs'!$B$2:$E$77,4,0)),\"\")","v":""},{"$f":"IFERROR((VLOOKUP(B462,'Select ECPs'!$B$2:$U$77,20,0)),\"\")","v":""},{"$f":"IFERROR((VLOOKUP(B462,'Select ECPs'!$B$2:$E$77,2,0)),\"\")","v":""}]
[null,null,{"$f":"IFERROR((VLOOKUP(B463,'Select ECPs'!$B$2:$E$77,4,0)),\"\")","v":""},{"$f":"IFERROR((VLOOKUP(B463,'Select ECPs'!$B$2:$U$77,20,0)),\"\")","v":""},{"$f":"IFERROR((VLOOKUP(B463,'Select ECPs'!$B$2:$E$77,2,0)),\"\")","v":""}]
[null,null,{"$f":"IFERROR((VLOOKUP(B464,'Select ECPs'!$B$2:$E$77,4,0)),\"\")","v":""},{"$f":"IFERROR((VLOOKUP(B464,'Select ECPs'!$B$2:$U$77,20,0)),\"\")","v":""},{"$f":"IFERROR((VLOOKUP(B464,'Select ECPs'!$B$2:$E$77,2,0)),\"\")","v":""}]
[null,null,{"$f":"IFERROR((VLOOKUP(B465,'Select ECPs'!$B$2:$E$77,4,0)),\"\")","v":""},{"$f":"IFERROR((VLOOKUP(B465,'Select ECPs'!$B$2:$U$77,20,0)),\"\")","v":""},{"$f":"IFERROR((VLOOKUP(B465,'Select ECPs'!$B$2:$E$77,2,0)),\"\")","v":""}]
[null,null,{"$f":"IFERROR((VLOOKUP(B466,'Select ECPs'!$B$2:$E$77,4,0)),\"\")","v":""},{"$f":"IFERROR((VLOOKUP(B466,'Select ECPs'!$B$2:$U$77,20,0)),\"\")","v":""},{"$f":"IFERROR((VLOOKUP(B466,'Select ECPs'!$B$2:$E$77,2,0)),\"\")","v":""}]
[null,null,{"$f":"IFERROR((VLOOKUP(B467,'Select ECPs'!$B$2:$E$77,4,0)),\"\")","v":""},{"$f":"IFERROR((VLOOKUP(B467,'Select ECPs'!$B$2:$U$77,20,0)),\"\")","v":""},{"$f":"IFERROR((VLOOKUP(B467,'Select ECPs'!$B$2:$E$77,2,0)),\"\")","v":""}]
[null,null,{"$f":"IFERROR((VLOOKUP(B468,'Select ECPs'!$B$2:$E$77,4,0)),\"\")","v":""},{"$f":"IFERROR((VLOOKUP(B468,'Select ECPs'!$B$2:$U$77,20,0)),\"\")","v":""},{"$f":"IFERROR((VLOOKUP(B468,'Select ECPs'!$B$2:$E$77,2,0)),\"\")","v":""}]
[null,null,{"$f":"IFERROR((VLOOKUP(B469,'Select ECPs'!$B$2:$E$77,4,0)),\"\")","v":""},{"$f":"IFERROR((VLOOKUP(B469,'Select ECPs'!$B$2:$U$77,20,0)),\"\")","v":""},{"$f":"IFERROR((VLOOKUP(B469,'Select ECPs'!$B$2:$E$77,2,0)),\"\")","v":""}]
[null,null,{"$f":"IFERROR((VLOOKUP(B470,'Select ECPs'!$B$2:$E$77,4,0)),\"\")","v":""},{"$f":"IFERROR((VLOOKUP(B470,'Select ECPs'!$B$2:$U$77,20,0)),\"\")","v":""},{"$f":"IFERROR((VLOOKUP(B470,'Select ECPs'!$B$2:$E$77,2,0)),\"\")","v":""}]
[null,null,{"$f":"IFERROR((VLOOKUP(B471,'Select ECPs'!$B$2:$E$77,4,0)),\"\")","v":""},{"$f":"IFERROR((VLOOKUP(B471,'Select ECPs'!$B$2:$U$77,20,0)),\"\")","v":""},{"$f":"IFERROR((VLOOKUP(B471,'Select ECPs'!$B$2:$E$77,2,0)),\"\")","v":""}]
[null,null,{"$f":"IFERROR((VLOOKUP(B472,'Select ECPs'!$B$2:$E$77,4,0)),\"\")","v":""},{"$f":"IFERROR((VLOOKUP(B472,'Select ECPs'!$B$2:$U$77,20,0)),\"\")","v":""},{"$f":"IFERROR((VLOOKUP(B472,'Select ECPs'!$B$2:$E$77,2,0)),\"\")","v":""}]
[null,null,{"$f":"IFERROR((VLOOKUP(B473,'Select ECPs'!$B$2:$E$77,4,0)),\"\")","v":""},{"$f":"IFERROR((VLOOKUP(B473,'Select ECPs'!$B$2:$U$77,20,0)),\"\")","v":""},{"$f":"IFERROR((VLOOKUP(B473,'Select ECPs'!$B$2:$E$77,2,0)),\"\")","v":""}]
[null,null,{"$f":"IFERROR((VLOOKUP(B474,'Select ECPs'!$B$2:$E$77,4,0)),\"\")","v":""},{"$f":"IFERROR((VLOOKUP(B474,'Select ECPs'!$B$2:$U$77,20,0)),\"\")","v":""},{"$f":"IFERROR((VLOOKUP(B474,'Select ECPs'!$B$2:$E$77,2,0)),\"\")","v":""}]
[null,null,{"$f":"IFERROR((VLOOKUP(B475,'Select ECPs'!$B$2:$E$77,4,0)),\"\")","v":""},{"$f":"IFERROR((VLOOKUP(B475,'Select ECPs'!$B$2:$U$77,20,0)),\"\")","v":""},{"$f":"IFERROR((VLOOKUP(B475,'Select ECPs'!$B$2:$E$77,2,0)),\"\")","v":""}]
[null,null,{"$f":"IFERROR((VLOOKUP(B476,'Select ECPs'!$B$2:$E$77,4,0)),\"\")","v":""},{"$f":"IFERROR((VLOOKUP(B476,'Select ECPs'!$B$2:$U$77,20,0)),\"\")","v":""},{"$f":"IFERROR((VLOOKUP(B476,'Select ECPs'!$B$2:$E$77,2,0)),\"\")","v":""}]
[null,null,{"$f":"IFERROR((VLOOKUP(B477,'Select ECPs'!$B$2:$E$77,4,0)),\"\")","v":""},{"$f":"IFERROR((VLOOKUP(B477,'Select ECPs'!$B$2:$U$77,20,0)),\"\")","v":""},{"$f":"IFERROR((VLOOKUP(B477,'Select ECPs'!$B$2:$E$77,2,0)),\"\")","v":""}]
[null,null,{"$f":"IFERROR((VLOOKUP(B478,'Select ECPs'!$B$2:$E$77,4,0)),\"\")","v":""},{"$f":"IFERROR((VLOOKUP(B478,'Select ECPs'!$B$2:$U$77,20,0)),\"\")","v":""},{"$f":"IFERROR((VLOOKUP(B478,'Select ECPs'!$B$2:$E$77,2,0)),\"\")","v":""}]
[null,null,{"$f":"IFERROR((VLOOKUP(B479,'Select ECPs'!$B$2:$E$77,4,0)),\"\")","v":""},{"$f":"IFERROR((VLOOKUP(B479,'Select ECPs'!$B$2:$U$77,20,0)),\"\")","v":""},{"$f":"IFERROR((VLOOKUP(B479,'Select ECPs'!$B$2:$E$77,2,0)),\"\")","v":""}]
[null,null,{"$f":"IFERROR((VLOOKUP(B480,'Select ECPs'!$B$2:$E$77,4,0)),\"\")","v":""},{"$f":"IFERROR((VLOOKUP(B480,'Select ECPs'!$B$2:$U$77,20,0)),\"\")","v":""},{"$f":"IFERROR((VLOOKUP(B480,'Select ECPs'!$B$2:$E$77,2,0)),\"\")","v":""}]
[null,null,{"$f":"IFERROR((VLOOKUP(B481,'Select ECPs'!$B$2:$E$77,4,0)),\"\")","v":""},{"$f":"IFERROR((VLOOKUP(B481,'Select ECPs'!$B$2:$U$77,20,0)),\"\")","v":""},{"$f":"IFERROR((VLOOKUP(B481,'Select ECPs'!$B$2:$E$77,2,0)),\"\")","v":""}]
[null,null,{"$f":"IFERROR((VLOOKUP(B482,'Select ECPs'!$B$2:$E$77,4,0)),\"\")","v":""},{"$f":"IFERROR((VLOOKUP(B482,'Select ECPs'!$B$2:$U$77,20,0)),\"\")","v":""},{"$f":"IFERROR((VLOOKUP(B482,'Select ECPs'!$B$2:$E$77,2,0)),\"\")","v":""}]
[null,null,{"$f":"IFERROR((VLOOKUP(B483,'Select ECPs'!$B$2:$E$77,4,0)),\"\")","v":""},{"$f":"IFERROR((VLOOKUP(B483,'Select ECPs'!$B$2:$U$77,20,0)),\"\")","v":""},{"$f":"IFERROR((VLOOKUP(B483,'Select ECPs'!$B$2:$E$77,2,0)),\"\")","v":""}]
[null,null,{"$f":"IFERROR((VLOOKUP(B484,'Select ECPs'!$B$2:$E$77,4,0)),\"\")","v":""},{"$f":"IFERROR((VLOOKUP(B484,'Select ECPs'!$B$2:$U$77,20,0)),\"\")","v":""},{"$f":"IFERROR((VLOOKUP(B484,'Select ECPs'!$B$2:$E$77,2,0)),\"\")","v":""}]
[null,null,{"$f":"IFERROR((VLOOKUP(B485,'Select ECPs'!$B$2:$E$77,4,0)),\"\")","v":""},{"$f":"IFERROR((VLOOKUP(B485,'Select ECPs'!$B$2:$U$77,20,0)),\"\")","v":""},{"$f":"IFERROR((VLOOKUP(B485,'Select ECPs'!$B$2:$E$77,2,0)),\"\")","v":""}]
[null,null,{"$f":"IFERROR((VLOOKUP(B486,'Select ECPs'!$B$2:$E$77,4,0)),\"\")","v":""},{"$f":"IFERROR((VLOOKUP(B486,'Select ECPs'!$B$2:$U$77,20,0)),\"\")","v":""},{"$f":"IFERROR((VLOOKUP(B486,'Select ECPs'!$B$2:$E$77,2,0)),\"\")","v":""}]
[null,null,{"$f":"IFERROR((VLOOKUP(B487,'Select ECPs'!$B$2:$E$77,4,0)),\"\")","v":""},{"$f":"IFERROR((VLOOKUP(B487,'Select ECPs'!$B$2:$U$77,20,0)),\"\")","v":""},{"$f":"IFERROR((VLOOKUP(B487,'Select ECPs'!$B$2:$E$77,2,0)),\"\")","v":""}]
[null,null,{"$f":"IFERROR((VLOOKUP(B488,'Select ECPs'!$B$2:$E$77,4,0)),\"\")","v":""},{"$f":"IFERROR((VLOOKUP(B488,'Select ECPs'!$B$2:$U$77,20,0)),\"\")","v":""},{"$f":"IFERROR((VLOOKUP(B488,'Select ECPs'!$B$2:$E$77,2,0)),\"\")","v":""}]
[null,null,{"$f":"IFERROR((VLOOKUP(B489,'Select ECPs'!$B$2:$E$77,4,0)),\"\")","v":""},{"$f":"IFERROR((VLOOKUP(B489,'Select ECPs'!$B$2:$U$77,20,0)),\"\")","v":""},{"$f":"IFERROR((VLOOKUP(B489,'Select ECPs'!$B$2:$E$77,2,0)),\"\")","v":""}]
[null,null,{"$f":"IFERROR((VLOOKUP(B490,'Select ECPs'!$B$2:$E$77,4,0)),\"\")","v":""},{"$f":"IFERROR((VLOOKUP(B490,'Select ECPs'!$B$2:$U$77,20,0)),\"\")","v":""},{"$f":"IFERROR((VLOOKUP(B490,'Select ECPs'!$B$2:$E$77,2,0)),\"\")","v":""}]
[null,null,{"$f":"IFERROR((VLOOKUP(B491,'Select ECPs'!$B$2:$E$77,4,0)),\"\")","v":""},{"$f":"IFERROR((VLOOKUP(B491,'Select ECPs'!$B$2:$U$77,20,0)),\"\")","v":""},{"$f":"IFERROR((VLOOKUP(B491,'Select ECPs'!$B$2:$E$77,2,0)),\"\")","v":""}]
[null,null,{"$f":"IFERROR((VLOOKUP(B492,'Select ECPs'!$B$2:$E$77,4,0)),\"\")","v":""},{"$f":"IFERROR((VLOOKUP(B492,'Select ECPs'!$B$2:$U$77,20,0)),\"\")","v":""},{"$f":"IFERROR((VLOOKUP(B492,'Select ECPs'!$B$2:$E$77,2,0)),\"\")","v":""}]
[null,null,{"$f":"IFERROR((VLOOKUP(B493,'Select ECPs'!$B$2:$E$77,4,0)),\"\")","v":""},{"$f":"IFERROR((VLOOKUP(B493,'Select ECPs'!$B$2:$U$77,20,0)),\"\")","v":""},{"$f":"IFERROR((VLOOKUP(B493,'Select ECPs'!$B$2:$E$77,2,0)),\"\")","v":""}]
[null,null,{"$f":"IFERROR((VLOOKUP(B494,'Select ECPs'!$B$2:$E$77,4,0)),\"\")","v":""},{"$f":"IFERROR((VLOOKUP(B494,'Select ECPs'!$B$2:$U$77,20,0)),\"\")","v":""},{"$f":"IFERROR((VLOOKUP(B494,'Select ECPs'!$B$2:$E$77,2,0)),\"\")","v":""}]
[null,null,{"$f":"IFERROR((VLOOKUP(B495,'Select ECPs'!$B$2:$E$77,4,0)),\"\")","v":""},{"$f":"IFERROR((VLOOKUP(B495,'Select ECPs'!$B$2:$U$77,20,0)),\"\")","v":""},{"$f":"IFERROR((VLOOKUP(B495,'Select ECPs'!$B$2:$E$77,2,0)),\"\")","v":""}]
[null,null,{"$f":"IFERROR((VLOOKUP(B496,'Select ECPs'!$B$2:$E$77,4,0)),\"\")","v":""},null,{"$f":"IFERROR((VLOOKUP(B496,'Select ECPs'!$B$2:$E$77,2,0)),\"\")","v":""}]
[null,null,{"$f":"IFERROR((VLOOKUP(B497,'Select ECPs'!$B$2:$E$77,4,0)),\"\")","v":""},null,{"$f":"IFERROR((VLOOKUP(B497,'Select ECPs'!$B$2:$E$77,2,0)),\"\")","v":""}]
[null,null,{"$f":"IFERROR((VLOOKUP(B498,'Select ECPs'!$B$2:$E$77,4,0)),\"\")","v":""},null,{"$f":"IFERROR((VLOOKUP(B498,'Select ECPs'!$B$2:$E$77,2,0)),\"\")","v":""}]
[null,null,{"$f":"IFERROR((VLOOKUP(B499,'Select ECPs'!$B$2:$E$77,4,0)),\"\")","v":""},null,{"$f":"IFERROR((VLOOKUP(B499,'Select ECPs'!$B$2:$E$77,2,0)),\"\")","v":""}]
[null,null,{"$f":"IFERROR((VLOOKUP(B500,'Select ECPs'!$B$2:$E$77,4,0)),\"\")","v":""},null,{"$f":"IFERROR((VLOOKUP(B500,'Select ECPs'!$B$2:$E$77,2,0)),\"\")","v":""}]
[null,null,{"$f":"IFERROR((VLOOKUP(B501,'Select ECPs'!$B$2:$E$77,4,0)),\"\")","v":""},null,{"$f":"IFERROR((VLOOKUP(B501,'Select ECPs'!$B$2:$E$77,2,0)),\"\")","v":""}]
[null,null,{"$f":"IFERROR((VLOOKUP(B502,'Select ECPs'!$B$2:$E$77,4,0)),\"\")","v":""},null,{"$f":"IFERROR((VLOOKUP(B502,'Select ECPs'!$B$2:$E$77,2,0)),\"\")","v":""}]
[null,null,{"$f":"IFERROR((VLOOKUP(B503,'Select ECPs'!$B$2:$E$77,4,0)),\"\")","v":""},null,{"$f":"IFERROR((VLOOKUP(B503,'Select ECPs'!$B$2:$E$77,2,0)),\"\")","v":""}]
[null,null,{"$f":"IFERROR((VLOOKUP(B504,'Select ECPs'!$B$2:$E$77,4,0)),\"\")","v":""},null,{"$f":"IFERROR((VLOOKUP(B504,'Select ECPs'!$B$2:$E$77,2,0)),\"\")","v":""}]
[null,null,{"$f":"IFERROR((VLOOKUP(B505,'Select ECPs'!$B$2:$E$77,4,0)),\"\")","v":""},null,{"$f":"IFERROR((VLOOKUP(B505,'Select ECPs'!$B$2:$E$77,2,0)),\"\")","v":""}]
[null,null,{"$f":"IFERROR((VLOOKUP(B506,'Select ECPs'!$B$2:$E$77,4,0)),\"\")","v":""},null,{"$f":"IFERROR((VLOOKUP(B506,'Select ECPs'!$B$2:$E$77,2,0)),\"\")","v":""}]
[null,null,{"$f":"IFERROR((VLOOKUP(B507,'Select ECPs'!$B$2:$E$77,4,0)),\"\")","v":""},null,{"$f":"IFERROR((VLOOKUP(B507,'Select ECPs'!$B$2:$E$77,2,0)),\"\")","v":""}]
[null,null,{"$f":"IFERROR((VLOOKUP(B508,'Select ECPs'!$B$2:$E$77,4,0)),\"\")","v":""},null,{"$f":"IFERROR((VLOOKUP(B508,'Select ECPs'!$B$2:$E$77,2,0)),\"\")","v":""}]
[null,null,{"$f":"IFERROR((VLOOKUP(B509,'Select ECPs'!$B$2:$E$77,4,0)),\"\")","v":""},null,{"$f":"IFERROR((VLOOKUP(B509,'Select ECPs'!$B$2:$E$77,2,0)),\"\")","v":""}]
[null,null,{"$f":"IFERROR((VLOOKUP(B510,'Select ECPs'!$B$2:$E$77,4,0)),\"\")","v":""},null,{"$f":"IFERROR((VLOOKUP(B510,'Select ECPs'!$B$2:$E$77,2,0)),\"\")","v":""}]
[null,null,{"$f":"IFERROR((VLOOKUP(B511,'Select ECPs'!$B$2:$E$77,4,0)),\"\")","v":""},null,{"$f":"IFERROR((VLOOKUP(B511,'Select ECPs'!$B$2:$E$77,2,0)),\"\")","v":""}]
[null,null,{"$f":"IFERROR((VLOOKUP(B512,'Select ECPs'!$B$2:$E$77,4,0)),\"\")","v":""},null,{"$f":"IFERROR((VLOOKUP(B512,'Select ECPs'!$B$2:$E$77,2,0)),\"\")","v":""}]
[null,null,{"$f":"IFERROR((VLOOKUP(B513,'Select ECPs'!$B$2:$E$77,4,0)),\"\")","v":""},null,{"$f":"IFERROR((VLOOKUP(B513,'Select ECPs'!$B$2:$E$77,2,0)),\"\")","v":""}]
[null,null,{"$f":"IFERROR((VLOOKUP(B514,'Select ECPs'!$B$2:$E$77,4,0)),\"\")","v":""},null,{"$f":"IFERROR((VLOOKUP(B514,'Select ECPs'!$B$2:$E$77,2,0)),\"\")","v":""}]
[null,null,{"$f":"IFERROR((VLOOKUP(B515,'Select ECPs'!$B$2:$E$77,4,0)),\"\")","v":""},null,{"$f":"IFERROR((VLOOKUP(B515,'Select ECPs'!$B$2:$E$77,2,0)),\"\")","v":""}]
[null,null,{"$f":"IFERROR((VLOOKUP(B516,'Select ECPs'!$B$2:$E$77,4,0)),\"\")","v":""},null,{"$f":"IFERROR((VLOOKUP(B516,'Select ECPs'!$B$2:$E$77,2,0)),\"\")","v":""}]
[null,null,{"$f":"IFERROR((VLOOKUP(B517,'Select ECPs'!$B$2:$E$77,4,0)),\"\")","v":""},null,{"$f":"IFERROR((VLOOKUP(B517,'Select ECPs'!$B$2:$E$77,2,0)),\"\")","v":""}]
[null,null,{"$f":"IFERROR((VLOOKUP(B518,'Select ECPs'!$B$2:$E$77,4,0)),\"\")","v":""},null,{"$f":"IFERROR((VLOOKUP(B518,'Select ECPs'!$B$2:$E$77,2,0)),\"\")","v":""}]
[null,null,{"$f":"IFERROR((VLOOKUP(B519,'Select ECPs'!$B$2:$E$77,4,0)),\"\")","v":""},null,{"$f":"IFERROR((VLOOKUP(B519,'Select ECPs'!$B$2:$E$77,2,0)),\"\")","v":""}]
[null,null,{"$f":"IFERROR((VLOOKUP(B520,'Select ECPs'!$B$2:$E$77,4,0)),\"\")","v":""},null,{"$f":"IFERROR((VLOOKUP(B520,'Select ECPs'!$B$2:$E$77,2,0)),\"\")","v":""}]
[null,null,{"$f":"IFERROR((VLOOKUP(B521,'Select ECPs'!$B$2:$E$77,4,0)),\"\")","v":""},null,{"$f":"IFERROR((VLOOKUP(B521,'Select ECPs'!$B$2:$E$77,2,0)),\"\")","v":""}]
[null,null,{"$f":"IFERROR((VLOOKUP(B522,'Select ECPs'!$B$2:$E$77,4,0)),\"\")","v":""},null,{"$f":"IFERROR((VLOOKUP(B522,'Select ECPs'!$B$2:$E$77,2,0)),\"\")","v":""}]
[null,null,{"$f":"IFERROR((VLOOKUP(B523,'Select ECPs'!$B$2:$E$77,4,0)),\"\")","v":""},null,{"$f":"IFERROR((VLOOKUP(B523,'Select ECPs'!$B$2:$E$77,2,0)),\"\")","v":""}]
[null,null,{"$f":"IFERROR((VLOOKUP(B524,'Select ECPs'!$B$2:$E$77,4,0)),\"\")","v":""},null,{"$f":"IFERROR((VLOOKUP(B524,'Select ECPs'!$B$2:$E$77,2,0)),\"\")","v":""}]
[null,null,{"$f":"IFERROR((VLOOKUP(B525,'Select ECPs'!$B$2:$E$77,4,0)),\"\")","v":""},null,{"$f":"IFERROR((VLOOKUP(B525,'Select ECPs'!$B$2:$E$77,2,0)),\"\")","v":""}]
[null,null,{"$f":"IFERROR((VLOOKUP(B526,'Select ECPs'!$B$2:$E$77,4,0)),\"\")","v":""},null,{"$f":"IFERROR((VLOOKUP(B526,'Select ECPs'!$B$2:$E$77,2,0)),\"\")","v":""}]
[null,null,{"$f":"IFERROR((VLOOKUP(B527,'Select ECPs'!$B$2:$E$77,4,0)),\"\")","v":""},null,{"$f":"IFERROR((VLOOKUP(B527,'Select ECPs'!$B$2:$E$77,2,0)),\"\")","v":""}]
[null,null,{"$f":"IFERROR((VLOOKUP(B528,'Select ECPs'!$B$2:$E$77,4,0)),\"\")","v":""},null,{"$f":"IFERROR((VLOOKUP(B528,'Select ECPs'!$B$2:$E$77,2,0)),\"\")","v":""}]
[null,null,{"$f":"IFERROR((VLOOKUP(B529,'Select ECPs'!$B$2:$E$77,4,0)),\"\")","v":""},null,{"$f":"IFERROR((VLOOKUP(B529,'Select ECPs'!$B$2:$E$77,2,0)),\"\")","v":""}]
[null,null,{"$f":"IFERROR((VLOOKUP(B530,'Select ECPs'!$B$2:$E$77,4,0)),\"\")","v":""},null,{"$f":"IFERROR((VLOOKUP(B530,'Select ECPs'!$B$2:$E$77,2,0)),\"\")","v":""}]
[null,null,{"$f":"IFERROR((VLOOKUP(B531,'Select ECPs'!$B$2:$E$77,4,0)),\"\")","v":""},null,{"$f":"IFERROR((VLOOKUP(B531,'Select ECPs'!$B$2:$E$77,2,0)),\"\")","v":""}]
[null,null,{"$f":"IFERROR((VLOOKUP(B532,'Select ECPs'!$B$2:$E$77,4,0)),\"\")","v":""},null,{"$f":"IFERROR((VLOOKUP(B532,'Select ECPs'!$B$2:$E$77,2,0)),\"\")","v":""}]
[null,null,{"$f":"IFERROR((VLOOKUP(B533,'Select ECPs'!$B$2:$E$77,4,0)),\"\")","v":""},null,{"$f":"IFERROR((VLOOKUP(B533,'Select ECPs'!$B$2:$E$77,2,0)),\"\")","v":""}]
[null,null,{"$f":"IFERROR((VLOOKUP(B534,'Select ECPs'!$B$2:$E$77,4,0)),\"\")","v":""},null,{"$f":"IFERROR((VLOOKUP(B534,'Select ECPs'!$B$2:$E$77,2,0)),\"\")","v":""}]
[null,null,{"$f":"IFERROR((VLOOKUP(B535,'Select ECPs'!$B$2:$E$77,4,0)),\"\")","v":""},null,{"$f":"IFERROR((VLOOKUP(B535,'Select ECPs'!$B$2:$E$77,2,0)),\"\")","v":""}]
[null,null,{"$f":"IFERROR((VLOOKUP(B536,'Select ECPs'!$B$2:$E$77,4,0)),\"\")","v":""},null,{"$f":"IFERROR((VLOOKUP(B536,'Select ECPs'!$B$2:$E$77,2,0)),\"\")","v":""}]
[null,null,{"$f":"IFERROR((VLOOKUP(B537,'Select ECPs'!$B$2:$E$77,4,0)),\"\")","v":""},null,{"$f":"IFERROR((VLOOKUP(B537,'Select ECPs'!$B$2:$E$77,2,0)),\"\")","v":""}]
[null,null,{"$f":"IFERROR((VLOOKUP(B538,'Select ECPs'!$B$2:$E$77,4,0)),\"\")","v":""},null,{"$f":"IFERROR((VLOOKUP(B538,'Select ECPs'!$B$2:$E$77,2,0)),\"\")","v":""}]
[null,null,{"$f":"IFERROR((VLOOKUP(B539,'Select ECPs'!$B$2:$E$77,4,0)),\"\")","v":""},null,{"$f":"IFERROR((VLOOKUP(B539,'Select ECPs'!$B$2:$E$77,2,0)),\"\")","v":""}]
[null,null,{"$f":"IFERROR((VLOOKUP(B540,'Select ECPs'!$B$2:$E$77,4,0)),\"\")","v":""},null,{"$f":"IFERROR((VLOOKUP(B540,'Select ECPs'!$B$2:$E$77,2,0)),\"\")","v":""}]
[null,null,{"$f":"IFERROR((VLOOKUP(B541,'Select ECPs'!$B$2:$E$77,4,0)),\"\")","v":""},null,{"$f":"IFERROR((VLOOKUP(B541,'Select ECPs'!$B$2:$E$77,2,0)),\"\")","v":""}]
[null,null,{"$f":"IFERROR((VLOOKUP(B542,'Select ECPs'!$B$2:$E$77,4,0)),\"\")","v":""},null,{"$f":"IFERROR((VLOOKUP(B542,'Select ECPs'!$B$2:$E$77,2,0)),\"\")","v":""}]
[null,null,{"$f":"IFERROR((VLOOKUP(B543,'Select ECPs'!$B$2:$E$77,4,0)),\"\")","v":""},null,{"$f":"IFERROR((VLOOKUP(B543,'Select ECPs'!$B$2:$E$77,2,0)),\"\")","v":""}]
[null,null,{"$f":"IFERROR((VLOOKUP(B544,'Select ECPs'!$B$2:$E$77,4,0)),\"\")","v":""},null,{"$f":"IFERROR((VLOOKUP(B544,'Select ECPs'!$B$2:$E$77,2,0)),\"\")","v":""}]
[null,null,{"$f":"IFERROR((VLOOKUP(B545,'Select ECPs'!$B$2:$E$77,4,0)),\"\")","v":""},null,{"$f":"IFERROR((VLOOKUP(B545,'Select ECPs'!$B$2:$E$77,2,0)),\"\")","v":""}]
[null,null,{"$f":"IFERROR((VLOOKUP(B546,'Select ECPs'!$B$2:$E$77,4,0)),\"\")","v":""},null,{"$f":"IFERROR((VLOOKUP(B546,'Select ECPs'!$B$2:$E$77,2,0)),\"\")","v":""}]
[null,null,{"$f":"IFERROR((VLOOKUP(B547,'Select ECPs'!$B$2:$E$77,4,0)),\"\")","v":""},null,{"$f":"IFERROR((VLOOKUP(B547,'Select ECPs'!$B$2:$E$77,2,0)),\"\")","v":""}]
[null,null,{"$f":"IFERROR((VLOOKUP(B548,'Select ECPs'!$B$2:$E$77,4,0)),\"\")","v":""},null,{"$f":"IFERROR((VLOOKUP(B548,'Select ECPs'!$B$2:$E$77,2,0)),\"\")","v":""}]
[null,null,{"$f":"IFERROR((VLOOKUP(B549,'Select ECPs'!$B$2:$E$77,4,0)),\"\")","v":""},null,{"$f":"IFERROR((VLOOKUP(B549,'Select ECPs'!$B$2:$E$77,2,0)),\"\")","v":""}]
[null,null,{"$f":"IFERROR((VLOOKUP(B550,'Select ECPs'!$B$2:$E$77,4,0)),\"\")","v":""},null,{"$f":"IFERROR((VLOOKUP(B550,'Select ECPs'!$B$2:$E$77,2,0)),\"\")","v":""}]
[null,null,{"$f":"IFERROR((VLOOKUP(B551,'Select ECPs'!$B$2:$E$77,4,0)),\"\")","v":""},null,{"$f":"IFERROR((VLOOKUP(B551,'Select ECPs'!$B$2:$E$77,2,0)),\"\")","v":""}]
[null,null,{"$f":"IFERROR((VLOOKUP(B552,'Select ECPs'!$B$2:$E$77,4,0)),\"\")","v":""},null,{"$f":"IFERROR((VLOOKUP(B552,'Select ECPs'!$B$2:$E$77,2,0)),\"\")","v":""}]
[null,null,{"$f":"IFERROR((VLOOKUP(B553,'Select ECPs'!$B$2:$E$77,4,0)),\"\")","v":""},null,{"$f":"IFERROR((VLOOKUP(B553,'Select ECPs'!$B$2:$E$77,2,0)),\"\")","v":""}]
[null,null,{"$f":"IFERROR((VLOOKUP(B554,'Select ECPs'!$B$2:$E$77,4,0)),\"\")","v":""},null,{"$f":"IFERROR((VLOOKUP(B554,'Select ECPs'!$B$2:$E$77,2,0)),\"\")","v":""}]
[null,null,{"$f":"IFERROR((VLOOKUP(B555,'Select ECPs'!$B$2:$E$77,4,0)),\"\")","v":""},null,{"$f":"IFERROR((VLOOKUP(B555,'Select ECPs'!$B$2:$E$77,2,0)),\"\")","v":""}]
[null,null,{"$f":"IFERROR((VLOOKUP(B556,'Select ECPs'!$B$2:$E$77,4,0)),\"\")","v":""},null,{"$f":"IFERROR((VLOOKUP(B556,'Select ECPs'!$B$2:$E$77,2,0)),\"\")","v":""}]
[null,null,{"$f":"IFERROR((VLOOKUP(B557,'Select ECPs'!$B$2:$E$77,4,0)),\"\")","v":""},null,{"$f":"IFERROR((VLOOKUP(B557,'Select ECPs'!$B$2:$E$77,2,0)),\"\")","v":""}]
[null,null,{"$f":"IFERROR((VLOOKUP(B558,'Select ECPs'!$B$2:$E$77,4,0)),\"\")","v":""},null,{"$f":"IFERROR((VLOOKUP(B558,'Select ECPs'!$B$2:$E$77,2,0)),\"\")","v":""}]
[null,null,{"$f":"IFERROR((VLOOKUP(B559,'Select ECPs'!$B$2:$E$77,4,0)),\"\")","v":""},null,{"$f":"IFERROR((VLOOKUP(B559,'Select ECPs'!$B$2:$E$77,2,0)),\"\")","v":""}]
[null,null,{"$f":"IFERROR((VLOOKUP(B560,'Select ECPs'!$B$2:$E$77,4,0)),\"\")","v":""},null,{"$f":"IFERROR((VLOOKUP(B560,'Select ECPs'!$B$2:$E$77,2,0)),\"\")","v":""}]
[null,null,{"$f":"IFERROR((VLOOKUP(B561,'Select ECPs'!$B$2:$E$77,4,0)),\"\")","v":""},null,{"$f":"IFERROR((VLOOKUP(B561,'Select ECPs'!$B$2:$E$77,2,0)),\"\")","v":""}]
[null,null,{"$f":"IFERROR((VLOOKUP(B562,'Select ECPs'!$B$2:$E$77,4,0)),\"\")","v":""},null,{"$f":"IFERROR((VLOOKUP(B562,'Select ECPs'!$B$2:$E$77,2,0)),\"\")","v":""}]
[null,null,{"$f":"IFERROR((VLOOKUP(B563,'Select ECPs'!$B$2:$E$77,4,0)),\"\")","v":""},null,{"$f":"IFERROR((VLOOKUP(B563,'Select ECPs'!$B$2:$E$77,2,0)),\"\")","v":""}]
[null,null,{"$f":"IFERROR((VLOOKUP(B564,'Select ECPs'!$B$2:$E$77,4,0)),\"\")","v":""},null,{"$f":"IFERROR((VLOOKUP(B564,'Select ECPs'!$B$2:$E$77,2,0)),\"\")","v":""}]
[null,null,{"$f":"IFERROR((VLOOKUP(B565,'Select ECPs'!$B$2:$E$77,4,0)),\"\")","v":""},null,{"$f":"IFERROR((VLOOKUP(B565,'Select ECPs'!$B$2:$E$77,2,0)),\"\")","v":""}]
[null,null,{"$f":"IFERROR((VLOOKUP(B566,'Select ECPs'!$B$2:$E$77,4,0)),\"\")","v":""},null,{"$f":"IFERROR((VLOOKUP(B566,'Select ECPs'!$B$2:$E$77,2,0)),\"\")","v":""}]
[null,null,{"$f":"IFERROR((VLOOKUP(B567,'Select ECPs'!$B$2:$E$77,4,0)),\"\")","v":""},null,{"$f":"IFERROR((VLOOKUP(B567,'Select ECPs'!$B$2:$E$77,2,0)),\"\")","v":""}]
[null,null,{"$f":"IFERROR((VLOOKUP(B568,'Select ECPs'!$B$2:$E$77,4,0)),\"\")","v":""},null,{"$f":"IFERROR((VLOOKUP(B568,'Select ECPs'!$B$2:$E$77,2,0)),\"\")","v":""}]
[null,null,{"$f":"IFERROR((VLOOKUP(B569,'Select ECPs'!$B$2:$E$77,4,0)),\"\")","v":""},null,{"$f":"IFERROR((VLOOKUP(B569,'Select ECPs'!$B$2:$E$77,2,0)),\"\")","v":""}]
[null,null,{"$f":"IFERROR((VLOOKUP(B570,'Select ECPs'!$B$2:$E$77,4,0)),\"\")","v":""},null,{"$f":"IFERROR((VLOOKUP(B570,'Select ECPs'!$B$2:$E$77,2,0)),\"\")","v":""}]
[null,null,{"$f":"IFERROR((VLOOKUP(B571,'Select ECPs'!$B$2:$E$77,4,0)),\"\")","v":""},null,{"$f":"IFERROR((VLOOKUP(B571,'Select ECPs'!$B$2:$E$77,2,0)),\"\")","v":""}]
[null,null,{"$f":"IFERROR((VLOOKUP(B572,'Select ECPs'!$B$2:$E$77,4,0)),\"\")","v":""},null,{"$f":"IFERROR((VLOOKUP(B572,'Select ECPs'!$B$2:$E$77,2,0)),\"\")","v":""}]
[null,null,{"$f":"IFERROR((VLOOKUP(B573,'Select ECPs'!$B$2:$E$77,4,0)),\"\")","v":""},null,{"$f":"IFERROR((VLOOKUP(B573,'Select ECPs'!$B$2:$E$77,2,0)),\"\")","v":""}]
[null,null,{"$f":"IFERROR((VLOOKUP(B574,'Select ECPs'!$B$2:$E$77,4,0)),\"\")","v":""},null,{"$f":"IFERROR((VLOOKUP(B574,'Select ECPs'!$B$2:$E$77,2,0)),\"\")","v":""}]
[null,null,{"$f":"IFERROR((VLOOKUP(B575,'Select ECPs'!$B$2:$E$77,4,0)),\"\")","v":""},null,{"$f":"IFERROR((VLOOKUP(B575,'Select ECPs'!$B$2:$E$77,2,0)),\"\")","v":""}]
[null,null,{"$f":"IFERROR((VLOOKUP(B576,'Select ECPs'!$B$2:$E$77,4,0)),\"\")","v":""},null,{"$f":"IFERROR((VLOOKUP(B576,'Select ECPs'!$B$2:$E$77,2,0)),\"\")","v":""}]
[null,null,{"$f":"IFERROR((VLOOKUP(B577,'Select ECPs'!$B$2:$E$77,4,0)),\"\")","v":""},null,{"$f":"IFERROR((VLOOKUP(B577,'Select ECPs'!$B$2:$E$77,2,0)),\"\")","v":""}]
[null,null,{"$f":"IFERROR((VLOOKUP(B578,'Select ECPs'!$B$2:$E$77,4,0)),\"\")","v":""},null,{"$f":"IFERROR((VLOOKUP(B578,'Select ECPs'!$B$2:$E$77,2,0)),\"\")","v":""}]
[null,null,{"$f":"IFERROR((VLOOKUP(B579,'Select ECPs'!$B$2:$E$77,4,0)),\"\")","v":""},null,{"$f":"IFERROR((VLOOKUP(B579,'Select ECPs'!$B$2:$E$77,2,0)),\"\")","v":""}]
[null,null,{"$f":"IFERROR((VLOOKUP(B580,'Select ECPs'!$B$2:$E$77,4,0)),\"\")","v":""},null,{"$f":"IFERROR((VLOOKUP(B580,'Select ECPs'!$B$2:$E$77,2,0)),\"\")","v":""}]
[null,null,{"$f":"IFERROR((VLOOKUP(B581,'Select ECPs'!$B$2:$E$77,4,0)),\"\")","v":""},null,{"$f":"IFERROR((VLOOKUP(B581,'Select ECPs'!$B$2:$E$77,2,0)),\"\")","v":""}]
[null,null,{"$f":"IFERROR((VLOOKUP(B582,'Select ECPs'!$B$2:$E$77,4,0)),\"\")","v":""},null,{"$f":"IFERROR((VLOOKUP(B582,'Select ECPs'!$B$2:$E$77,2,0)),\"\")","v":""}]
[null,null,{"$f":"IFERROR((VLOOKUP(B583,'Select ECPs'!$B$2:$E$77,4,0)),\"\")","v":""},null,{"$f":"IFERROR((VLOOKUP(B583,'Select ECPs'!$B$2:$E$77,2,0)),\"\")","v":""}]
[null,null,{"$f":"IFERROR((VLOOKUP(B584,'Select ECPs'!$B$2:$E$77,4,0)),\"\")","v":""},null,{"$f":"IFERROR((VLOOKUP(B584,'Select ECPs'!$B$2:$E$77,2,0)),\"\")","v":""}]
[null,null,{"$f":"IFERROR((VLOOKUP(B585,'Select ECPs'!$B$2:$E$77,4,0)),\"\")","v":""},null,{"$f":"IFERROR((VLOOKUP(B585,'Select ECPs'!$B$2:$E$77,2,0)),\"\")","v":""}]
[null,null,{"$f":"IFERROR((VLOOKUP(B586,'Select ECPs'!$B$2:$E$77,4,0)),\"\")","v":""},null,{"$f":"IFERROR((VLOOKUP(B586,'Select ECPs'!$B$2:$E$77,2,0)),\"\")","v":""}]
[null,null,{"$f":"IFERROR((VLOOKUP(B587,'Select ECPs'!$B$2:$E$77,4,0)),\"\")","v":""},null,{"$f":"IFERROR((VLOOKUP(B587,'Select ECPs'!$B$2:$E$77,2,0)),\"\")","v":""}]
[null,null,{"$f":"IFERROR((VLOOKUP(B588,'Select ECPs'!$B$2:$E$77,4,0)),\"\")","v":""},null,{"$f":"IFERROR((VLOOKUP(B588,'Select ECPs'!$B$2:$E$77,2,0)),\"\")","v":""}]
[null,null,{"$f":"IFERROR((VLOOKUP(B589,'Select ECPs'!$B$2:$E$77,4,0)),\"\")","v":""},null,{"$f":"IFERROR((VLOOKUP(B589,'Select ECPs'!$B$2:$E$77,2,0)),\"\")","v":""}]
[null,null,{"$f":"IFERROR((VLOOKUP(B590,'Select ECPs'!$B$2:$E$77,4,0)),\"\")","v":""},null,{"$f":"IFERROR((VLOOKUP(B590,'Select ECPs'!$B$2:$E$77,2,0)),\"\")","v":""}]
[null,null,{"$f":"IFERROR((VLOOKUP(B591,'Select ECPs'!$B$2:$E$77,4,0)),\"\")","v":""},null,{"$f":"IFERROR((VLOOKUP(B591,'Select ECPs'!$B$2:$E$77,2,0)),\"\")","v":""}]
[null,null,{"$f":"IFERROR((VLOOKUP(B592,'Select ECPs'!$B$2:$E$77,4,0)),\"\")","v":""},null,{"$f":"IFERROR((VLOOKUP(B592,'Select ECPs'!$B$2:$E$77,2,0)),\"\")","v":""}]
[null,null,{"$f":"IFERROR((VLOOKUP(B593,'Select ECPs'!$B$2:$E$77,4,0)),\"\")","v":""},null,{"$f":"IFERROR((VLOOKUP(B593,'Select ECPs'!$B$2:$E$77,2,0)),\"\")","v":""}]
[null,null,{"$f":"IFERROR((VLOOKUP(B594,'Select ECPs'!$B$2:$E$77,4,0)),\"\")","v":""},null,{"$f":"IFERROR((VLOOKUP(B594,'Select ECPs'!$B$2:$E$77,2,0)),\"\")","v":""}]
[null,null,{"$f":"IFERROR((VLOOKUP(B595,'Select ECPs'!$B$2:$E$77,4,0)),\"\")","v":""},null,{"$f":"IFERROR((VLOOKUP(B595,'Select ECPs'!$B$2:$E$77,2,0)),\"\")","v":""}]
[null,null,{"$f":"IFERROR((VLOOKUP(B596,'Select ECPs'!$B$2:$E$77,4,0)),\"\")","v":""},null,{"$f":"IFERROR((VLOOKUP(B596,'Select ECPs'!$B$2:$E$77,2,0)),\"\")","v":""}]
[null,null,{"$f":"IFERROR((VLOOKUP(B597,'Select ECPs'!$B$2:$E$77,4,0)),\"\")","v":""},null,{"$f":"IFERROR((VLOOKUP(B597,'Select ECPs'!$B$2:$E$77,2,0)),\"\")","v":""}]
[null,null,{"$f":"IFERROR((VLOOKUP(B598,'Select ECPs'!$B$2:$E$77,4,0)),\"\")","v":""},null,{"$f":"IFERROR((VLOOKUP(B598,'Select ECPs'!$B$2:$E$77,2,0)),\"\")","v":""}]
[null,null,{"$f":"IFERROR((VLOOKUP(B599,'Select ECPs'!$B$2:$E$77,4,0)),\"\")","v":""},null,{"$f":"IFERROR((VLOOKUP(B599,'Select ECPs'!$B$2:$E$77,2,0)),\"\")","v":""}]
[null,null,{"$f":"IFERROR((VLOOKUP(B600,'Select ECPs'!$B$2:$E$77,4,0)),\"\")","v":""},null,{"$f":"IFERROR((VLOOKUP(B600,'Select ECPs'!$B$2:$E$77,2,0)),\"\")","v":""}]
[null,null,{"$f":"IFERROR((VLOOKUP(B601,'Select ECPs'!$B$2:$E$77,4,0)),\"\")","v":""},null,{"$f":"IFERROR((VLOOKUP(B601,'Select ECPs'!$B$2:$E$77,2,0)),\"\")","v":""}]
[null,null,{"$f":"IFERROR((VLOOKUP(B602,'Select ECPs'!$B$2:$E$77,4,0)),\"\")","v":""},null,{"$f":"IFERROR((VLOOKUP(B602,'Select ECPs'!$B$2:$E$77,2,0)),\"\")","v":""}]
[null,null,{"$f":"IFERROR((VLOOKUP(B603,'Select ECPs'!$B$2:$E$77,4,0)),\"\")","v":""},null,{"$f":"IFERROR((VLOOKUP(B603,'Select ECPs'!$B$2:$E$77,2,0)),\"\")","v":""}]
[null,null,{"$f":"IFERROR((VLOOKUP(B604,'Select ECPs'!$B$2:$E$77,4,0)),\"\")","v":""},null,{"$f":"IFERROR((VLOOKUP(B604,'Select ECPs'!$B$2:$E$77,2,0)),\"\")","v":""}]
[null,null,{"$f":"IFERROR((VLOOKUP(B605,'Select ECPs'!$B$2:$E$77,4,0)),\"\")","v":""},null,{"$f":"IFERROR((VLOOKUP(B605,'Select ECPs'!$B$2:$E$77,2,0)),\"\")","v":""}]
[null,null,{"$f":"IFERROR((VLOOKUP(B606,'Select ECPs'!$B$2:$E$77,4,0)),\"\")","v":""},null,{"$f":"IFERROR((VLOOKUP(B606,'Select ECPs'!$B$2:$E$77,2,0)),\"\")","v":""}]
[null,null,{"$f":"IFERROR((VLOOKUP(B607,'Select ECPs'!$B$2:$E$77,4,0)),\"\")","v":""},null,{"$f":"IFERROR((VLOOKUP(B607,'Select ECPs'!$B$2:$E$77,2,0)),\"\")","v":""}]
[null,null,{"$f":"IFERROR((VLOOKUP(B608,'Select ECPs'!$B$2:$E$77,4,0)),\"\")","v":""},null,{"$f":"IFERROR((VLOOKUP(B608,'Select ECPs'!$B$2:$E$77,2,0)),\"\")","v":""}]
[null,null,{"$f":"IFERROR((VLOOKUP(B609,'Select ECPs'!$B$2:$E$77,4,0)),\"\")","v":""},null,{"$f":"IFERROR((VLOOKUP(B609,'Select ECPs'!$B$2:$E$77,2,0)),\"\")","v":""}]
[null,null,{"$f":"IFERROR((VLOOKUP(B610,'Select ECPs'!$B$2:$E$77,4,0)),\"\")","v":""},null,{"$f":"IFERROR((VLOOKUP(B610,'Select ECPs'!$B$2:$E$77,2,0)),\"\")","v":""}]
[null,null,{"$f":"IFERROR((VLOOKUP(B611,'Select ECPs'!$B$2:$E$77,4,0)),\"\")","v":""},null,{"$f":"IFERROR((VLOOKUP(B611,'Select ECPs'!$B$2:$E$77,2,0)),\"\")","v":""}]
[null,null,{"$f":"IFERROR((VLOOKUP(B612,'Select ECPs'!$B$2:$E$77,4,0)),\"\")","v":""},null,{"$f":"IFERROR((VLOOKUP(B612,'Select ECPs'!$B$2:$E$77,2,0)),\"\")","v":""}]
[null,null,{"$f":"IFERROR((VLOOKUP(B613,'Select ECPs'!$B$2:$E$77,4,0)),\"\")","v":""},null,{"$f":"IFERROR((VLOOKUP(B613,'Select ECPs'!$B$2:$E$77,2,0)),\"\")","v":""}]
[null,null,{"$f":"IFERROR((VLOOKUP(B614,'Select ECPs'!$B$2:$E$77,4,0)),\"\")","v":""},null,{"$f":"IFERROR((VLOOKUP(B614,'Select ECPs'!$B$2:$E$77,2,0)),\"\")","v":""}]
[null,null,{"$f":"IFERROR((VLOOKUP(B615,'Select ECPs'!$B$2:$E$77,4,0)),\"\")","v":""},null,{"$f":"IFERROR((VLOOKUP(B615,'Select ECPs'!$B$2:$E$77,2,0)),\"\")","v":""}]
[null,null,{"$f":"IFERROR((VLOOKUP(B616,'Select ECPs'!$B$2:$E$77,4,0)),\"\")","v":""},null,{"$f":"IFERROR((VLOOKUP(B616,'Select ECPs'!$B$2:$E$77,2,0)),\"\")","v":""}]
[null,null,{"$f":"IFERROR((VLOOKUP(B617,'Select ECPs'!$B$2:$E$77,4,0)),\"\")","v":""},null,{"$f":"IFERROR((VLOOKUP(B617,'Select ECPs'!$B$2:$E$77,2,0)),\"\")","v":""}]
[null,null,{"$f":"IFERROR((VLOOKUP(B618,'Select ECPs'!$B$2:$E$77,4,0)),\"\")","v":""},null,{"$f":"IFERROR((VLOOKUP(B618,'Select ECPs'!$B$2:$E$77,2,0)),\"\")","v":""}]
[null,null,{"$f":"IFERROR((VLOOKUP(B619,'Select ECPs'!$B$2:$E$77,4,0)),\"\")","v":""},null,{"$f":"IFERROR((VLOOKUP(B619,'Select ECPs'!$B$2:$E$77,2,0)),\"\")","v":""}]
[null,null,{"$f":"IFERROR((VLOOKUP(B620,'Select ECPs'!$B$2:$E$77,4,0)),\"\")","v":""},null,{"$f":"IFERROR((VLOOKUP(B620,'Select ECPs'!$B$2:$E$77,2,0)),\"\")","v":""}]
[null,null,{"$f":"IFERROR((VLOOKUP(B621,'Select ECPs'!$B$2:$E$77,4,0)),\"\")","v":""},null,{"$f":"IFERROR((VLOOKUP(B621,'Select ECPs'!$B$2:$E$77,2,0)),\"\")","v":""}]
[null,null,{"$f":"IFERROR((VLOOKUP(B622,'Select ECPs'!$B$2:$E$77,4,0)),\"\")","v":""},null,{"$f":"IFERROR((VLOOKUP(B622,'Select ECPs'!$B$2:$E$77,2,0)),\"\")","v":""}]
[null,null,{"$f":"IFERROR((VLOOKUP(B623,'Select ECPs'!$B$2:$E$77,4,0)),\"\")","v":""},null,{"$f":"IFERROR((VLOOKUP(B623,'Select ECPs'!$B$2:$E$77,2,0)),\"\")","v":""}]
[null,null,{"$f":"IFERROR((VLOOKUP(B624,'Select ECPs'!$B$2:$E$77,4,0)),\"\")","v":""},null,{"$f":"IFERROR((VLOOKUP(B624,'Select ECPs'!$B$2:$E$77,2,0)),\"\")","v":""}]
[null,null,{"$f":"IFERROR((VLOOKUP(B625,'Select ECPs'!$B$2:$E$77,4,0)),\"\")","v":""},null,{"$f":"IFERROR((VLOOKUP(B625,'Select ECPs'!$B$2:$E$77,2,0)),\"\")","v":""}]
[null,null,{"$f":"IFERROR((VLOOKUP(B626,'Select ECPs'!$B$2:$E$77,4,0)),\"\")","v":""},null,{"$f":"IFERROR((VLOOKUP(B626,'Select ECPs'!$B$2:$E$77,2,0)),\"\")","v":""}]
[null,null,{"$f":"IFERROR((VLOOKUP(B627,'Select ECPs'!$B$2:$E$77,4,0)),\"\")","v":""},null,{"$f":"IFERROR((VLOOKUP(B627,'Select ECPs'!$B$2:$E$77,2,0)),\"\")","v":""}]
[null,null,{"$f":"IFERROR((VLOOKUP(B628,'Select ECPs'!$B$2:$E$77,4,0)),\"\")","v":""},null,{"$f":"IFERROR((VLOOKUP(B628,'Select ECPs'!$B$2:$E$77,2,0)),\"\")","v":""}]
[null,null,{"$f":"IFERROR((VLOOKUP(B629,'Select ECPs'!$B$2:$E$77,4,0)),\"\")","v":""},null,{"$f":"IFERROR((VLOOKUP(B629,'Select ECPs'!$B$2:$E$77,2,0)),\"\")","v":""}]
[null,null,{"$f":"IFERROR((VLOOKUP(B630,'Select ECPs'!$B$2:$E$77,4,0)),\"\")","v":""},null,{"$f":"IFERROR((VLOOKUP(B630,'Select ECPs'!$B$2:$E$77,2,0)),\"\")","v":""}]
[null,null,{"$f":"IFERROR((VLOOKUP(B631,'Select ECPs'!$B$2:$E$77,4,0)),\"\")","v":""},null,{"$f":"IFERROR((VLOOKUP(B631,'Select ECPs'!$B$2:$E$77,2,0)),\"\")","v":""}]
[null,null,{"$f":"IFERROR((VLOOKUP(B632,'Select ECPs'!$B$2:$E$77,4,0)),\"\")","v":""},null,{"$f":"IFERROR((VLOOKUP(B632,'Select ECPs'!$B$2:$E$77,2,0)),\"\")","v":""}]
[null,null,{"$f":"IFERROR((VLOOKUP(B633,'Select ECPs'!$B$2:$E$77,4,0)),\"\")","v":""},null,{"$f":"IFERROR((VLOOKUP(B633,'Select ECPs'!$B$2:$E$77,2,0)),\"\")","v":""}]
[null,null,{"$f":"IFERROR((VLOOKUP(B634,'Select ECPs'!$B$2:$E$77,4,0)),\"\")","v":""},null,{"$f":"IFERROR((VLOOKUP(B634,'Select ECPs'!$B$2:$E$77,2,0)),\"\")","v":""}]
[null,null,{"$f":"IFERROR((VLOOKUP(B635,'Select ECPs'!$B$2:$E$77,4,0)),\"\")","v":""},null,{"$f":"IFERROR((VLOOKUP(B635,'Select ECPs'!$B$2:$E$77,2,0)),\"\")","v":""}]
[null,null,{"$f":"IFERROR((VLOOKUP(B636,'Select ECPs'!$B$2:$E$77,4,0)),\"\")","v":""},null,{"$f":"IFERROR((VLOOKUP(B636,'Select ECPs'!$B$2:$E$77,2,0)),\"\")","v":""}]
[null,null,{"$f":"IFERROR((VLOOKUP(B637,'Select ECPs'!$B$2:$E$77,4,0)),\"\")","v":""},null,{"$f":"IFERROR((VLOOKUP(B637,'Select ECPs'!$B$2:$E$77,2,0)),\"\")","v":""}]
[null,null,{"$f":"IFERROR((VLOOKUP(B638,'Select ECPs'!$B$2:$E$77,4,0)),\"\")","v":""},null,{"$f":"IFERROR((VLOOKUP(B638,'Select ECPs'!$B$2:$E$77,2,0)),\"\")","v":""}]
[null,null,{"$f":"IFERROR((VLOOKUP(B639,'Select ECPs'!$B$2:$E$77,4,0)),\"\")","v":""},null,{"$f":"IFERROR((VLOOKUP(B639,'Select ECPs'!$B$2:$E$77,2,0)),\"\")","v":""}]
[null,null,{"$f":"IFERROR((VLOOKUP(B640,'Select ECPs'!$B$2:$E$77,4,0)),\"\")","v":""},null,{"$f":"IFERROR((VLOOKUP(B640,'Select ECPs'!$B$2:$E$77,2,0)),\"\")","v":""}]
[null,null,{"$f":"IFERROR((VLOOKUP(B641,'Select ECPs'!$B$2:$E$77,4,0)),\"\")","v":""},null,{"$f":"IFERROR((VLOOKUP(B641,'Select ECPs'!$B$2:$E$77,2,0)),\"\")","v":""}]
[null,null,{"$f":"IFERROR((VLOOKUP(B642,'Select ECPs'!$B$2:$E$77,4,0)),\"\")","v":""},null,{"$f":"IFERROR((VLOOKUP(B642,'Select ECPs'!$B$2:$E$77,2,0)),\"\")","v":""}]
[null,null,{"$f":"IFERROR((VLOOKUP(B643,'Select ECPs'!$B$2:$E$77,4,0)),\"\")","v":""},null,{"$f":"IFERROR((VLOOKUP(B643,'Select ECPs'!$B$2:$E$77,2,0)),\"\")","v":""}]
[null,null,{"$f":"IFERROR((VLOOKUP(B644,'Select ECPs'!$B$2:$E$77,4,0)),\"\")","v":""},null,{"$f":"IFERROR((VLOOKUP(B644,'Select ECPs'!$B$2:$E$77,2,0)),\"\")","v":""}]
[null,null,{"$f":"IFERROR((VLOOKUP(B645,'Select ECPs'!$B$2:$E$77,4,0)),\"\")","v":""},null,{"$f":"IFERROR((VLOOKUP(B645,'Select ECPs'!$B$2:$E$77,2,0)),\"\")","v":""}]
[null,null,{"$f":"IFERROR((VLOOKUP(B646,'Select ECPs'!$B$2:$E$77,4,0)),\"\")","v":""},null,{"$f":"IFERROR((VLOOKUP(B646,'Select ECPs'!$B$2:$E$77,2,0)),\"\")","v":""}]
[null,null,{"$f":"IFERROR((VLOOKUP(B647,'Select ECPs'!$B$2:$E$77,4,0)),\"\")","v":""},null,{"$f":"IFERROR((VLOOKUP(B647,'Select ECPs'!$B$2:$E$77,2,0)),\"\")","v":""}]
[null,null,{"$f":"IFERROR((VLOOKUP(B648,'Select ECPs'!$B$2:$E$77,4,0)),\"\")","v":""},null,{"$f":"IFERROR((VLOOKUP(B648,'Select ECPs'!$B$2:$E$77,2,0)),\"\")","v":""}]
[null,null,{"$f":"IFERROR((VLOOKUP(B649,'Select ECPs'!$B$2:$E$77,4,0)),\"\")","v":""},null,{"$f":"IFERROR((VLOOKUP(B649,'Select ECPs'!$B$2:$E$77,2,0)),\"\")","v":""}]
[null,null,{"$f":"IFERROR((VLOOKUP(B650,'Select ECPs'!$B$2:$E$77,4,0)),\"\")","v":""},null,{"$f":"IFERROR((VLOOKUP(B650,'Select ECPs'!$B$2:$E$77,2,0)),\"\")","v":""}]
[null,null,{"$f":"IFERROR((VLOOKUP(B651,'Select ECPs'!$B$2:$E$77,4,0)),\"\")","v":""},null,{"$f":"IFERROR((VLOOKUP(B651,'Select ECPs'!$B$2:$E$77,2,0)),\"\")","v":""}]
[null,null,{"$f":"IFERROR((VLOOKUP(B652,'Select ECPs'!$B$2:$E$77,4,0)),\"\")","v":""},null,{"$f":"IFERROR((VLOOKUP(B652,'Select ECPs'!$B$2:$E$77,2,0)),\"\")","v":""}]
[null,null,{"$f":"IFERROR((VLOOKUP(B653,'Select ECPs'!$B$2:$E$77,4,0)),\"\")","v":""},null,{"$f":"IFERROR((VLOOKUP(B653,'Select ECPs'!$B$2:$E$77,2,0)),\"\")","v":""}]
[null,null,{"$f":"IFERROR((VLOOKUP(B654,'Select ECPs'!$B$2:$E$77,4,0)),\"\")","v":""},null,{"$f":"IFERROR((VLOOKUP(B654,'Select ECPs'!$B$2:$E$77,2,0)),\"\")","v":""}]
[null,null,{"$f":"IFERROR((VLOOKUP(B655,'Select ECPs'!$B$2:$E$77,4,0)),\"\")","v":""},null,{"$f":"IFERROR((VLOOKUP(B655,'Select ECPs'!$B$2:$E$77,2,0)),\"\")","v":""}]
[null,null,{"$f":"IFERROR((VLOOKUP(B656,'Select ECPs'!$B$2:$E$77,4,0)),\"\")","v":""},null,{"$f":"IFERROR((VLOOKUP(B656,'Select ECPs'!$B$2:$E$77,2,0)),\"\")","v":""}]
[null,null,{"$f":"IFERROR((VLOOKUP(B657,'Select ECPs'!$B$2:$E$77,4,0)),\"\")","v":""},null,{"$f":"IFERROR((VLOOKUP(B657,'Select ECPs'!$B$2:$E$77,2,0)),\"\")","v":""}]
[null,null,{"$f":"IFERROR((VLOOKUP(B658,'Select ECPs'!$B$2:$E$77,4,0)),\"\")","v":""},null,{"$f":"IFERROR((VLOOKUP(B658,'Select ECPs'!$B$2:$E$77,2,0)),\"\")","v":""}]
[null,null,{"$f":"IFERROR((VLOOKUP(B659,'Select ECPs'!$B$2:$E$77,4,0)),\"\")","v":""},null,{"$f":"IFERROR((VLOOKUP(B659,'Select ECPs'!$B$2:$E$77,2,0)),\"\")","v":""}]
[null,null,{"$f":"IFERROR((VLOOKUP(B660,'Select ECPs'!$B$2:$E$77,4,0)),\"\")","v":""},null,{"$f":"IFERROR((VLOOKUP(B660,'Select ECPs'!$B$2:$E$77,2,0)),\"\")","v":""}]
[null,null,{"$f":"IFERROR((VLOOKUP(B661,'Select ECPs'!$B$2:$E$77,4,0)),\"\")","v":""},null,{"$f":"IFERROR((VLOOKUP(B661,'Select ECPs'!$B$2:$E$77,2,0)),\"\")","v":""}]
[null,null,{"$f":"IFERROR((VLOOKUP(B662,'Select ECPs'!$B$2:$E$77,4,0)),\"\")","v":""},null,{"$f":"IFERROR((VLOOKUP(B662,'Select ECPs'!$B$2:$E$77,2,0)),\"\")","v":""}]
[null,null,{"$f":"IFERROR((VLOOKUP(B663,'Select ECPs'!$B$2:$E$77,4,0)),\"\")","v":""},null,{"$f":"IFERROR((VLOOKUP(B663,'Select ECPs'!$B$2:$E$77,2,0)),\"\")","v":""}]
[null,null,{"$f":"IFERROR((VLOOKUP(B664,'Select ECPs'!$B$2:$E$77,4,0)),\"\")","v":""},null,{"$f":"IFERROR((VLOOKUP(B664,'Select ECPs'!$B$2:$E$77,2,0)),\"\")","v":""}]
[null,null,{"$f":"IFERROR((VLOOKUP(B665,'Select ECPs'!$B$2:$E$77,4,0)),\"\")","v":""},null,{"$f":"IFERROR((VLOOKUP(B665,'Select ECPs'!$B$2:$E$77,2,0)),\"\")","v":""}]
[null,null,{"$f":"IFERROR((VLOOKUP(B666,'Select ECPs'!$B$2:$E$77,4,0)),\"\")","v":""},null,{"$f":"IFERROR((VLOOKUP(B666,'Select ECPs'!$B$2:$E$77,2,0)),\"\")","v":""}]
[null,null,{"$f":"IFERROR((VLOOKUP(B667,'Select ECPs'!$B$2:$E$77,4,0)),\"\")","v":""},null,{"$f":"IFERROR((VLOOKUP(B667,'Select ECPs'!$B$2:$E$77,2,0)),\"\")","v":""}]
[null,null,{"$f":"IFERROR((VLOOKUP(B668,'Select ECPs'!$B$2:$E$77,4,0)),\"\")","v":""},null,{"$f":"IFERROR((VLOOKUP(B668,'Select ECPs'!$B$2:$E$77,2,0)),\"\")","v":""}]
[null,null,{"$f":"IFERROR((VLOOKUP(B669,'Select ECPs'!$B$2:$E$77,4,0)),\"\")","v":""},null,{"$f":"IFERROR((VLOOKUP(B669,'Select ECPs'!$B$2:$E$77,2,0)),\"\")","v":""}]
[null,null,{"$f":"IFERROR((VLOOKUP(B670,'Select ECPs'!$B$2:$E$77,4,0)),\"\")","v":""},null,{"$f":"IFERROR((VLOOKUP(B670,'Select ECPs'!$B$2:$E$77,2,0)),\"\")","v":""}]
[null,null,{"$f":"IFERROR((VLOOKUP(B671,'Select ECPs'!$B$2:$E$77,4,0)),\"\")","v":""},null,{"$f":"IFERROR((VLOOKUP(B671,'Select ECPs'!$B$2:$E$77,2,0)),\"\")","v":""}]
[null,null,{"$f":"IFERROR((VLOOKUP(B672,'Select ECPs'!$B$2:$E$77,4,0)),\"\")","v":""},null,{"$f":"IFERROR((VLOOKUP(B672,'Select ECPs'!$B$2:$E$77,2,0)),\"\")","v":""}]
[null,null,{"$f":"IFERROR((VLOOKUP(B673,'Select ECPs'!$B$2:$E$77,4,0)),\"\")","v":""},null,{"$f":"IFERROR((VLOOKUP(B673,'Select ECPs'!$B$2:$E$77,2,0)),\"\")","v":""}]
[null,null,{"$f":"IFERROR((VLOOKUP(B674,'Select ECPs'!$B$2:$E$77,4,0)),\"\")","v":""},null,{"$f":"IFERROR((VLOOKUP(B674,'Select ECPs'!$B$2:$E$77,2,0)),\"\")","v":""}]
[null,null,{"$f":"IFERROR((VLOOKUP(B675,'Select ECPs'!$B$2:$E$77,4,0)),\"\")","v":""},null,{"$f":"IFERROR((VLOOKUP(B675,'Select ECPs'!$B$2:$E$77,2,0)),\"\")","v":""}]
[null,null,{"$f":"IFERROR((VLOOKUP(B676,'Select ECPs'!$B$2:$E$77,4,0)),\"\")","v":""},null,{"$f":"IFERROR((VLOOKUP(B676,'Select ECPs'!$B$2:$E$77,2,0)),\"\")","v":""}]
[null,null,{"$f":"IFERROR((VLOOKUP(B677,'Select ECPs'!$B$2:$E$77,4,0)),\"\")","v":""},null,{"$f":"IFERROR((VLOOKUP(B677,'Select ECPs'!$B$2:$E$77,2,0)),\"\")","v":""}]
[null,null,{"$f":"IFERROR((VLOOKUP(B678,'Select ECPs'!$B$2:$E$77,4,0)),\"\")","v":""},null,{"$f":"IFERROR((VLOOKUP(B678,'Select ECPs'!$B$2:$E$77,2,0)),\"\")","v":""}]
[null,null,{"$f":"IFERROR((VLOOKUP(B679,'Select ECPs'!$B$2:$E$77,4,0)),\"\")","v":""},null,{"$f":"IFERROR((VLOOKUP(B679,'Select ECPs'!$B$2:$E$77,2,0)),\"\")","v":""}]
[null,null,{"$f":"IFERROR((VLOOKUP(B680,'Select ECPs'!$B$2:$E$77,4,0)),\"\")","v":""},null,{"$f":"IFERROR((VLOOKUP(B680,'Select ECPs'!$B$2:$E$77,2,0)),\"\")","v":""}]
[null,null,{"$f":"IFERROR((VLOOKUP(B681,'Select ECPs'!$B$2:$E$77,4,0)),\"\")","v":""},null,{"$f":"IFERROR((VLOOKUP(B681,'Select ECPs'!$B$2:$E$77,2,0)),\"\")","v":""}]
[null,null,{"$f":"IFERROR((VLOOKUP(B682,'Select ECPs'!$B$2:$E$77,4,0)),\"\")","v":""},null,{"$f":"IFERROR((VLOOKUP(B682,'Select ECPs'!$B$2:$E$77,2,0)),\"\")","v":""}]
[null,null,{"$f":"IFERROR((VLOOKUP(B683,'Select ECPs'!$B$2:$E$77,4,0)),\"\")","v":""},null,{"$f":"IFERROR((VLOOKUP(B683,'Select ECPs'!$B$2:$E$77,2,0)),\"\")","v":""}]
[null,null,{"$f":"IFERROR((VLOOKUP(B684,'Select ECPs'!$B$2:$E$77,4,0)),\"\")","v":""},null,{"$f":"IFERROR((VLOOKUP(B684,'Select ECPs'!$B$2:$E$77,2,0)),\"\")","v":""}]
[null,null,{"$f":"IFERROR((VLOOKUP(B685,'Select ECPs'!$B$2:$E$77,4,0)),\"\")","v":""},null,{"$f":"IFERROR((VLOOKUP(B685,'Select ECPs'!$B$2:$E$77,2,0)),\"\")","v":""}]
[null,null,{"$f":"IFERROR((VLOOKUP(B686,'Select ECPs'!$B$2:$E$77,4,0)),\"\")","v":""},null,{"$f":"IFERROR((VLOOKUP(B686,'Select ECPs'!$B$2:$E$77,2,0)),\"\")","v":""}]
[null,null,{"$f":"IFERROR((VLOOKUP(B687,'Select ECPs'!$B$2:$E$77,4,0)),\"\")","v":""},null,{"$f":"IFERROR((VLOOKUP(B687,'Select ECPs'!$B$2:$E$77,2,0)),\"\")","v":""}]
[null,null,{"$f":"IFERROR((VLOOKUP(B688,'Select ECPs'!$B$2:$E$77,4,0)),\"\")","v":""},null,{"$f":"IFERROR((VLOOKUP(B688,'Select ECPs'!$B$2:$E$77,2,0)),\"\")","v":""}]
[null,null,{"$f":"IFERROR((VLOOKUP(B689,'Select ECPs'!$B$2:$E$77,4,0)),\"\")","v":""},null,{"$f":"IFERROR((VLOOKUP(B689,'Select ECPs'!$B$2:$E$77,2,0)),\"\")","v":""}]
[null,null,{"$f":"IFERROR((VLOOKUP(B690,'Select ECPs'!$B$2:$E$77,4,0)),\"\")","v":""},null,{"$f":"IFERROR((VLOOKUP(B690,'Select ECPs'!$B$2:$E$77,2,0)),\"\")","v":""}]
[null,null,{"$f":"IFERROR((VLOOKUP(B691,'Select ECPs'!$B$2:$E$77,4,0)),\"\")","v":""},null,{"$f":"IFERROR((VLOOKUP(B691,'Select ECPs'!$B$2:$E$77,2,0)),\"\")","v":""}]
[null,null,{"$f":"IFERROR((VLOOKUP(B692,'Select ECPs'!$B$2:$E$77,4,0)),\"\")","v":""},null,{"$f":"IFERROR((VLOOKUP(B692,'Select ECPs'!$B$2:$E$77,2,0)),\"\")","v":""}]
[null,null,{"$f":"IFERROR((VLOOKUP(B693,'Select ECPs'!$B$2:$E$77,4,0)),\"\")","v":""},null,{"$f":"IFERROR((VLOOKUP(B693,'Select ECPs'!$B$2:$E$77,2,0)),\"\")","v":""}]
[null,null,{"$f":"IFERROR((VLOOKUP(B694,'Select ECPs'!$B$2:$E$77,4,0)),\"\")","v":""},null,{"$f":"IFERROR((VLOOKUP(B694,'Select ECPs'!$B$2:$E$77,2,0)),\"\")","v":""}]
[null,null,{"$f":"IFERROR((VLOOKUP(B695,'Select ECPs'!$B$2:$E$77,4,0)),\"\")","v":""},null,{"$f":"IFERROR((VLOOKUP(B695,'Select ECPs'!$B$2:$E$77,2,0)),\"\")","v":""}]
[null,null,{"$f":"IFERROR((VLOOKUP(B696,'Select ECPs'!$B$2:$E$77,4,0)),\"\")","v":""},null,{"$f":"IFERROR((VLOOKUP(B696,'Select ECPs'!$B$2:$E$77,2,0)),\"\")","v":""}]
[null,null,{"$f":"IFERROR((VLOOKUP(B697,'Select ECPs'!$B$2:$E$77,4,0)),\"\")","v":""},null,{"$f":"IFERROR((VLOOKUP(B697,'Select ECPs'!$B$2:$E$77,2,0)),\"\")","v":""}]
[null,null,{"$f":"IFERROR((VLOOKUP(B698,'Select ECPs'!$B$2:$E$77,4,0)),\"\")","v":""},null,{"$f":"IFERROR((VLOOKUP(B698,'Select ECPs'!$B$2:$E$77,2,0)),\"\")","v":""}]
[null,null,{"$f":"IFERROR((VLOOKUP(B699,'Select ECPs'!$B$2:$E$77,4,0)),\"\")","v":""},null,{"$f":"IFERROR((VLOOKUP(B699,'Select ECPs'!$B$2:$E$77,2,0)),\"\")","v":""}]
[null,null,{"$f":"IFERROR((VLOOKUP(B700,'Select ECPs'!$B$2:$E$77,4,0)),\"\")","v":""},null,{"$f":"IFERROR((VLOOKUP(B700,'Select ECPs'!$B$2:$E$77,2,0)),\"\")","v":""}]
[null,null,{"$f":"IFERROR((VLOOKUP(B701,'Select ECPs'!$B$2:$E$77,4,0)),\"\")","v":""},null,{"$f":"IFERROR((VLOOKUP(B701,'Select ECPs'!$B$2:$E$77,2,0)),\"\")","v":""}]
[null,null,{"$f":"IFERROR((VLOOKUP(B702,'Select ECPs'!$B$2:$E$77,4,0)),\"\")","v":""},null,{"$f":"IFERROR((VLOOKUP(B702,'Select ECPs'!$B$2:$E$77,2,0)),\"\")","v":""}]
[null,null,{"$f":"IFERROR((VLOOKUP(B703,'Select ECPs'!$B$2:$E$77,4,0)),\"\")","v":""},null,{"$f":"IFERROR((VLOOKUP(B703,'Select ECPs'!$B$2:$E$77,2,0)),\"\")","v":""}]
[null,null,{"$f":"IFERROR((VLOOKUP(B704,'Select ECPs'!$B$2:$E$77,4,0)),\"\")","v":""},null,{"$f":"IFERROR((VLOOKUP(B704,'Select ECPs'!$B$2:$E$77,2,0)),\"\")","v":""}]
[null,null,{"$f":"IFERROR((VLOOKUP(B705,'Select ECPs'!$B$2:$E$77,4,0)),\"\")","v":""},null,{"$f":"IFERROR((VLOOKUP(B705,'Select ECPs'!$B$2:$E$77,2,0)),\"\")","v":""}]
[null,null,{"$f":"IFERROR((VLOOKUP(B706,'Select ECPs'!$B$2:$E$77,4,0)),\"\")","v":""},null,{"$f":"IFERROR((VLOOKUP(B706,'Select ECPs'!$B$2:$E$77,2,0)),\"\")","v":""}]
[null,null,{"$f":"IFERROR((VLOOKUP(B707,'Select ECPs'!$B$2:$E$77,4,0)),\"\")","v":""},null,{"$f":"IFERROR((VLOOKUP(B707,'Select ECPs'!$B$2:$E$77,2,0)),\"\")","v":""}]
[null,null,{"$f":"IFERROR((VLOOKUP(B708,'Select ECPs'!$B$2:$E$77,4,0)),\"\")","v":""},null,{"$f":"IFERROR((VLOOKUP(B708,'Select ECPs'!$B$2:$E$77,2,0)),\"\")","v":""}]
[null,null,{"$f":"IFERROR((VLOOKUP(B709,'Select ECPs'!$B$2:$E$77,4,0)),\"\")","v":""},null,{"$f":"IFERROR((VLOOKUP(B709,'Select ECPs'!$B$2:$E$77,2,0)),\"\")","v":""}]
[null,null,{"$f":"IFERROR((VLOOKUP(B710,'Select ECPs'!$B$2:$E$77,4,0)),\"\")","v":""},null,{"$f":"IFERROR((VLOOKUP(B710,'Select ECPs'!$B$2:$E$77,2,0)),\"\")","v":""}]
[null,null,{"$f":"IFERROR((VLOOKUP(B711,'Select ECPs'!$B$2:$E$77,4,0)),\"\")","v":""},null,{"$f":"IFERROR((VLOOKUP(B711,'Select ECPs'!$B$2:$E$77,2,0)),\"\")","v":""}]
[null,null,{"$f":"IFERROR((VLOOKUP(B712,'Select ECPs'!$B$2:$E$77,4,0)),\"\")","v":""},null,{"$f":"IFERROR((VLOOKUP(B712,'Select ECPs'!$B$2:$E$77,2,0)),\"\")","v":""}]
[null,null,{"$f":"IFERROR((VLOOKUP(B713,'Select ECPs'!$B$2:$E$77,4,0)),\"\")","v":""},null,{"$f":"IFERROR((VLOOKUP(B713,'Select ECPs'!$B$2:$E$77,2,0)),\"\")","v":""}]
[null,null,{"$f":"IFERROR((VLOOKUP(B714,'Select ECPs'!$B$2:$E$77,4,0)),\"\")","v":""},null,{"$f":"IFERROR((VLOOKUP(B714,'Select ECPs'!$B$2:$E$77,2,0)),\"\")","v":""}]
[null,null,{"$f":"IFERROR((VLOOKUP(B715,'Select ECPs'!$B$2:$E$77,4,0)),\"\")","v":""},null,{"$f":"IFERROR((VLOOKUP(B715,'Select ECPs'!$B$2:$E$77,2,0)),\"\")","v":""}]
[null,null,{"$f":"IFERROR((VLOOKUP(B716,'Select ECPs'!$B$2:$E$77,4,0)),\"\")","v":""},null,{"$f":"IFERROR((VLOOKUP(B716,'Select ECPs'!$B$2:$E$77,2,0)),\"\")","v":""}]
[null,null,{"$f":"IFERROR((VLOOKUP(B717,'Select ECPs'!$B$2:$E$77,4,0)),\"\")","v":""},null,{"$f":"IFERROR((VLOOKUP(B717,'Select ECPs'!$B$2:$E$77,2,0)),\"\")","v":""}]
[null,null,{"$f":"IFERROR((VLOOKUP(B718,'Select ECPs'!$B$2:$E$77,4,0)),\"\")","v":""},null,{"$f":"IFERROR((VLOOKUP(B718,'Select ECPs'!$B$2:$E$77,2,0)),\"\")","v":""}]
[null,null,{"$f":"IFERROR((VLOOKUP(B719,'Select ECPs'!$B$2:$E$77,4,0)),\"\")","v":""},null,{"$f":"IFERROR((VLOOKUP(B719,'Select ECPs'!$B$2:$E$77,2,0)),\"\")","v":""}]
[null,null,{"$f":"IFERROR((VLOOKUP(B720,'Select ECPs'!$B$2:$E$77,4,0)),\"\")","v":""},null,{"$f":"IFERROR((VLOOKUP(B720,'Select ECPs'!$B$2:$E$77,2,0)),\"\")","v":""}]
[null,null,{"$f":"IFERROR((VLOOKUP(B721,'Select ECPs'!$B$2:$E$77,4,0)),\"\")","v":""},null,{"$f":"IFERROR((VLOOKUP(B721,'Select ECPs'!$B$2:$E$77,2,0)),\"\")","v":""}]
[null,null,{"$f":"IFERROR((VLOOKUP(B722,'Select ECPs'!$B$2:$E$77,4,0)),\"\")","v":""},null,{"$f":"IFERROR((VLOOKUP(B722,'Select ECPs'!$B$2:$E$77,2,0)),\"\")","v":""}]
[null,null,{"$f":"IFERROR((VLOOKUP(B723,'Select ECPs'!$B$2:$E$77,4,0)),\"\")","v":""},null,{"$f":"IFERROR((VLOOKUP(B723,'Select ECPs'!$B$2:$E$77,2,0)),\"\")","v":""}]
[null,null,{"$f":"IFERROR((VLOOKUP(B724,'Select ECPs'!$B$2:$E$77,4,0)),\"\")","v":""},null,{"$f":"IFERROR((VLOOKUP(B724,'Select ECPs'!$B$2:$E$77,2,0)),\"\")","v":""}]
[null,null,{"$f":"IFERROR((VLOOKUP(B725,'Select ECPs'!$B$2:$E$77,4,0)),\"\")","v":""},null,{"$f":"IFERROR((VLOOKUP(B725,'Select ECPs'!$B$2:$E$77,2,0)),\"\")","v":""}]
[null,null,{"$f":"IFERROR((VLOOKUP(B726,'Select ECPs'!$B$2:$E$77,4,0)),\"\")","v":""},null,{"$f":"IFERROR((VLOOKUP(B726,'Select ECPs'!$B$2:$E$77,2,0)),\"\")","v":""}]
[null,null,{"$f":"IFERROR((VLOOKUP(B727,'Select ECPs'!$B$2:$E$77,4,0)),\"\")","v":""},null,{"$f":"IFERROR((VLOOKUP(B727,'Select ECPs'!$B$2:$E$77,2,0)),\"\")","v":""}]
[null,null,{"$f":"IFERROR((VLOOKUP(B728,'Select ECPs'!$B$2:$E$77,4,0)),\"\")","v":""},null,{"$f":"IFERROR((VLOOKUP(B728,'Select ECPs'!$B$2:$E$77,2,0)),\"\")","v":""}]
[null,null,{"$f":"IFERROR((VLOOKUP(B729,'Select ECPs'!$B$2:$E$77,4,0)),\"\")","v":""},null,{"$f":"IFERROR((VLOOKUP(B729,'Select ECPs'!$B$2:$E$77,2,0)),\"\")","v":""}]
[null,null,{"$f":"IFERROR((VLOOKUP(B730,'Select ECPs'!$B$2:$E$77,4,0)),\"\")","v":""},null,{"$f":"IFERROR((VLOOKUP(B730,'Select ECPs'!$B$2:$E$77,2,0)),\"\")","v":""}]
[null,null,{"$f":"IFERROR((VLOOKUP(B731,'Select ECPs'!$B$2:$E$77,4,0)),\"\")","v":""},null,{"$f":"IFERROR((VLOOKUP(B731,'Select ECPs'!$B$2:$E$77,2,0)),\"\")","v":""}]
[null,null,{"$f":"IFERROR((VLOOKUP(B732,'Select ECPs'!$B$2:$E$77,4,0)),\"\")","v":""},null,{"$f":"IFERROR((VLOOKUP(B732,'Select ECPs'!$B$2:$E$77,2,0)),\"\")","v":""}]
[null,null,{"$f":"IFERROR((VLOOKUP(B733,'Select ECPs'!$B$2:$E$77,4,0)),\"\")","v":""},null,{"$f":"IFERROR((VLOOKUP(B733,'Select ECPs'!$B$2:$E$77,2,0)),\"\")","v":""}]
[null,null,{"$f":"IFERROR((VLOOKUP(B734,'Select ECPs'!$B$2:$E$77,4,0)),\"\")","v":""},null,{"$f":"IFERROR((VLOOKUP(B734,'Select ECPs'!$B$2:$E$77,2,0)),\"\")","v":""}]
[null,null,{"$f":"IFERROR((VLOOKUP(B735,'Select ECPs'!$B$2:$E$77,4,0)),\"\")","v":""},null,{"$f":"IFERROR((VLOOKUP(B735,'Select ECPs'!$B$2:$E$77,2,0)),\"\")","v":""}]
[null,null,{"$f":"IFERROR((VLOOKUP(B736,'Select ECPs'!$B$2:$E$77,4,0)),\"\")","v":""},null,{"$f":"IFERROR((VLOOKUP(B736,'Select ECPs'!$B$2:$E$77,2,0)),\"\")","v":""}]
[null,null,{"$f":"IFERROR((VLOOKUP(B737,'Select ECPs'!$B$2:$E$77,4,0)),\"\")","v":""},null,{"$f":"IFERROR((VLOOKUP(B737,'Select ECPs'!$B$2:$E$77,2,0)),\"\")","v":""}]
[null,null,{"$f":"IFERROR((VLOOKUP(B738,'Select ECPs'!$B$2:$E$77,4,0)),\"\")","v":""},null,{"$f":"IFERROR((VLOOKUP(B738,'Select ECPs'!$B$2:$E$77,2,0)),\"\")","v":""}]
[null,null,{"$f":"IFERROR((VLOOKUP(B739,'Select ECPs'!$B$2:$E$77,4,0)),\"\")","v":""},null,{"$f":"IFERROR((VLOOKUP(B739,'Select ECPs'!$B$2:$E$77,2,0)),\"\")","v":""}]
[null,null,{"$f":"IFERROR((VLOOKUP(B740,'Select ECPs'!$B$2:$E$77,4,0)),\"\")","v":""},null,{"$f":"IFERROR((VLOOKUP(B740,'Select ECPs'!$B$2:$E$77,2,0)),\"\")","v":""}]
[null,null,{"$f":"IFERROR((VLOOKUP(B741,'Select ECPs'!$B$2:$E$77,4,0)),\"\")","v":""},null,{"$f":"IFERROR((VLOOKUP(B741,'Select ECPs'!$B$2:$E$77,2,0)),\"\")","v":""}]
[null,null,{"$f":"IFERROR((VLOOKUP(B742,'Select ECPs'!$B$2:$E$77,4,0)),\"\")","v":""},null,{"$f":"IFERROR((VLOOKUP(B742,'Select ECPs'!$B$2:$E$77,2,0)),\"\")","v":""}]
[null,null,{"$f":"IFERROR((VLOOKUP(B743,'Select ECPs'!$B$2:$E$77,4,0)),\"\")","v":""},null,{"$f":"IFERROR((VLOOKUP(B743,'Select ECPs'!$B$2:$E$77,2,0)),\"\")","v":""}]
[null,null,{"$f":"IFERROR((VLOOKUP(B744,'Select ECPs'!$B$2:$E$77,4,0)),\"\")","v":""},null,{"$f":"IFERROR((VLOOKUP(B744,'Select ECPs'!$B$2:$E$77,2,0)),\"\")","v":""}]
[null,null,{"$f":"IFERROR((VLOOKUP(B745,'Select ECPs'!$B$2:$E$77,4,0)),\"\")","v":""},null,{"$f":"IFERROR((VLOOKUP(B745,'Select ECPs'!$B$2:$E$77,2,0)),\"\")","v":""}]
[null,null,{"$f":"IFERROR((VLOOKUP(B746,'Select ECPs'!$B$2:$E$77,4,0)),\"\")","v":""},null,{"$f":"IFERROR((VLOOKUP(B746,'Select ECPs'!$B$2:$E$77,2,0)),\"\")","v":""}]
[null,null,{"$f":"IFERROR((VLOOKUP(B747,'Select ECPs'!$B$2:$E$77,4,0)),\"\")","v":""},null,{"$f":"IFERROR((VLOOKUP(B747,'Select ECPs'!$B$2:$E$77,2,0)),\"\")","v":""}]
[null,null,{"$f":"IFERROR((VLOOKUP(B748,'Select ECPs'!$B$2:$E$77,4,0)),\"\")","v":""},null,{"$f":"IFERROR((VLOOKUP(B748,'Select ECPs'!$B$2:$E$77,2,0)),\"\")","v":""}]
[null,null,{"$f":"IFERROR((VLOOKUP(B749,'Select ECPs'!$B$2:$E$77,4,0)),\"\")","v":""},null,{"$f":"IFERROR((VLOOKUP(B749,'Select ECPs'!$B$2:$E$77,2,0)),\"\")","v":""}]
[null,null,{"$f":"IFERROR((VLOOKUP(B750,'Select ECPs'!$B$2:$E$77,4,0)),\"\")","v":""},null,{"$f":"IFERROR((VLOOKUP(B750,'Select ECPs'!$B$2:$E$77,2,0)),\"\")","v":""}]
[null,null,{"$f":"IFERROR((VLOOKUP(B751,'Select ECPs'!$B$2:$E$77,4,0)),\"\")","v":""},null,{"$f":"IFERROR((VLOOKUP(B751,'Select ECPs'!$B$2:$E$77,2,0)),\"\")","v":""}]
[null,null,{"$f":"IFERROR((VLOOKUP(B752,'Select ECPs'!$B$2:$E$77,4,0)),\"\")","v":""},null,{"$f":"IFERROR((VLOOKUP(B752,'Select ECPs'!$B$2:$E$77,2,0)),\"\")","v":""}]
[null,null,{"$f":"IFERROR((VLOOKUP(B753,'Select ECPs'!$B$2:$E$77,4,0)),\"\")","v":""},null,{"$f":"IFERROR((VLOOKUP(B753,'Select ECPs'!$B$2:$E$77,2,0)),\"\")","v":""}]
[null,null,{"$f":"IFERROR((VLOOKUP(B754,'Select ECPs'!$B$2:$E$77,4,0)),\"\")","v":""},null,{"$f":"IFERROR((VLOOKUP(B754,'Select ECPs'!$B$2:$E$77,2,0)),\"\")","v":""}]
[null,null,{"$f":"IFERROR((VLOOKUP(B755,'Select ECPs'!$B$2:$E$77,4,0)),\"\")","v":""},null,{"$f":"IFERROR((VLOOKUP(B755,'Select ECPs'!$B$2:$E$77,2,0)),\"\")","v":""}]
[null,null,{"$f":"IFERROR((VLOOKUP(B756,'Select ECPs'!$B$2:$E$77,4,0)),\"\")","v":""},null,{"$f":"IFERROR((VLOOKUP(B756,'Select ECPs'!$B$2:$E$77,2,0)),\"\")","v":""}]
[null,null,{"$f":"IFERROR((VLOOKUP(B757,'Select ECPs'!$B$2:$E$77,4,0)),\"\")","v":""},null,{"$f":"IFERROR((VLOOKUP(B757,'Select ECPs'!$B$2:$E$77,2,0)),\"\")","v":""}]
[null,null,{"$f":"IFERROR((VLOOKUP(B758,'Select ECPs'!$B$2:$E$77,4,0)),\"\")","v":""},null,{"$f":"IFERROR((VLOOKUP(B758,'Select ECPs'!$B$2:$E$77,2,0)),\"\")","v":""}]
[null,null,{"$f":"IFERROR((VLOOKUP(B759,'Select ECPs'!$B$2:$E$77,4,0)),\"\")","v":""},null,{"$f":"IFERROR((VLOOKUP(B759,'Select ECPs'!$B$2:$E$77,2,0)),\"\")","v":""}]
[null,null,{"$f":"IFERROR((VLOOKUP(B760,'Select ECPs'!$B$2:$E$77,4,0)),\"\")","v":""},null,{"$f":"IFERROR((VLOOKUP(B760,'Select ECPs'!$B$2:$E$77,2,0)),\"\")","v":""}]
[null,null,{"$f":"IFERROR((VLOOKUP(B761,'Select ECPs'!$B$2:$E$77,4,0)),\"\")","v":""},null,{"$f":"IFERROR((VLOOKUP(B761,'Select ECPs'!$B$2:$E$77,2,0)),\"\")","v":""}]
[null,null,{"$f":"IFERROR((VLOOKUP(B762,'Select ECPs'!$B$2:$E$77,4,0)),\"\")","v":""},null,{"$f":"IFERROR((VLOOKUP(B762,'Select ECPs'!$B$2:$E$77,2,0)),\"\")","v":""}]
[null,null,{"$f":"IFERROR((VLOOKUP(B763,'Select ECPs'!$B$2:$E$77,4,0)),\"\")","v":""},null,{"$f":"IFERROR((VLOOKUP(B763,'Select ECPs'!$B$2:$E$77,2,0)),\"\")","v":""}]
[null,null,{"$f":"IFERROR((VLOOKUP(B764,'Select ECPs'!$B$2:$E$77,4,0)),\"\")","v":""},null,{"$f":"IFERROR((VLOOKUP(B764,'Select ECPs'!$B$2:$E$77,2,0)),\"\")","v":""}]
[null,null,{"$f":"IFERROR((VLOOKUP(B765,'Select ECPs'!$B$2:$E$77,4,0)),\"\")","v":""},null,{"$f":"IFERROR((VLOOKUP(B765,'Select ECPs'!$B$2:$E$77,2,0)),\"\")","v":""}]
[null,null,{"$f":"IFERROR((VLOOKUP(B766,'Select ECPs'!$B$2:$E$77,4,0)),\"\")","v":""},null,{"$f":"IFERROR((VLOOKUP(B766,'Select ECPs'!$B$2:$E$77,2,0)),\"\")","v":""}]
[null,null,{"$f":"IFERROR((VLOOKUP(B767,'Select ECPs'!$B$2:$E$77,4,0)),\"\")","v":""},null,{"$f":"IFERROR((VLOOKUP(B767,'Select ECPs'!$B$2:$E$77,2,0)),\"\")","v":""}]
[null,null,{"$f":"IFERROR((VLOOKUP(B768,'Select ECPs'!$B$2:$E$77,4,0)),\"\")","v":""},null,{"$f":"IFERROR((VLOOKUP(B768,'Select ECPs'!$B$2:$E$77,2,0)),\"\")","v":""}]
[null,null,{"$f":"IFERROR((VLOOKUP(B769,'Select ECPs'!$B$2:$E$77,4,0)),\"\")","v":""},null,{"$f":"IFERROR((VLOOKUP(B769,'Select ECPs'!$B$2:$E$77,2,0)),\"\")","v":""}]
[null,null,{"$f":"IFERROR((VLOOKUP(B770,'Select ECPs'!$B$2:$E$77,4,0)),\"\")","v":""},null,{"$f":"IFERROR((VLOOKUP(B770,'Select ECPs'!$B$2:$E$77,2,0)),\"\")","v":""}]
[null,null,{"$f":"IFERROR((VLOOKUP(B771,'Select ECPs'!$B$2:$E$77,4,0)),\"\")","v":""},null,{"$f":"IFERROR((VLOOKUP(B771,'Select ECPs'!$B$2:$E$77,2,0)),\"\")","v":""}]
[null,null,{"$f":"IFERROR((VLOOKUP(B772,'Select ECPs'!$B$2:$E$77,4,0)),\"\")","v":""},null,{"$f":"IFERROR((VLOOKUP(B772,'Select ECPs'!$B$2:$E$77,2,0)),\"\")","v":""}]
[null,null,{"$f":"IFERROR((VLOOKUP(B773,'Select ECPs'!$B$2:$E$77,4,0)),\"\")","v":""},null,{"$f":"IFERROR((VLOOKUP(B773,'Select ECPs'!$B$2:$E$77,2,0)),\"\")","v":""}]
[null,null,{"$f":"IFERROR((VLOOKUP(B774,'Select ECPs'!$B$2:$E$77,4,0)),\"\")","v":""},null,{"$f":"IFERROR((VLOOKUP(B774,'Select ECPs'!$B$2:$E$77,2,0)),\"\")","v":""}]
[null,null,{"$f":"IFERROR((VLOOKUP(B775,'Select ECPs'!$B$2:$E$77,4,0)),\"\")","v":""},null,{"$f":"IFERROR((VLOOKUP(B775,'Select ECPs'!$B$2:$E$77,2,0)),\"\")","v":""}]
[null,null,{"$f":"IFERROR((VLOOKUP(B776,'Select ECPs'!$B$2:$E$77,4,0)),\"\")","v":""},null,{"$f":"IFERROR((VLOOKUP(B776,'Select ECPs'!$B$2:$E$77,2,0)),\"\")","v":""}]
[null,null,{"$f":"IFERROR((VLOOKUP(B777,'Select ECPs'!$B$2:$E$77,4,0)),\"\")","v":""},null,{"$f":"IFERROR((VLOOKUP(B777,'Select ECPs'!$B$2:$E$77,2,0)),\"\")","v":""}]
[null,null,{"$f":"IFERROR((VLOOKUP(B778,'Select ECPs'!$B$2:$E$77,4,0)),\"\")","v":""},null,{"$f":"IFERROR((VLOOKUP(B778,'Select ECPs'!$B$2:$E$77,2,0)),\"\")","v":""}]
[null,null,{"$f":"IFERROR((VLOOKUP(B779,'Select ECPs'!$B$2:$E$77,4,0)),\"\")","v":""},null,{"$f":"IFERROR((VLOOKUP(B779,'Select ECPs'!$B$2:$E$77,2,0)),\"\")","v":""}]
[null,null,{"$f":"IFERROR((VLOOKUP(B780,'Select ECPs'!$B$2:$E$77,4,0)),\"\")","v":""},null,{"$f":"IFERROR((VLOOKUP(B780,'Select ECPs'!$B$2:$E$77,2,0)),\"\")","v":""}]
[null,null,{"$f":"IFERROR((VLOOKUP(B781,'Select ECPs'!$B$2:$E$77,4,0)),\"\")","v":""},null,{"$f":"IFERROR((VLOOKUP(B781,'Select ECPs'!$B$2:$E$77,2,0)),\"\")","v":""}]
[null,null,{"$f":"IFERROR((VLOOKUP(B782,'Select ECPs'!$B$2:$E$77,4,0)),\"\")","v":""},null,{"$f":"IFERROR((VLOOKUP(B782,'Select ECPs'!$B$2:$E$77,2,0)),\"\")","v":""}]
[null,null,{"$f":"IFERROR((VLOOKUP(B783,'Select ECPs'!$B$2:$E$77,4,0)),\"\")","v":""},null,{"$f":"IFERROR((VLOOKUP(B783,'Select ECPs'!$B$2:$E$77,2,0)),\"\")","v":""}]
[null,null,{"$f":"IFERROR((VLOOKUP(B784,'Select ECPs'!$B$2:$E$77,4,0)),\"\")","v":""},null,{"$f":"IFERROR((VLOOKUP(B784,'Select ECPs'!$B$2:$E$77,2,0)),\"\")","v":""}]
[null,null,{"$f":"IFERROR((VLOOKUP(B785,'Select ECPs'!$B$2:$E$77,4,0)),\"\")","v":""},null,{"$f":"IFERROR((VLOOKUP(B785,'Select ECPs'!$B$2:$E$77,2,0)),\"\")","v":""}]
[null,null,{"$f":"IFERROR((VLOOKUP(B786,'Select ECPs'!$B$2:$E$77,4,0)),\"\")","v":""},null,{"$f":"IFERROR((VLOOKUP(B786,'Select ECPs'!$B$2:$E$77,2,0)),\"\")","v":""}]
[null,null,{"$f":"IFERROR((VLOOKUP(B787,'Select ECPs'!$B$2:$E$77,4,0)),\"\")","v":""},null,{"$f":"IFERROR((VLOOKUP(B787,'Select ECPs'!$B$2:$E$77,2,0)),\"\")","v":""}]
[null,null,{"$f":"IFERROR((VLOOKUP(B788,'Select ECPs'!$B$2:$E$77,4,0)),\"\")","v":""},null,{"$f":"IFERROR((VLOOKUP(B788,'Select ECPs'!$B$2:$E$77,2,0)),\"\")","v":""}]
[null,null,{"$f":"IFERROR((VLOOKUP(B789,'Select ECPs'!$B$2:$E$77,4,0)),\"\")","v":""},null,{"$f":"IFERROR((VLOOKUP(B789,'Select ECPs'!$B$2:$E$77,2,0)),\"\")","v":""}]
[null,null,{"$f":"IFERROR((VLOOKUP(B790,'Select ECPs'!$B$2:$E$77,4,0)),\"\")","v":""},null,{"$f":"IFERROR((VLOOKUP(B790,'Select ECPs'!$B$2:$E$77,2,0)),\"\")","v":""}]
[null,null,{"$f":"IFERROR((VLOOKUP(B791,'Select ECPs'!$B$2:$E$77,4,0)),\"\")","v":""},null,{"$f":"IFERROR((VLOOKUP(B791,'Select ECPs'!$B$2:$E$77,2,0)),\"\")","v":""}]
[null,null,{"$f":"IFERROR((VLOOKUP(B792,'Select ECPs'!$B$2:$E$77,4,0)),\"\")","v":""},null,{"$f":"IFERROR((VLOOKUP(B792,'Select ECPs'!$B$2:$E$77,2,0)),\"\")","v":""}]
[null,null,{"$f":"IFERROR((VLOOKUP(B793,'Select ECPs'!$B$2:$E$77,4,0)),\"\")","v":""},null,{"$f":"IFERROR((VLOOKUP(B793,'Select ECPs'!$B$2:$E$77,2,0)),\"\")","v":""}]
[null,null,{"$f":"IFERROR((VLOOKUP(B794,'Select ECPs'!$B$2:$E$77,4,0)),\"\")","v":""},null,{"$f":"IFERROR((VLOOKUP(B794,'Select ECPs'!$B$2:$E$77,2,0)),\"\")","v":""}]
[null,null,{"$f":"IFERROR((VLOOKUP(B795,'Select ECPs'!$B$2:$E$77,4,0)),\"\")","v":""},null,{"$f":"IFERROR((VLOOKUP(B795,'Select ECPs'!$B$2:$E$77,2,0)),\"\")","v":""}]
[null,null,{"$f":"IFERROR((VLOOKUP(B796,'Select ECPs'!$B$2:$E$77,4,0)),\"\")","v":""},null,{"$f":"IFERROR((VLOOKUP(B796,'Select ECPs'!$B$2:$E$77,2,0)),\"\")","v":""}]
[null,null,{"$f":"IFERROR((VLOOKUP(B797,'Select ECPs'!$B$2:$E$77,4,0)),\"\")","v":""},null,{"$f":"IFERROR((VLOOKUP(B797,'Select ECPs'!$B$2:$E$77,2,0)),\"\")","v":""}]
[null,null,{"$f":"IFERROR((VLOOKUP(B798,'Select ECPs'!$B$2:$E$77,4,0)),\"\")","v":""},null,{"$f":"IFERROR((VLOOKUP(B798,'Select ECPs'!$B$2:$E$77,2,0)),\"\")","v":""}]
[null,null,{"$f":"IFERROR((VLOOKUP(B799,'Select ECPs'!$B$2:$E$77,4,0)),\"\")","v":""},null,{"$f":"IFERROR((VLOOKUP(B799,'Select ECPs'!$B$2:$E$77,2,0)),\"\")","v":""}]
[null,null,{"$f":"IFERROR((VLOOKUP(B800,'Select ECPs'!$B$2:$E$77,4,0)),\"\")","v":""},null,{"$f":"IFERROR((VLOOKUP(B800,'Select ECPs'!$B$2:$E$77,2,0)),\"\")","v":""}]
[null,null,{"$f":"IFERROR((VLOOKUP(B801,'Select ECPs'!$B$2:$E$77,4,0)),\"\")","v":""},null,{"$f":"IFERROR((VLOOKUP(B801,'Select ECPs'!$B$2:$E$77,2,0)),\"\")","v":""}]
[null,null,{"$f":"IFERROR((VLOOKUP(B802,'Select ECPs'!$B$2:$E$77,4,0)),\"\")","v":""},null,{"$f":"IFERROR((VLOOKUP(B802,'Select ECPs'!$B$2:$E$77,2,0)),\"\")","v":""}]
[null,null,{"$f":"IFERROR((VLOOKUP(B803,'Select ECPs'!$B$2:$E$77,4,0)),\"\")","v":""},null,{"$f":"IFERROR((VLOOKUP(B803,'Select ECPs'!$B$2:$E$77,2,0)),\"\")","v":""}]
[null,null,{"$f":"IFERROR((VLOOKUP(B804,'Select ECPs'!$B$2:$E$77,4,0)),\"\")","v":""},null,{"$f":"IFERROR((VLOOKUP(B804,'Select ECPs'!$B$2:$E$77,2,0)),\"\")","v":""}]
[null,null,{"$f":"IFERROR((VLOOKUP(B805,'Select ECPs'!$B$2:$E$77,4,0)),\"\")","v":""},null,{"$f":"IFERROR((VLOOKUP(B805,'Select ECPs'!$B$2:$E$77,2,0)),\"\")","v":""}]
[null,null,{"$f":"IFERROR((VLOOKUP(B806,'Select ECPs'!$B$2:$E$77,4,0)),\"\")","v":""},null,{"$f":"IFERROR((VLOOKUP(B806,'Select ECPs'!$B$2:$E$77,2,0)),\"\")","v":""}]
[null,null,{"$f":"IFERROR((VLOOKUP(B807,'Select ECPs'!$B$2:$E$77,4,0)),\"\")","v":""},null,{"$f":"IFERROR((VLOOKUP(B807,'Select ECPs'!$B$2:$E$77,2,0)),\"\")","v":""}]
[null,null,{"$f":"IFERROR((VLOOKUP(B808,'Select ECPs'!$B$2:$E$77,4,0)),\"\")","v":""},null,{"$f":"IFERROR((VLOOKUP(B808,'Select ECPs'!$B$2:$E$77,2,0)),\"\")","v":""}]
[null,null,{"$f":"IFERROR((VLOOKUP(B809,'Select ECPs'!$B$2:$E$77,4,0)),\"\")","v":""},null,{"$f":"IFERROR((VLOOKUP(B809,'Select ECPs'!$B$2:$E$77,2,0)),\"\")","v":""}]
[null,null,{"$f":"IFERROR((VLOOKUP(B810,'Select ECPs'!$B$2:$E$77,4,0)),\"\")","v":""},null,{"$f":"IFERROR((VLOOKUP(B810,'Select ECPs'!$B$2:$E$77,2,0)),\"\")","v":""}]
[null,null,{"$f":"IFERROR((VLOOKUP(B811,'Select ECPs'!$B$2:$E$77,4,0)),\"\")","v":""},null,{"$f":"IFERROR((VLOOKUP(B811,'Select ECPs'!$B$2:$E$77,2,0)),\"\")","v":""}]
[null,null,{"$f":"IFERROR((VLOOKUP(B812,'Select ECPs'!$B$2:$E$77,4,0)),\"\")","v":""},null,{"$f":"IFERROR((VLOOKUP(B812,'Select ECPs'!$B$2:$E$77,2,0)),\"\")","v":""}]
[null,null,{"$f":"IFERROR((VLOOKUP(B813,'Select ECPs'!$B$2:$E$77,4,0)),\"\")","v":""},null,{"$f":"IFERROR((VLOOKUP(B813,'Select ECPs'!$B$2:$E$77,2,0)),\"\")","v":""}]
[null,null,{"$f":"IFERROR((VLOOKUP(B814,'Select ECPs'!$B$2:$E$77,4,0)),\"\")","v":""},null,{"$f":"IFERROR((VLOOKUP(B814,'Select ECPs'!$B$2:$E$77,2,0)),\"\")","v":""}]
[null,null,{"$f":"IFERROR((VLOOKUP(B815,'Select ECPs'!$B$2:$E$77,4,0)),\"\")","v":""},null,{"$f":"IFERROR((VLOOKUP(B815,'Select ECPs'!$B$2:$E$77,2,0)),\"\")","v":""}]
[null,null,{"$f":"IFERROR((VLOOKUP(B816,'Select ECPs'!$B$2:$E$77,4,0)),\"\")","v":""},null,{"$f":"IFERROR((VLOOKUP(B816,'Select ECPs'!$B$2:$E$77,2,0)),\"\")","v":""}]
[null,null,{"$f":"IFERROR((VLOOKUP(B817,'Select ECPs'!$B$2:$E$77,4,0)),\"\")","v":""},null,{"$f":"IFERROR((VLOOKUP(B817,'Select ECPs'!$B$2:$E$77,2,0)),\"\")","v":""}]
[null,null,{"$f":"IFERROR((VLOOKUP(B818,'Select ECPs'!$B$2:$E$77,4,0)),\"\")","v":""},null,{"$f":"IFERROR((VLOOKUP(B818,'Select ECPs'!$B$2:$E$77,2,0)),\"\")","v":""}]
[null,null,{"$f":"IFERROR((VLOOKUP(B819,'Select ECPs'!$B$2:$E$77,4,0)),\"\")","v":""},null,{"$f":"IFERROR((VLOOKUP(B819,'Select ECPs'!$B$2:$E$77,2,0)),\"\")","v":""}]
[null,null,{"$f":"IFERROR((VLOOKUP(B820,'Select ECPs'!$B$2:$E$77,4,0)),\"\")","v":""},null,{"$f":"IFERROR((VLOOKUP(B820,'Select ECPs'!$B$2:$E$77,2,0)),\"\")","v":""}]
[null,null,{"$f":"IFERROR((VLOOKUP(B821,'Select ECPs'!$B$2:$E$77,4,0)),\"\")","v":""},null,{"$f":"IFERROR((VLOOKUP(B821,'Select ECPs'!$B$2:$E$77,2,0)),\"\")","v":""}]
[null,null,{"$f":"IFERROR((VLOOKUP(B822,'Select ECPs'!$B$2:$E$77,4,0)),\"\")","v":""},null,{"$f":"IFERROR((VLOOKUP(B822,'Select ECPs'!$B$2:$E$77,2,0)),\"\")","v":""}]
[null,null,{"$f":"IFERROR((VLOOKUP(B823,'Select ECPs'!$B$2:$E$77,4,0)),\"\")","v":""},null,{"$f":"IFERROR((VLOOKUP(B823,'Select ECPs'!$B$2:$E$77,2,0)),\"\")","v":""}]
[null,null,{"$f":"IFERROR((VLOOKUP(B824,'Select ECPs'!$B$2:$E$77,4,0)),\"\")","v":""},null,{"$f":"IFERROR((VLOOKUP(B824,'Select ECPs'!$B$2:$E$77,2,0)),\"\")","v":""}]
[null,null,{"$f":"IFERROR((VLOOKUP(B825,'Select ECPs'!$B$2:$E$77,4,0)),\"\")","v":""},null,{"$f":"IFERROR((VLOOKUP(B825,'Select ECPs'!$B$2:$E$77,2,0)),\"\")","v":""}]
[null,null,{"$f":"IFERROR((VLOOKUP(B826,'Select ECPs'!$B$2:$E$77,4,0)),\"\")","v":""},null,{"$f":"IFERROR((VLOOKUP(B826,'Select ECPs'!$B$2:$E$77,2,0)),\"\")","v":""}]
[null,null,{"$f":"IFERROR((VLOOKUP(B827,'Select ECPs'!$B$2:$E$77,4,0)),\"\")","v":""},null,{"$f":"IFERROR((VLOOKUP(B827,'Select ECPs'!$B$2:$E$77,2,0)),\"\")","v":""}]
[null,null,{"$f":"IFERROR((VLOOKUP(B828,'Select ECPs'!$B$2:$E$77,4,0)),\"\")","v":""},null,{"$f":"IFERROR((VLOOKUP(B828,'Select ECPs'!$B$2:$E$77,2,0)),\"\")","v":""}]
[null,null,{"$f":"IFERROR((VLOOKUP(B829,'Select ECPs'!$B$2:$E$77,4,0)),\"\")","v":""},null,{"$f":"IFERROR((VLOOKUP(B829,'Select ECPs'!$B$2:$E$77,2,0)),\"\")","v":""}]
[null,null,{"$f":"IFERROR((VLOOKUP(B830,'Select ECPs'!$B$2:$E$77,4,0)),\"\")","v":""},null,{"$f":"IFERROR((VLOOKUP(B830,'Select ECPs'!$B$2:$E$77,2,0)),\"\")","v":""}]
[null,null,{"$f":"IFERROR((VLOOKUP(B831,'Select ECPs'!$B$2:$E$77,4,0)),\"\")","v":""},null,{"$f":"IFERROR((VLOOKUP(B831,'Select ECPs'!$B$2:$E$77,2,0)),\"\")","v":""}]
[null,null,{"$f":"IFERROR((VLOOKUP(B832,'Select ECPs'!$B$2:$E$77,4,0)),\"\")","v":""},null,{"$f":"IFERROR((VLOOKUP(B832,'Select ECPs'!$B$2:$E$77,2,0)),\"\")","v":""}]
[null,null,{"$f":"IFERROR((VLOOKUP(B833,'Select ECPs'!$B$2:$E$77,4,0)),\"\")","v":""},null,{"$f":"IFERROR((VLOOKUP(B833,'Select ECPs'!$B$2:$E$77,2,0)),\"\")","v":""}]
[null,null,{"$f":"IFERROR((VLOOKUP(B834,'Select ECPs'!$B$2:$E$77,4,0)),\"\")","v":""},null,{"$f":"IFERROR((VLOOKUP(B834,'Select ECPs'!$B$2:$E$77,2,0)),\"\")","v":""}]
[null,null,{"$f":"IFERROR((VLOOKUP(B835,'Select ECPs'!$B$2:$E$77,4,0)),\"\")","v":""},null,{"$f":"IFERROR((VLOOKUP(B835,'Select ECPs'!$B$2:$E$77,2,0)),\"\")","v":""}]
[null,null,{"$f":"IFERROR((VLOOKUP(B836,'Select ECPs'!$B$2:$E$77,4,0)),\"\")","v":""},null,{"$f":"IFERROR((VLOOKUP(B836,'Select ECPs'!$B$2:$E$77,2,0)),\"\")","v":""}]
[null,null,{"$f":"IFERROR((VLOOKUP(B837,'Select ECPs'!$B$2:$E$77,4,0)),\"\")","v":""},null,{"$f":"IFERROR((VLOOKUP(B837,'Select ECPs'!$B$2:$E$77,2,0)),\"\")","v":""}]
[null,null,{"$f":"IFERROR((VLOOKUP(B838,'Select ECPs'!$B$2:$E$77,4,0)),\"\")","v":""},null,{"$f":"IFERROR((VLOOKUP(B838,'Select ECPs'!$B$2:$E$77,2,0)),\"\")","v":""}]
[null,null,{"$f":"IFERROR((VLOOKUP(B839,'Select ECPs'!$B$2:$E$77,4,0)),\"\")","v":""},null,{"$f":"IFERROR((VLOOKUP(B839,'Select ECPs'!$B$2:$E$77,2,0)),\"\")","v":""}]
[null,null,{"$f":"IFERROR((VLOOKUP(B840,'Select ECPs'!$B$2:$E$77,4,0)),\"\")","v":""},null,{"$f":"IFERROR((VLOOKUP(B840,'Select ECPs'!$B$2:$E$77,2,0)),\"\")","v":""}]
[null,null,{"$f":"IFERROR((VLOOKUP(B841,'Select ECPs'!$B$2:$E$77,4,0)),\"\")","v":""},null,{"$f":"IFERROR((VLOOKUP(B841,'Select ECPs'!$B$2:$E$77,2,0)),\"\")","v":""}]
[null,null,{"$f":"IFERROR((VLOOKUP(B842,'Select ECPs'!$B$2:$E$77,4,0)),\"\")","v":""},null,{"$f":"IFERROR((VLOOKUP(B842,'Select ECPs'!$B$2:$E$77,2,0)),\"\")","v":""}]
[null,null,{"$f":"IFERROR((VLOOKUP(B843,'Select ECPs'!$B$2:$E$77,4,0)),\"\")","v":""},null,{"$f":"IFERROR((VLOOKUP(B843,'Select ECPs'!$B$2:$E$77,2,0)),\"\")","v":""}]
[null,null,{"$f":"IFERROR((VLOOKUP(B844,'Select ECPs'!$B$2:$E$77,4,0)),\"\")","v":""},null,{"$f":"IFERROR((VLOOKUP(B844,'Select ECPs'!$B$2:$E$77,2,0)),\"\")","v":""}]
[null,null,{"$f":"IFERROR((VLOOKUP(B845,'Select ECPs'!$B$2:$E$77,4,0)),\"\")","v":""},null,{"$f":"IFERROR((VLOOKUP(B845,'Select ECPs'!$B$2:$E$77,2,0)),\"\")","v":""}]
[null,null,{"$f":"IFERROR((VLOOKUP(B846,'Select ECPs'!$B$2:$E$77,4,0)),\"\")","v":""},null,{"$f":"IFERROR((VLOOKUP(B846,'Select ECPs'!$B$2:$E$77,2,0)),\"\")","v":""}]
[null,null,{"$f":"IFERROR((VLOOKUP(B847,'Select ECPs'!$B$2:$E$77,4,0)),\"\")","v":""},null,{"$f":"IFERROR((VLOOKUP(B847,'Select ECPs'!$B$2:$E$77,2,0)),\"\")","v":""}]
[null,null,{"$f":"IFERROR((VLOOKUP(B848,'Select ECPs'!$B$2:$E$77,4,0)),\"\")","v":""},null,{"$f":"IFERROR((VLOOKUP(B848,'Select ECPs'!$B$2:$E$77,2,0)),\"\")","v":""}]
[null,null,{"$f":"IFERROR((VLOOKUP(B849,'Select ECPs'!$B$2:$E$77,4,0)),\"\")","v":""},null,{"$f":"IFERROR((VLOOKUP(B849,'Select ECPs'!$B$2:$E$77,2,0)),\"\")","v":""}]
[null,null,{"$f":"IFERROR((VLOOKUP(B850,'Select ECPs'!$B$2:$E$77,4,0)),\"\")","v":""},null,{"$f":"IFERROR((VLOOKUP(B850,'Select ECPs'!$B$2:$E$77,2,0)),\"\")","v":""}]
[null,null,{"$f":"IFERROR((VLOOKUP(B851,'Select ECPs'!$B$2:$E$77,4,0)),\"\")","v":""},null,{"$f":"IFERROR((VLOOKUP(B851,'Select ECPs'!$B$2:$E$77,2,0)),\"\")","v":""}]
[null,null,{"$f":"IFERROR((VLOOKUP(B852,'Select ECPs'!$B$2:$E$77,4,0)),\"\")","v":""},null,{"$f":"IFERROR((VLOOKUP(B852,'Select ECPs'!$B$2:$E$77,2,0)),\"\")","v":""}]
[null,null,{"$f":"IFERROR((VLOOKUP(B853,'Select ECPs'!$B$2:$E$77,4,0)),\"\")","v":""},null,{"$f":"IFERROR((VLOOKUP(B853,'Select ECPs'!$B$2:$E$77,2,0)),\"\")","v":""}]
[null,null,{"$f":"IFERROR((VLOOKUP(B854,'Select ECPs'!$B$2:$E$77,4,0)),\"\")","v":""},null,{"$f":"IFERROR((VLOOKUP(B854,'Select ECPs'!$B$2:$E$77,2,0)),\"\")","v":""}]
[null,null,{"$f":"IFERROR((VLOOKUP(B855,'Select ECPs'!$B$2:$E$77,4,0)),\"\")","v":""},null,{"$f":"IFERROR((VLOOKUP(B855,'Select ECPs'!$B$2:$E$77,2,0)),\"\")","v":""}]
[null,null,{"$f":"IFERROR((VLOOKUP(B856,'Select ECPs'!$B$2:$E$77,4,0)),\"\")","v":""},null,{"$f":"IFERROR((VLOOKUP(B856,'Select ECPs'!$B$2:$E$77,2,0)),\"\")","v":""}]
[null,null,{"$f":"IFERROR((VLOOKUP(B857,'Select ECPs'!$B$2:$E$77,4,0)),\"\")","v":""},null,{"$f":"IFERROR((VLOOKUP(B857,'Select ECPs'!$B$2:$E$77,2,0)),\"\")","v":""}]
[null,null,{"$f":"IFERROR((VLOOKUP(B858,'Select ECPs'!$B$2:$E$77,4,0)),\"\")","v":""},null,{"$f":"IFERROR((VLOOKUP(B858,'Select ECPs'!$B$2:$E$77,2,0)),\"\")","v":""}]
[null,null,{"$f":"IFERROR((VLOOKUP(B859,'Select ECPs'!$B$2:$E$77,4,0)),\"\")","v":""},null,{"$f":"IFERROR((VLOOKUP(B859,'Select ECPs'!$B$2:$E$77,2,0)),\"\")","v":""}]
[null,null,{"$f":"IFERROR((VLOOKUP(B860,'Select ECPs'!$B$2:$E$77,4,0)),\"\")","v":""},null,{"$f":"IFERROR((VLOOKUP(B860,'Select ECPs'!$B$2:$E$77,2,0)),\"\")","v":""}]
[null,null,{"$f":"IFERROR((VLOOKUP(B861,'Select ECPs'!$B$2:$E$77,4,0)),\"\")","v":""},null,{"$f":"IFERROR((VLOOKUP(B861,'Select ECPs'!$B$2:$E$77,2,0)),\"\")","v":""}]
[null,null,{"$f":"IFERROR((VLOOKUP(B862,'Select ECPs'!$B$2:$E$77,4,0)),\"\")","v":""},null,{"$f":"IFERROR((VLOOKUP(B862,'Select ECPs'!$B$2:$E$77,2,0)),\"\")","v":""}]
[null,null,{"$f":"IFERROR((VLOOKUP(B863,'Select ECPs'!$B$2:$E$77,4,0)),\"\")","v":""},null,{"$f":"IFERROR((VLOOKUP(B863,'Select ECPs'!$B$2:$E$77,2,0)),\"\")","v":""}]
[null,null,{"$f":"IFERROR((VLOOKUP(B864,'Select ECPs'!$B$2:$E$77,4,0)),\"\")","v":""},null,{"$f":"IFERROR((VLOOKUP(B864,'Select ECPs'!$B$2:$E$77,2,0)),\"\")","v":""}]
[null,null,{"$f":"IFERROR((VLOOKUP(B865,'Select ECPs'!$B$2:$E$77,4,0)),\"\")","v":""},null,{"$f":"IFERROR((VLOOKUP(B865,'Select ECPs'!$B$2:$E$77,2,0)),\"\")","v":""}]
[null,null,{"$f":"IFERROR((VLOOKUP(B866,'Select ECPs'!$B$2:$E$77,4,0)),\"\")","v":""},null,{"$f":"IFERROR((VLOOKUP(B866,'Select ECPs'!$B$2:$E$77,2,0)),\"\")","v":""}]
[null,null,{"$f":"IFERROR((VLOOKUP(B867,'Select ECPs'!$B$2:$E$77,4,0)),\"\")","v":""},null,{"$f":"IFERROR((VLOOKUP(B867,'Select ECPs'!$B$2:$E$77,2,0)),\"\")","v":""}]
[null,null,{"$f":"IFERROR((VLOOKUP(B868,'Select ECPs'!$B$2:$E$77,4,0)),\"\")","v":""},null,{"$f":"IFERROR((VLOOKUP(B868,'Select ECPs'!$B$2:$E$77,2,0)),\"\")","v":""}]
[null,null,{"$f":"IFERROR((VLOOKUP(B869,'Select ECPs'!$B$2:$E$77,4,0)),\"\")","v":""},null,{"$f":"IFERROR((VLOOKUP(B869,'Select ECPs'!$B$2:$E$77,2,0)),\"\")","v":""}]
[null,null,{"$f":"IFERROR((VLOOKUP(B870,'Select ECPs'!$B$2:$E$77,4,0)),\"\")","v":""},null,{"$f":"IFERROR((VLOOKUP(B870,'Select ECPs'!$B$2:$E$77,2,0)),\"\")","v":""}]
[null,null,{"$f":"IFERROR((VLOOKUP(B871,'Select ECPs'!$B$2:$E$77,4,0)),\"\")","v":""},null,{"$f":"IFERROR((VLOOKUP(B871,'Select ECPs'!$B$2:$E$77,2,0)),\"\")","v":""}]
[null,null,{"$f":"IFERROR((VLOOKUP(B872,'Select ECPs'!$B$2:$E$77,4,0)),\"\")","v":""},null,{"$f":"IFERROR((VLOOKUP(B872,'Select ECPs'!$B$2:$E$77,2,0)),\"\")","v":""}]
[null,null,{"$f":"IFERROR((VLOOKUP(B873,'Select ECPs'!$B$2:$E$77,4,0)),\"\")","v":""},null,{"$f":"IFERROR((VLOOKUP(B873,'Select ECPs'!$B$2:$E$77,2,0)),\"\")","v":""}]
[null,null,{"$f":"IFERROR((VLOOKUP(B874,'Select ECPs'!$B$2:$E$77,4,0)),\"\")","v":""},null,{"$f":"IFERROR((VLOOKUP(B874,'Select ECPs'!$B$2:$E$77,2,0)),\"\")","v":""}]
[null,null,{"$f":"IFERROR((VLOOKUP(B875,'Select ECPs'!$B$2:$E$77,4,0)),\"\")","v":""},null,{"$f":"IFERROR((VLOOKUP(B875,'Select ECPs'!$B$2:$E$77,2,0)),\"\")","v":""}]
[null,null,{"$f":"IFERROR((VLOOKUP(B876,'Select ECPs'!$B$2:$E$77,4,0)),\"\")","v":""},null,{"$f":"IFERROR((VLOOKUP(B876,'Select ECPs'!$B$2:$E$77,2,0)),\"\")","v":""}]
[null,null,{"$f":"IFERROR((VLOOKUP(B877,'Select ECPs'!$B$2:$E$77,4,0)),\"\")","v":""},null,{"$f":"IFERROR((VLOOKUP(B877,'Select ECPs'!$B$2:$E$77,2,0)),\"\")","v":""}]
[null,null,{"$f":"IFERROR((VLOOKUP(B878,'Select ECPs'!$B$2:$E$77,4,0)),\"\")","v":""},null,{"$f":"IFERROR((VLOOKUP(B878,'Select ECPs'!$B$2:$E$77,2,0)),\"\")","v":""}]
[null,null,{"$f":"IFERROR((VLOOKUP(B879,'Select ECPs'!$B$2:$E$77,4,0)),\"\")","v":""},null,{"$f":"IFERROR((VLOOKUP(B879,'Select ECPs'!$B$2:$E$77,2,0)),\"\")","v":""}]
[null,null,{"$f":"IFERROR((VLOOKUP(B880,'Select ECPs'!$B$2:$E$77,4,0)),\"\")","v":""},null,{"$f":"IFERROR((VLOOKUP(B880,'Select ECPs'!$B$2:$E$77,2,0)),\"\")","v":""}]
[null,null,{"$f":"IFERROR((VLOOKUP(B881,'Select ECPs'!$B$2:$E$77,4,0)),\"\")","v":""},null,{"$f":"IFERROR((VLOOKUP(B881,'Select ECPs'!$B$2:$E$77,2,0)),\"\")","v":""}]
[null,null,{"$f":"IFERROR((VLOOKUP(B882,'Select ECPs'!$B$2:$E$77,4,0)),\"\")","v":""},null,{"$f":"IFERROR((VLOOKUP(B882,'Select ECPs'!$B$2:$E$77,2,0)),\"\")","v":""}]
[null,null,{"$f":"IFERROR((VLOOKUP(B883,'Select ECPs'!$B$2:$E$77,4,0)),\"\")","v":""},null,{"$f":"IFERROR((VLOOKUP(B883,'Select ECPs'!$B$2:$E$77,2,0)),\"\")","v":""}]
[null,null,{"$f":"IFERROR((VLOOKUP(B884,'Select ECPs'!$B$2:$E$77,4,0)),\"\")","v":""},null,{"$f":"IFERROR((VLOOKUP(B884,'Select ECPs'!$B$2:$E$77,2,0)),\"\")","v":""}]
[null,null,{"$f":"IFERROR((VLOOKUP(B885,'Select ECPs'!$B$2:$E$77,4,0)),\"\")","v":""},null,{"$f":"IFERROR((VLOOKUP(B885,'Select ECPs'!$B$2:$E$77,2,0)),\"\")","v":""}]
[null,null,{"$f":"IFERROR((VLOOKUP(B886,'Select ECPs'!$B$2:$E$77,4,0)),\"\")","v":""},null,{"$f":"IFERROR((VLOOKUP(B886,'Select ECPs'!$B$2:$E$77,2,0)),\"\")","v":""}]
[null,null,{"$f":"IFERROR((VLOOKUP(B887,'Select ECPs'!$B$2:$E$77,4,0)),\"\")","v":""},null,{"$f":"IFERROR((VLOOKUP(B887,'Select ECPs'!$B$2:$E$77,2,0)),\"\")","v":""}]
[null,null,{"$f":"IFERROR((VLOOKUP(B888,'Select ECPs'!$B$2:$E$77,4,0)),\"\")","v":""},null,{"$f":"IFERROR((VLOOKUP(B888,'Select ECPs'!$B$2:$E$77,2,0)),\"\")","v":""}]
[null,null,{"$f":"IFERROR((VLOOKUP(B889,'Select ECPs'!$B$2:$E$77,4,0)),\"\")","v":""},null,{"$f":"IFERROR((VLOOKUP(B889,'Select ECPs'!$B$2:$E$77,2,0)),\"\")","v":""}]
[null,null,{"$f":"IFERROR((VLOOKUP(B890,'Select ECPs'!$B$2:$E$77,4,0)),\"\")","v":""},null,{"$f":"IFERROR((VLOOKUP(B890,'Select ECPs'!$B$2:$E$77,2,0)),\"\")","v":""}]
[null,null,{"$f":"IFERROR((VLOOKUP(B891,'Select ECPs'!$B$2:$E$77,4,0)),\"\")","v":""},null,{"$f":"IFERROR((VLOOKUP(B891,'Select ECPs'!$B$2:$E$77,2,0)),\"\")","v":""}]
[null,null,{"$f":"IFERROR((VLOOKUP(B892,'Select ECPs'!$B$2:$E$77,4,0)),\"\")","v":""},null,{"$f":"IFERROR((VLOOKUP(B892,'Select ECPs'!$B$2:$E$77,2,0)),\"\")","v":""}]
[null,null,{"$f":"IFERROR((VLOOKUP(B893,'Select ECPs'!$B$2:$E$77,4,0)),\"\")","v":""},null,{"$f":"IFERROR((VLOOKUP(B893,'Select ECPs'!$B$2:$E$77,2,0)),\"\")","v":""}]
[null,null,{"$f":"IFERROR((VLOOKUP(B894,'Select ECPs'!$B$2:$E$77,4,0)),\"\")","v":""},null,{"$f":"IFERROR((VLOOKUP(B894,'Select ECPs'!$B$2:$E$77,2,0)),\"\")","v":""}]
[null,null,{"$f":"IFERROR((VLOOKUP(B895,'Select ECPs'!$B$2:$E$77,4,0)),\"\")","v":""},null,{"$f":"IFERROR((VLOOKUP(B895,'Select ECPs'!$B$2:$E$77,2,0)),\"\")","v":""}]
[null,null,{"$f":"IFERROR((VLOOKUP(B896,'Select ECPs'!$B$2:$E$77,4,0)),\"\")","v":""},null,{"$f":"IFERROR((VLOOKUP(B896,'Select ECPs'!$B$2:$E$77,2,0)),\"\")","v":""}]
[null,null,{"$f":"IFERROR((VLOOKUP(B897,'Select ECPs'!$B$2:$E$77,4,0)),\"\")","v":""},null,{"$f":"IFERROR((VLOOKUP(B897,'Select ECPs'!$B$2:$E$77,2,0)),\"\")","v":""}]
[null,null,{"$f":"IFERROR((VLOOKUP(B898,'Select ECPs'!$B$2:$E$77,4,0)),\"\")","v":""},null,{"$f":"IFERROR((VLOOKUP(B898,'Select ECPs'!$B$2:$E$77,2,0)),\"\")","v":""}]
[null,null,{"$f":"IFERROR((VLOOKUP(B899,'Select ECPs'!$B$2:$E$77,4,0)),\"\")","v":""},null,{"$f":"IFERROR((VLOOKUP(B899,'Select ECPs'!$B$2:$E$77,2,0)),\"\")","v":""}]
[null,null,{"$f":"IFERROR((VLOOKUP(B900,'Select ECPs'!$B$2:$E$77,4,0)),\"\")","v":""},null,{"$f":"IFERROR((VLOOKUP(B900,'Select ECPs'!$B$2:$E$77,2,0)),\"\")","v":""}]
[null,null,{"$f":"IFERROR((VLOOKUP(B901,'Select ECPs'!$B$2:$E$77,4,0)),\"\")","v":""},null,{"$f":"IFERROR((VLOOKUP(B901,'Select ECPs'!$B$2:$E$77,2,0)),\"\")","v":""}]
[null,null,{"$f":"IFERROR((VLOOKUP(B902,'Select ECPs'!$B$2:$E$77,4,0)),\"\")","v":""},null,{"$f":"IFERROR((VLOOKUP(B902,'Select ECPs'!$B$2:$E$77,2,0)),\"\")","v":""}]
[null,null,{"$f":"IFERROR((VLOOKUP(B903,'Select ECPs'!$B$2:$E$77,4,0)),\"\")","v":""},null,{"$f":"IFERROR((VLOOKUP(B903,'Select ECPs'!$B$2:$E$77,2,0)),\"\")","v":""}]
[null,null,{"$f":"IFERROR((VLOOKUP(B904,'Select ECPs'!$B$2:$E$77,4,0)),\"\")","v":""},null,{"$f":"IFERROR((VLOOKUP(B904,'Select ECPs'!$B$2:$E$77,2,0)),\"\")","v":""}]
[null,null,{"$f":"IFERROR((VLOOKUP(B905,'Select ECPs'!$B$2:$E$77,4,0)),\"\")","v":""},null,{"$f":"IFERROR((VLOOKUP(B905,'Select ECPs'!$B$2:$E$77,2,0)),\"\")","v":""}]
[null,null,{"$f":"IFERROR((VLOOKUP(B906,'Select ECPs'!$B$2:$E$77,4,0)),\"\")","v":""},null,{"$f":"IFERROR((VLOOKUP(B906,'Select ECPs'!$B$2:$E$77,2,0)),\"\")","v":""}]
[null,null,{"$f":"IFERROR((VLOOKUP(B907,'Select ECPs'!$B$2:$E$77,4,0)),\"\")","v":""},null,{"$f":"IFERROR((VLOOKUP(B907,'Select ECPs'!$B$2:$E$77,2,0)),\"\")","v":""}]
[null,null,{"$f":"IFERROR((VLOOKUP(B908,'Select ECPs'!$B$2:$E$77,4,0)),\"\")","v":""},null,{"$f":"IFERROR((VLOOKUP(B908,'Select ECPs'!$B$2:$E$77,2,0)),\"\")","v":""}]
[null,null,{"$f":"IFERROR((VLOOKUP(B909,'Select ECPs'!$B$2:$E$77,4,0)),\"\")","v":""},null,{"$f":"IFERROR((VLOOKUP(B909,'Select ECPs'!$B$2:$E$77,2,0)),\"\")","v":""}]
[null,null,{"$f":"IFERROR((VLOOKUP(B910,'Select ECPs'!$B$2:$E$77,4,0)),\"\")","v":""},null,{"$f":"IFERROR((VLOOKUP(B910,'Select ECPs'!$B$2:$E$77,2,0)),\"\")","v":""}]
[null,null,{"$f":"IFERROR((VLOOKUP(B911,'Select ECPs'!$B$2:$E$77,4,0)),\"\")","v":""},null,{"$f":"IFERROR((VLOOKUP(B911,'Select ECPs'!$B$2:$E$77,2,0)),\"\")","v":""}]
[null,null,{"$f":"IFERROR((VLOOKUP(B912,'Select ECPs'!$B$2:$E$77,4,0)),\"\")","v":""},null,{"$f":"IFERROR((VLOOKUP(B912,'Select ECPs'!$B$2:$E$77,2,0)),\"\")","v":""}]
[null,null,{"$f":"IFERROR((VLOOKUP(B913,'Select ECPs'!$B$2:$E$77,4,0)),\"\")","v":""},null,{"$f":"IFERROR((VLOOKUP(B913,'Select ECPs'!$B$2:$E$77,2,0)),\"\")","v":""}]
[null,null,{"$f":"IFERROR((VLOOKUP(B914,'Select ECPs'!$B$2:$E$77,4,0)),\"\")","v":""},null,{"$f":"IFERROR((VLOOKUP(B914,'Select ECPs'!$B$2:$E$77,2,0)),\"\")","v":""}]
[null,null,{"$f":"IFERROR((VLOOKUP(B915,'Select ECPs'!$B$2:$E$77,4,0)),\"\")","v":""},null,{"$f":"IFERROR((VLOOKUP(B915,'Select ECPs'!$B$2:$E$77,2,0)),\"\")","v":""}]
[null,null,{"$f":"IFERROR((VLOOKUP(B916,'Select ECPs'!$B$2:$E$77,4,0)),\"\")","v":""},null,{"$f":"IFERROR((VLOOKUP(B916,'Select ECPs'!$B$2:$E$77,2,0)),\"\")","v":""}]
[null,null,{"$f":"IFERROR((VLOOKUP(B917,'Select ECPs'!$B$2:$E$77,4,0)),\"\")","v":""},null,{"$f":"IFERROR((VLOOKUP(B917,'Select ECPs'!$B$2:$E$77,2,0)),\"\")","v":""}]
[null,null,{"$f":"IFERROR((VLOOKUP(B918,'Select ECPs'!$B$2:$E$77,4,0)),\"\")","v":""},null,{"$f":"IFERROR((VLOOKUP(B918,'Select ECPs'!$B$2:$E$77,2,0)),\"\")","v":""}]
[null,null,{"$f":"IFERROR((VLOOKUP(B919,'Select ECPs'!$B$2:$E$77,4,0)),\"\")","v":""},null,{"$f":"IFERROR((VLOOKUP(B919,'Select ECPs'!$B$2:$E$77,2,0)),\"\")","v":""}]
[null,null,{"$f":"IFERROR((VLOOKUP(B920,'Select ECPs'!$B$2:$E$77,4,0)),\"\")","v":""},null,{"$f":"IFERROR((VLOOKUP(B920,'Select ECPs'!$B$2:$E$77,2,0)),\"\")","v":""}]
[null,null,{"$f":"IFERROR((VLOOKUP(B921,'Select ECPs'!$B$2:$E$77,4,0)),\"\")","v":""},null,{"$f":"IFERROR((VLOOKUP(B921,'Select ECPs'!$B$2:$E$77,2,0)),\"\")","v":""}]
[null,null,{"$f":"IFERROR((VLOOKUP(B922,'Select ECPs'!$B$2:$E$77,4,0)),\"\")","v":""},null,{"$f":"IFERROR((VLOOKUP(B922,'Select ECPs'!$B$2:$E$77,2,0)),\"\")","v":""}]
[null,null,{"$f":"IFERROR((VLOOKUP(B923,'Select ECPs'!$B$2:$E$77,4,0)),\"\")","v":""},null,{"$f":"IFERROR((VLOOKUP(B923,'Select ECPs'!$B$2:$E$77,2,0)),\"\")","v":""}]
[null,null,{"$f":"IFERROR((VLOOKUP(B924,'Select ECPs'!$B$2:$E$77,4,0)),\"\")","v":""},null,{"$f":"IFERROR((VLOOKUP(B924,'Select ECPs'!$B$2:$E$77,2,0)),\"\")","v":""}]
[null,null,{"$f":"IFERROR((VLOOKUP(B925,'Select ECPs'!$B$2:$E$77,4,0)),\"\")","v":""},null,{"$f":"IFERROR((VLOOKUP(B925,'Select ECPs'!$B$2:$E$77,2,0)),\"\")","v":""}]
[null,null,{"$f":"IFERROR((VLOOKUP(B926,'Select ECPs'!$B$2:$E$77,4,0)),\"\")","v":""},null,{"$f":"IFERROR((VLOOKUP(B926,'Select ECPs'!$B$2:$E$77,2,0)),\"\")","v":""}]
[null,null,{"$f":"IFERROR((VLOOKUP(B927,'Select ECPs'!$B$2:$E$77,4,0)),\"\")","v":""},null,{"$f":"IFERROR((VLOOKUP(B927,'Select ECPs'!$B$2:$E$77,2,0)),\"\")","v":""}]
[null,null,{"$f":"IFERROR((VLOOKUP(B928,'Select ECPs'!$B$2:$E$77,4,0)),\"\")","v":""},null,{"$f":"IFERROR((VLOOKUP(B928,'Select ECPs'!$B$2:$E$77,2,0)),\"\")","v":""}]
[null,null,{"$f":"IFERROR((VLOOKUP(B929,'Select ECPs'!$B$2:$E$77,4,0)),\"\")","v":""},null,{"$f":"IFERROR((VLOOKUP(B929,'Select ECPs'!$B$2:$E$77,2,0)),\"\")","v":""}]
[null,null,{"$f":"IFERROR((VLOOKUP(B930,'Select ECPs'!$B$2:$E$77,4,0)),\"\")","v":""},null,{"$f":"IFERROR((VLOOKUP(B930,'Select ECPs'!$B$2:$E$77,2,0)),\"\")","v":""}]
[null,null,{"$f":"IFERROR((VLOOKUP(B931,'Select ECPs'!$B$2:$E$77,4,0)),\"\")","v":""},null,{"$f":"IFERROR((VLOOKUP(B931,'Select ECPs'!$B$2:$E$77,2,0)),\"\")","v":""}]
[null,null,{"$f":"IFERROR((VLOOKUP(B932,'Select ECPs'!$B$2:$E$77,4,0)),\"\")","v":""},null,{"$f":"IFERROR((VLOOKUP(B932,'Select ECPs'!$B$2:$E$77,2,0)),\"\")","v":""}]
[null,null,{"$f":"IFERROR((VLOOKUP(B933,'Select ECPs'!$B$2:$E$77,4,0)),\"\")","v":""},null,{"$f":"IFERROR((VLOOKUP(B933,'Select ECPs'!$B$2:$E$77,2,0)),\"\")","v":""}]
[null,null,{"$f":"IFERROR((VLOOKUP(B934,'Select ECPs'!$B$2:$E$77,4,0)),\"\")","v":""},null,{"$f":"IFERROR((VLOOKUP(B934,'Select ECPs'!$B$2:$E$77,2,0)),\"\")","v":""}]
[null,null,{"$f":"IFERROR((VLOOKUP(B935,'Select ECPs'!$B$2:$E$77,4,0)),\"\")","v":""},null,{"$f":"IFERROR((VLOOKUP(B935,'Select ECPs'!$B$2:$E$77,2,0)),\"\")","v":""}]
[null,null,{"$f":"IFERROR((VLOOKUP(B936,'Select ECPs'!$B$2:$E$77,4,0)),\"\")","v":""},null,{"$f":"IFERROR((VLOOKUP(B936,'Select ECPs'!$B$2:$E$77,2,0)),\"\")","v":""}]
[null,null,{"$f":"IFERROR((VLOOKUP(B937,'Select ECPs'!$B$2:$E$77,4,0)),\"\")","v":""},null,{"$f":"IFERROR((VLOOKUP(B937,'Select ECPs'!$B$2:$E$77,2,0)),\"\")","v":""}]
[null,null,{"$f":"IFERROR((VLOOKUP(B938,'Select ECPs'!$B$2:$E$77,4,0)),\"\")","v":""},null,{"$f":"IFERROR((VLOOKUP(B938,'Select ECPs'!$B$2:$E$77,2,0)),\"\")","v":""}]
[null,null,{"$f":"IFERROR((VLOOKUP(B939,'Select ECPs'!$B$2:$E$77,4,0)),\"\")","v":""},null,{"$f":"IFERROR((VLOOKUP(B939,'Select ECPs'!$B$2:$E$77,2,0)),\"\")","v":""}]
[null,null,{"$f":"IFERROR((VLOOKUP(B940,'Select ECPs'!$B$2:$E$77,4,0)),\"\")","v":""},null,{"$f":"IFERROR((VLOOKUP(B940,'Select ECPs'!$B$2:$E$77,2,0)),\"\")","v":""}]
[null,null,{"$f":"IFERROR((VLOOKUP(B941,'Select ECPs'!$B$2:$E$77,4,0)),\"\")","v":""},null,{"$f":"IFERROR((VLOOKUP(B941,'Select ECPs'!$B$2:$E$77,2,0)),\"\")","v":""}]
[null,null,{"$f":"IFERROR((VLOOKUP(B942,'Select ECPs'!$B$2:$E$77,4,0)),\"\")","v":""},null,{"$f":"IFERROR((VLOOKUP(B942,'Select ECPs'!$B$2:$E$77,2,0)),\"\")","v":""}]
[null,null,{"$f":"IFERROR((VLOOKUP(B943,'Select ECPs'!$B$2:$E$77,4,0)),\"\")","v":""},null,{"$f":"IFERROR((VLOOKUP(B943,'Select ECPs'!$B$2:$E$77,2,0)),\"\")","v":""}]
[null,null,{"$f":"IFERROR((VLOOKUP(B944,'Select ECPs'!$B$2:$E$77,4,0)),\"\")","v":""},null,{"$f":"IFERROR((VLOOKUP(B944,'Select ECPs'!$B$2:$E$77,2,0)),\"\")","v":""}]
[null,null,{"$f":"IFERROR((VLOOKUP(B945,'Select ECPs'!$B$2:$E$77,4,0)),\"\")","v":""},null,{"$f":"IFERROR((VLOOKUP(B945,'Select ECPs'!$B$2:$E$77,2,0)),\"\")","v":""}]
[null,null,{"$f":"IFERROR((VLOOKUP(B946,'Select ECPs'!$B$2:$E$77,4,0)),\"\")","v":""},null,{"$f":"IFERROR((VLOOKUP(B946,'Select ECPs'!$B$2:$E$77,2,0)),\"\")","v":""}]
[null,null,{"$f":"IFERROR((VLOOKUP(B947,'Select ECPs'!$B$2:$E$77,4,0)),\"\")","v":""},null,{"$f":"IFERROR((VLOOKUP(B947,'Select ECPs'!$B$2:$E$77,2,0)),\"\")","v":""}]
[null,null,{"$f":"IFERROR((VLOOKUP(B948,'Select ECPs'!$B$2:$E$77,4,0)),\"\")","v":""},null,{"$f":"IFERROR((VLOOKUP(B948,'Select ECPs'!$B$2:$E$77,2,0)),\"\")","v":""}]
[null,null,{"$f":"IFERROR((VLOOKUP(B949,'Select ECPs'!$B$2:$E$77,4,0)),\"\")","v":""},null,{"$f":"IFERROR((VLOOKUP(B949,'Select ECPs'!$B$2:$E$77,2,0)),\"\")","v":""}]
[null,null,{"$f":"IFERROR((VLOOKUP(B950,'Select ECPs'!$B$2:$E$77,4,0)),\"\")","v":""},null,{"$f":"IFERROR((VLOOKUP(B950,'Select ECPs'!$B$2:$E$77,2,0)),\"\")","v":""}]
[null,null,{"$f":"IFERROR((VLOOKUP(B951,'Select ECPs'!$B$2:$E$77,4,0)),\"\")","v":""},null,{"$f":"IFERROR((VLOOKUP(B951,'Select ECPs'!$B$2:$E$77,2,0)),\"\")","v":""}]
[null,null,{"$f":"IFERROR((VLOOKUP(B952,'Select ECPs'!$B$2:$E$77,4,0)),\"\")","v":""},null,{"$f":"IFERROR((VLOOKUP(B952,'Select ECPs'!$B$2:$E$77,2,0)),\"\")","v":""}]
[null,null,{"$f":"IFERROR((VLOOKUP(B953,'Select ECPs'!$B$2:$E$77,4,0)),\"\")","v":""},null,{"$f":"IFERROR((VLOOKUP(B953,'Select ECPs'!$B$2:$E$77,2,0)),\"\")","v":""}]
[null,null,{"$f":"IFERROR((VLOOKUP(B954,'Select ECPs'!$B$2:$E$77,4,0)),\"\")","v":""},null,{"$f":"IFERROR((VLOOKUP(B954,'Select ECPs'!$B$2:$E$77,2,0)),\"\")","v":""}]
[null,null,{"$f":"IFERROR((VLOOKUP(B955,'Select ECPs'!$B$2:$E$77,4,0)),\"\")","v":""},null,{"$f":"IFERROR((VLOOKUP(B955,'Select ECPs'!$B$2:$E$77,2,0)),\"\")","v":""}]
[null,null,{"$f":"IFERROR((VLOOKUP(B956,'Select ECPs'!$B$2:$E$77,4,0)),\"\")","v":""},null,{"$f":"IFERROR((VLOOKUP(B956,'Select ECPs'!$B$2:$E$77,2,0)),\"\")","v":""}]
[null,null,{"$f":"IFERROR((VLOOKUP(B957,'Select ECPs'!$B$2:$E$77,4,0)),\"\")","v":""},null,{"$f":"IFERROR((VLOOKUP(B957,'Select ECPs'!$B$2:$E$77,2,0)),\"\")","v":""}]
[null,null,{"$f":"IFERROR((VLOOKUP(B958,'Select ECPs'!$B$2:$E$77,4,0)),\"\")","v":""},null,{"$f":"IFERROR((VLOOKUP(B958,'Select ECPs'!$B$2:$E$77,2,0)),\"\")","v":""}]
[null,null,{"$f":"IFERROR((VLOOKUP(B959,'Select ECPs'!$B$2:$E$77,4,0)),\"\")","v":""},null,{"$f":"IFERROR((VLOOKUP(B959,'Select ECPs'!$B$2:$E$77,2,0)),\"\")","v":""}]
[null,null,{"$f":"IFERROR((VLOOKUP(B960,'Select ECPs'!$B$2:$E$77,4,0)),\"\")","v":""},null,{"$f":"IFERROR((VLOOKUP(B960,'Select ECPs'!$B$2:$E$77,2,0)),\"\")","v":""}]
[null,null,{"$f":"IFERROR((VLOOKUP(B961,'Select ECPs'!$B$2:$E$77,4,0)),\"\")","v":""},null,{"$f":"IFERROR((VLOOKUP(B961,'Select ECPs'!$B$2:$E$77,2,0)),\"\")","v":""}]
[null,null,{"$f":"IFERROR((VLOOKUP(B962,'Select ECPs'!$B$2:$E$77,4,0)),\"\")","v":""},null,{"$f":"IFERROR((VLOOKUP(B962,'Select ECPs'!$B$2:$E$77,2,0)),\"\")","v":""}]
[null,null,{"$f":"IFERROR((VLOOKUP(B963,'Select ECPs'!$B$2:$E$77,4,0)),\"\")","v":""},null,{"$f":"IFERROR((VLOOKUP(B963,'Select ECPs'!$B$2:$E$77,2,0)),\"\")","v":""}]
[null,null,{"$f":"IFERROR((VLOOKUP(B964,'Select ECPs'!$B$2:$E$77,4,0)),\"\")","v":""},null,{"$f":"IFERROR((VLOOKUP(B964,'Select ECPs'!$B$2:$E$77,2,0)),\"\")","v":""}]
[null,null,{"$f":"IFERROR((VLOOKUP(B965,'Select ECPs'!$B$2:$E$77,4,0)),\"\")","v":""},null,{"$f":"IFERROR((VLOOKUP(B965,'Select ECPs'!$B$2:$E$77,2,0)),\"\")","v":""}]
[null,null,{"$f":"IFERROR((VLOOKUP(B966,'Select ECPs'!$B$2:$E$77,4,0)),\"\")","v":""},null,{"$f":"IFERROR((VLOOKUP(B966,'Select ECPs'!$B$2:$E$77,2,0)),\"\")","v":""}]
[null,null,{"$f":"IFERROR((VLOOKUP(B967,'Select ECPs'!$B$2:$E$77,4,0)),\"\")","v":""},null,{"$f":"IFERROR((VLOOKUP(B967,'Select ECPs'!$B$2:$E$77,2,0)),\"\")","v":""}]
[null,null,{"$f":"IFERROR((VLOOKUP(B968,'Select ECPs'!$B$2:$E$77,4,0)),\"\")","v":""},null,{"$f":"IFERROR((VLOOKUP(B968,'Select ECPs'!$B$2:$E$77,2,0)),\"\")","v":""}]
[null,null,{"$f":"IFERROR((VLOOKUP(B969,'Select ECPs'!$B$2:$E$77,4,0)),\"\")","v":""},null,{"$f":"IFERROR((VLOOKUP(B969,'Select ECPs'!$B$2:$E$77,2,0)),\"\")","v":""}]
[null,null,{"$f":"IFERROR((VLOOKUP(B970,'Select ECPs'!$B$2:$E$77,4,0)),\"\")","v":""},null,{"$f":"IFERROR((VLOOKUP(B970,'Select ECPs'!$B$2:$E$77,2,0)),\"\")","v":""}]
[null,null,{"$f":"IFERROR((VLOOKUP(B971,'Select ECPs'!$B$2:$E$77,4,0)),\"\")","v":""},null,{"$f":"IFERROR((VLOOKUP(B971,'Select ECPs'!$B$2:$E$77,2,0)),\"\")","v":""}]
[null,null,{"$f":"IFERROR((VLOOKUP(B972,'Select ECPs'!$B$2:$E$77,4,0)),\"\")","v":""},null,{"$f":"IFERROR((VLOOKUP(B972,'Select ECPs'!$B$2:$E$77,2,0)),\"\")","v":""}]
[null,null,{"$f":"IFERROR((VLOOKUP(B973,'Select ECPs'!$B$2:$E$77,4,0)),\"\")","v":""},null,{"$f":"IFERROR((VLOOKUP(B973,'Select ECPs'!$B$2:$E$77,2,0)),\"\")","v":""}]
[null,null,{"$f":"IFERROR((VLOOKUP(B974,'Select ECPs'!$B$2:$E$77,4,0)),\"\")","v":""},null,{"$f":"IFERROR((VLOOKUP(B974,'Select ECPs'!$B$2:$E$77,2,0)),\"\")","v":""}]
[null,null,{"$f":"IFERROR((VLOOKUP(B975,'Select ECPs'!$B$2:$E$77,4,0)),\"\")","v":""},null,{"$f":"IFERROR((VLOOKUP(B975,'Select ECPs'!$B$2:$E$77,2,0)),\"\")","v":""}]
[null,null,{"$f":"IFERROR((VLOOKUP(B976,'Select ECPs'!$B$2:$E$77,4,0)),\"\")","v":""},null,{"$f":"IFERROR((VLOOKUP(B976,'Select ECPs'!$B$2:$E$77,2,0)),\"\")","v":""}]
[null,null,{"$f":"IFERROR((VLOOKUP(B977,'Select ECPs'!$B$2:$E$77,4,0)),\"\")","v":""},null,{"$f":"IFERROR((VLOOKUP(B977,'Select ECPs'!$B$2:$E$77,2,0)),\"\")","v":""}]
[null,null,{"$f":"IFERROR((VLOOKUP(B978,'Select ECPs'!$B$2:$E$77,4,0)),\"\")","v":""},null,{"$f":"IFERROR((VLOOKUP(B978,'Select ECPs'!$B$2:$E$77,2,0)),\"\")","v":""}]
[null,null,{"$f":"IFERROR((VLOOKUP(B979,'Select ECPs'!$B$2:$E$77,4,0)),\"\")","v":""},null,{"$f":"IFERROR((VLOOKUP(B979,'Select ECPs'!$B$2:$E$77,2,0)),\"\")","v":""}]
[null,null,{"$f":"IFERROR((VLOOKUP(B980,'Select ECPs'!$B$2:$E$77,4,0)),\"\")","v":""},null,{"$f":"IFERROR((VLOOKUP(B980,'Select ECPs'!$B$2:$E$77,2,0)),\"\")","v":""}]
[null,null,{"$f":"IFERROR((VLOOKUP(B981,'Select ECPs'!$B$2:$E$77,4,0)),\"\")","v":""},null,{"$f":"IFERROR((VLOOKUP(B981,'Select ECPs'!$B$2:$E$77,2,0)),\"\")","v":""}]
[null,null,{"$f":"IFERROR((VLOOKUP(B982,'Select ECPs'!$B$2:$E$77,4,0)),\"\")","v":""},null,{"$f":"IFERROR((VLOOKUP(B982,'Select ECPs'!$B$2:$E$77,2,0)),\"\")","v":""}]
[null,null,{"$f":"IFERROR((VLOOKUP(B983,'Select ECPs'!$B$2:$E$77,4,0)),\"\")","v":""},null,{"$f":"IFERROR((VLOOKUP(B983,'Select ECPs'!$B$2:$E$77,2,0)),\"\")","v":""}]
[null,null,{"$f":"IFERROR((VLOOKUP(B984,'Select ECPs'!$B$2:$E$77,4,0)),\"\")","v":""},null,{"$f":"IFERROR((VLOOKUP(B984,'Select ECPs'!$B$2:$E$77,2,0)),\"\")","v":""}]
[null,null,{"$f":"IFERROR((VLOOKUP(B985,'Select ECPs'!$B$2:$E$77,4,0)),\"\")","v":""},null,{"$f":"IFERROR((VLOOKUP(B985,'Select ECPs'!$B$2:$E$77,2,0)),\"\")","v":""}]
[null,null,{"$f":"IFERROR((VLOOKUP(B986,'Select ECPs'!$B$2:$E$77,4,0)),\"\")","v":""},null,{"$f":"IFERROR((VLOOKUP(B986,'Select ECPs'!$B$2:$E$77,2,0)),\"\")","v":""}]
[null,null,{"$f":"IFERROR((VLOOKUP(B987,'Select ECPs'!$B$2:$E$77,4,0)),\"\")","v":""},null,{"$f":"IFERROR((VLOOKUP(B987,'Select ECPs'!$B$2:$E$77,2,0)),\"\")","v":""}]
[null,null,{"$f":"IFERROR((VLOOKUP(B988,'Select ECPs'!$B$2:$E$77,4,0)),\"\")","v":""},null,{"$f":"IFERROR((VLOOKUP(B988,'Select ECPs'!$B$2:$E$77,2,0)),\"\")","v":""}]
[null,null,{"$f":"IFERROR((VLOOKUP(B989,'Select ECPs'!$B$2:$E$77,4,0)),\"\")","v":""},null,{"$f":"IFERROR((VLOOKUP(B989,'Select ECPs'!$B$2:$E$77,2,0)),\"\")","v":""}]
[null,null,{"$f":"IFERROR((VLOOKUP(B990,'Select ECPs'!$B$2:$E$77,4,0)),\"\")","v":""},null,{"$f":"IFERROR((VLOOKUP(B990,'Select ECPs'!$B$2:$E$77,2,0)),\"\")","v":""}]
[null,null,{"$f":"IFERROR((VLOOKUP(B991,'Select ECPs'!$B$2:$E$77,4,0)),\"\")","v":""},null,{"$f":"IFERROR((VLOOKUP(B991,'Select ECPs'!$B$2:$E$77,2,0)),\"\")","v":""}]
[null,null,{"$f":"IFERROR((VLOOKUP(B992,'Select ECPs'!$B$2:$E$77,4,0)),\"\")","v":""},null,{"$f":"IFERROR((VLOOKUP(B992,'Select ECPs'!$B$2:$E$77,2,0)),\"\")","v":""}]
[null,null,{"$f":"IFERROR((VLOOKUP(B993,'Select ECPs'!$B$2:$E$77,4,0)),\"\")","v":""},null,{"$f":"IFERROR((VLOOKUP(B993,'Select ECPs'!$B$2:$E$77,2,0)),\"\")","v":""}]
[null,null,{"$f":"IFERROR((VLOOKUP(B994,'Select ECPs'!$B$2:$E$77,4,0)),\"\")","v":""},null,{"$f":"IFERROR((VLOOKUP(B994,'Select ECPs'!$B$2:$E$77,2,0)),\"\")","v":""}]
[null,null,{"$f":"IFERROR((VLOOKUP(B995,'Select ECPs'!$B$2:$E$77,4,0)),\"\")","v":""},null,{"$f":"IFERROR((VLOOKUP(B995,'Select ECPs'!$B$2:$E$77,2,0)),\"\")","v":""}]
[null,null,{"$f":"IFERROR((VLOOKUP(B996,'Select ECPs'!$B$2:$E$77,4,0)),\"\")","v":""},null,{"$f":"IFERROR((VLOOKUP(B996,'Select ECPs'!$B$2:$E$77,2,0)),\"\")","v":""}]
[null,null,{"$f":"IFERROR((VLOOKUP(B997,'Select ECPs'!$B$2:$E$77,4,0)),\"\")","v":""},null,{"$f":"IFERROR((VLOOKUP(B997,'Select ECPs'!$B$2:$E$77,2,0)),\"\")","v":""}]
[null,null,{"$f":"IFERROR((VLOOKUP(B998,'Select ECPs'!$B$2:$E$77,4,0)),\"\")","v":""},null,{"$f":"IFERROR((VLOOKUP(B998,'Select ECPs'!$B$2:$E$77,2,0)),\"\")","v":""}]
[null,null,{"$f":"IFERROR((VLOOKUP(B999,'Select ECPs'!$B$2:$E$77,4,0)),\"\")","v":""},null,{"$f":"IFERROR((VLOOKUP(B999,'Select ECPs'!$B$2:$E$77,2,0)),\"\")","v":""}]
[null,null,{"$f":"IFERROR((VLOOKUP(B1000,'Select ECPs'!$B$2:$E$77,4,0)),\"\")","v":""},null,{"$f":"IFERROR((VLOOKUP(B1000,'Select ECPs'!$B$2:$E$77,2,0)),\"\")","v":""}]
[null,null,{"$f":"IFERROR((VLOOKUP(B1001,'Select ECPs'!$B$2:$E$77,4,0)),\"\")","v":""},null,{"$f":"IFERROR((VLOOKUP(B1001,'Select ECPs'!$B$2:$E$77,2,0)),\"\")","v":""}]
[null,null,{"$f":"IFERROR((VLOOKUP(B1002,'Select ECPs'!$B$2:$E$77,4,0)),\"\")","v":""},null,{"$f":"IFERROR((VLOOKUP(B1002,'Select ECPs'!$B$2:$E$77,2,0)),\"\")","v":""}]
[null,null,{"$f":"IFERROR((VLOOKUP(B1003,'Select ECPs'!$B$2:$E$77,4,0)),\"\")","v":""},null,{"$f":"IFERROR((VLOOKUP(B1003,'Select ECPs'!$B$2:$E$77,2,0)),\"\")","v":""}]
[null,null,{"$f":"IFERROR((VLOOKUP(B1004,'Select ECPs'!$B$2:$E$77,4,0)),\"\")","v":""},null,{"$f":"IFERROR((VLOOKUP(B1004,'Select ECPs'!$B$2:$E$77,2,0)),\"\")","v":""}]
[null,null,{"$f":"IFERROR((VLOOKUP(B1005,'Select ECPs'!$B$2:$E$77,4,0)),\"\")","v":""},null,{"$f":"IFERROR((VLOOKUP(B1005,'Select ECPs'!$B$2:$E$77,2,0)),\"\")","v":""}]
[null,null,{"$f":"IFERROR((VLOOKUP(B1006,'Select ECPs'!$B$2:$E$77,4,0)),\"\")","v":""},null,{"$f":"IFERROR((VLOOKUP(B1006,'Select ECPs'!$B$2:$E$77,2,0)),\"\")","v":""}]
[null,null,{"$f":"IFERROR((VLOOKUP(B1007,'Select ECPs'!$B$2:$E$77,4,0)),\"\")","v":""},null,{"$f":"IFERROR((VLOOKUP(B1007,'Select ECPs'!$B$2:$E$77,2,0)),\"\")","v":""}]
[null,null,{"$f":"IFERROR((VLOOKUP(B1008,'Select ECPs'!$B$2:$E$77,4,0)),\"\")","v":""},null,{"$f":"IFERROR((VLOOKUP(B1008,'Select ECPs'!$B$2:$E$77,2,0)),\"\")","v":""}]
[null,null,{"$f":"IFERROR((VLOOKUP(B1009,'Select ECPs'!$B$2:$E$77,4,0)),\"\")","v":""},null,{"$f":"IFERROR((VLOOKUP(B1009,'Select ECPs'!$B$2:$E$77,2,0)),\"\")","v":""}]
[null,null,{"$f":"IFERROR((VLOOKUP(B1010,'Select ECPs'!$B$2:$E$77,4,0)),\"\")","v":""},null,{"$f":"IFERROR((VLOOKUP(B1010,'Select ECPs'!$B$2:$E$77,2,0)),\"\")","v":""}]
[null,null,{"$f":"IFERROR((VLOOKUP(B1011,'Select ECPs'!$B$2:$E$77,4,0)),\"\")","v":""},null,{"$f":"IFERROR((VLOOKUP(B1011,'Select ECPs'!$B$2:$E$77,2,0)),\"\")","v":""}]
[null,null,{"$f":"IFERROR((VLOOKUP(B1012,'Select ECPs'!$B$2:$E$77,4,0)),\"\")","v":""},null,{"$f":"IFERROR((VLOOKUP(B1012,'Select ECPs'!$B$2:$E$77,2,0)),\"\")","v":""}]
[null,null,{"$f":"IFERROR((VLOOKUP(B1013,'Select ECPs'!$B$2:$E$77,4,0)),\"\")","v":""},null,{"$f":"IFERROR((VLOOKUP(B1013,'Select ECPs'!$B$2:$E$77,2,0)),\"\")","v":""}]
[null,null,{"$f":"IFERROR((VLOOKUP(B1014,'Select ECPs'!$B$2:$E$77,4,0)),\"\")","v":""},null,{"$f":"IFERROR((VLOOKUP(B1014,'Select ECPs'!$B$2:$E$77,2,0)),\"\")","v":""}]
[null,null,{"$f":"IFERROR((VLOOKUP(B1015,'Select ECPs'!$B$2:$E$77,4,0)),\"\")","v":""},null,{"$f":"IFERROR((VLOOKUP(B1015,'Select ECPs'!$B$2:$E$77,2,0)),\"\")","v":""}]
[null,null,{"$f":"IFERROR((VLOOKUP(B1016,'Select ECPs'!$B$2:$E$77,4,0)),\"\")","v":""},null,{"$f":"IFERROR((VLOOKUP(B1016,'Select ECPs'!$B$2:$E$77,2,0)),\"\")","v":""}]
[null,null,{"$f":"IFERROR((VLOOKUP(B1017,'Select ECPs'!$B$2:$E$77,4,0)),\"\")","v":""},null,{"$f":"IFERROR((VLOOKUP(B1017,'Select ECPs'!$B$2:$E$77,2,0)),\"\")","v":""}]
[null,null,{"$f":"IFERROR((VLOOKUP(B1018,'Select ECPs'!$B$2:$E$77,4,0)),\"\")","v":""},null,{"$f":"IFERROR((VLOOKUP(B1018,'Select ECPs'!$B$2:$E$77,2,0)),\"\")","v":""}]
[null,null,{"$f":"IFERROR((VLOOKUP(B1019,'Select ECPs'!$B$2:$E$77,4,0)),\"\")","v":""},null,{"$f":"IFERROR((VLOOKUP(B1019,'Select ECPs'!$B$2:$E$77,2,0)),\"\")","v":""}]
[null,null,{"$f":"IFERROR((VLOOKUP(B1020,'Select ECPs'!$B$2:$E$77,4,0)),\"\")","v":""},null,{"$f":"IFERROR((VLOOKUP(B1020,'Select ECPs'!$B$2:$E$77,2,0)),\"\")","v":""}]
[null,null,{"$f":"IFERROR((VLOOKUP(B1021,'Select ECPs'!$B$2:$E$77,4,0)),\"\")","v":""},null,{"$f":"IFERROR((VLOOKUP(B1021,'Select ECPs'!$B$2:$E$77,2,0)),\"\")","v":""}]
[null,null,{"$f":"IFERROR((VLOOKUP(B1022,'Select ECPs'!$B$2:$E$77,4,0)),\"\")","v":""},null,{"$f":"IFERROR((VLOOKUP(B1022,'Select ECPs'!$B$2:$E$77,2,0)),\"\")","v":""}]
[null,null,{"$f":"IFERROR((VLOOKUP(B1023,'Select ECPs'!$B$2:$E$77,4,0)),\"\")","v":""},null,{"$f":"IFERROR((VLOOKUP(B1023,'Select ECPs'!$B$2:$E$77,2,0)),\"\")","v":""}]
[null,null,{"$f":"IFERROR((VLOOKUP(B1024,'Select ECPs'!$B$2:$E$77,4,0)),\"\")","v":""},null,{"$f":"IFERROR((VLOOKUP(B1024,'Select ECPs'!$B$2:$E$77,2,0)),\"\")","v":""}]
[null,null,{"$f":"IFERROR((VLOOKUP(B1025,'Select ECPs'!$B$2:$E$77,4,0)),\"\")","v":""},null,{"$f":"IFERROR((VLOOKUP(B1025,'Select ECPs'!$B$2:$E$77,2,0)),\"\")","v":""}]
[null,null,{"$f":"IFERROR((VLOOKUP(B1026,'Select ECPs'!$B$2:$E$77,4,0)),\"\")","v":""},null,{"$f":"IFERROR((VLOOKUP(B1026,'Select ECPs'!$B$2:$E$77,2,0)),\"\")","v":""}]
[null,null,{"$f":"IFERROR((VLOOKUP(B1027,'Select ECPs'!$B$2:$E$77,4,0)),\"\")","v":""},null,{"$f":"IFERROR((VLOOKUP(B1027,'Select ECPs'!$B$2:$E$77,2,0)),\"\")","v":""}]
[null,null,{"$f":"IFERROR((VLOOKUP(B1028,'Select ECPs'!$B$2:$E$77,4,0)),\"\")","v":""},null,{"$f":"IFERROR((VLOOKUP(B1028,'Select ECPs'!$B$2:$E$77,2,0)),\"\")","v":""}]
[null,null,{"$f":"IFERROR((VLOOKUP(B1029,'Select ECPs'!$B$2:$E$77,4,0)),\"\")","v":""},null,{"$f":"IFERROR((VLOOKUP(B1029,'Select ECPs'!$B$2:$E$77,2,0)),\"\")","v":""}]
[null,null,{"$f":"IFERROR((VLOOKUP(B1030,'Select ECPs'!$B$2:$E$77,4,0)),\"\")","v":""},null,{"$f":"IFERROR((VLOOKUP(B1030,'Select ECPs'!$B$2:$E$77,2,0)),\"\")","v":""}]
[null,null,{"$f":"IFERROR((VLOOKUP(B1031,'Select ECPs'!$B$2:$E$77,4,0)),\"\")","v":""},null,{"$f":"IFERROR((VLOOKUP(B1031,'Select ECPs'!$B$2:$E$77,2,0)),\"\")","v":""}]
[null,null,{"$f":"IFERROR((VLOOKUP(B1032,'Select ECPs'!$B$2:$E$77,4,0)),\"\")","v":""},null,{"$f":"IFERROR((VLOOKUP(B1032,'Select ECPs'!$B$2:$E$77,2,0)),\"\")","v":""}]
[null,null,{"$f":"IFERROR((VLOOKUP(B1033,'Select ECPs'!$B$2:$E$77,4,0)),\"\")","v":""},null,{"$f":"IFERROR((VLOOKUP(B1033,'Select ECPs'!$B$2:$E$77,2,0)),\"\")","v":""}]
[null,null,{"$f":"IFERROR((VLOOKUP(B1034,'Select ECPs'!$B$2:$E$77,4,0)),\"\")","v":""},null,{"$f":"IFERROR((VLOOKUP(B1034,'Select ECPs'!$B$2:$E$77,2,0)),\"\")","v":""}]
[null,null,{"$f":"IFERROR((VLOOKUP(B1035,'Select ECPs'!$B$2:$E$77,4,0)),\"\")","v":""},null,{"$f":"IFERROR((VLOOKUP(B1035,'Select ECPs'!$B$2:$E$77,2,0)),\"\")","v":""}]
[null,null,{"$f":"IFERROR((VLOOKUP(B1036,'Select ECPs'!$B$2:$E$77,4,0)),\"\")","v":""},null,{"$f":"IFERROR((VLOOKUP(B1036,'Select ECPs'!$B$2:$E$77,2,0)),\"\")","v":""}]
[null,null,{"$f":"IFERROR((VLOOKUP(B1037,'Select ECPs'!$B$2:$E$77,4,0)),\"\")","v":""},null,{"$f":"IFERROR((VLOOKUP(B1037,'Select ECPs'!$B$2:$E$77,2,0)),\"\")","v":""}]
[null,null,{"$f":"IFERROR((VLOOKUP(B1038,'Select ECPs'!$B$2:$E$77,4,0)),\"\")","v":""},null,{"$f":"IFERROR((VLOOKUP(B1038,'Select ECPs'!$B$2:$E$77,2,0)),\"\")","v":""}]
[null,null,{"$f":"IFERROR((VLOOKUP(B1039,'Select ECPs'!$B$2:$E$77,4,0)),\"\")","v":""},null,{"$f":"IFERROR((VLOOKUP(B1039,'Select ECPs'!$B$2:$E$77,2,0)),\"\")","v":""}]
[null,null,{"$f":"IFERROR((VLOOKUP(B1040,'Select ECPs'!$B$2:$E$77,4,0)),\"\")","v":""},null,{"$f":"IFERROR((VLOOKUP(B1040,'Select ECPs'!$B$2:$E$77,2,0)),\"\")","v":""}]
[null,null,{"$f":"IFERROR((VLOOKUP(B1041,'Select ECPs'!$B$2:$E$77,4,0)),\"\")","v":""},null,{"$f":"IFERROR((VLOOKUP(B1041,'Select ECPs'!$B$2:$E$77,2,0)),\"\")","v":""}]
[null,null,{"$f":"IFERROR((VLOOKUP(B1042,'Select ECPs'!$B$2:$E$77,4,0)),\"\")","v":""},null,{"$f":"IFERROR((VLOOKUP(B1042,'Select ECPs'!$B$2:$E$77,2,0)),\"\")","v":""}]
[null,null,{"$f":"IFERROR((VLOOKUP(B1043,'Select ECPs'!$B$2:$E$77,4,0)),\"\")","v":""},null,{"$f":"IFERROR((VLOOKUP(B1043,'Select ECPs'!$B$2:$E$77,2,0)),\"\")","v":""}]
[null,null,{"$f":"IFERROR((VLOOKUP(B1044,'Select ECPs'!$B$2:$E$77,4,0)),\"\")","v":""},null,{"$f":"IFERROR((VLOOKUP(B1044,'Select ECPs'!$B$2:$E$77,2,0)),\"\")","v":""}]
[null,null,{"$f":"IFERROR((VLOOKUP(B1045,'Select ECPs'!$B$2:$E$77,4,0)),\"\")","v":""},null,{"$f":"IFERROR((VLOOKUP(B1045,'Select ECPs'!$B$2:$E$77,2,0)),\"\")","v":""}]
[null,null,{"$f":"IFERROR((VLOOKUP(B1046,'Select ECPs'!$B$2:$E$77,4,0)),\"\")","v":""},null,{"$f":"IFERROR((VLOOKUP(B1046,'Select ECPs'!$B$2:$E$77,2,0)),\"\")","v":""}]
[null,null,{"$f":"IFERROR((VLOOKUP(B1047,'Select ECPs'!$B$2:$E$77,4,0)),\"\")","v":""},null,{"$f":"IFERROR((VLOOKUP(B1047,'Select ECPs'!$B$2:$E$77,2,0)),\"\")","v":""}]
[null,null,{"$f":"IFERROR((VLOOKUP(B1048,'Select ECPs'!$B$2:$E$77,4,0)),\"\")","v":""},null,{"$f":"IFERROR((VLOOKUP(B1048,'Select ECPs'!$B$2:$E$77,2,0)),\"\")","v":""}]
[null,null,{"$f":"IFERROR((VLOOKUP(B1049,'Select ECPs'!$B$2:$E$77,4,0)),\"\")","v":""},null,{"$f":"IFERROR((VLOOKUP(B1049,'Select ECPs'!$B$2:$E$77,2,0)),\"\")","v":""}]
[null,null,{"$f":"IFERROR((VLOOKUP(B1050,'Select ECPs'!$B$2:$E$77,4,0)),\"\")","v":""},null,{"$f":"IFERROR((VLOOKUP(B1050,'Select ECPs'!$B$2:$E$77,2,0)),\"\")","v":""}]
[null,null,{"$f":"IFERROR((VLOOKUP(B1051,'Select ECPs'!$B$2:$E$77,4,0)),\"\")","v":""},null,{"$f":"IFERROR((VLOOKUP(B1051,'Select ECPs'!$B$2:$E$77,2,0)),\"\")","v":""}]
[null,null,{"$f":"IFERROR((VLOOKUP(B1052,'Select ECPs'!$B$2:$E$77,4,0)),\"\")","v":""},null,{"$f":"IFERROR((VLOOKUP(B1052,'Select ECPs'!$B$2:$E$77,2,0)),\"\")","v":""}]
[null,null,{"$f":"IFERROR((VLOOKUP(B1053,'Select ECPs'!$B$2:$E$77,4,0)),\"\")","v":""},null,{"$f":"IFERROR((VLOOKUP(B1053,'Select ECPs'!$B$2:$E$77,2,0)),\"\")","v":""}]
[null,null,{"$f":"IFERROR((VLOOKUP(B1054,'Select ECPs'!$B$2:$E$77,4,0)),\"\")","v":""},null,{"$f":"IFERROR((VLOOKUP(B1054,'Select ECPs'!$B$2:$E$77,2,0)),\"\")","v":""}]
[null,null,{"$f":"IFERROR((VLOOKUP(B1055,'Select ECPs'!$B$2:$E$77,4,0)),\"\")","v":""},null,{"$f":"IFERROR((VLOOKUP(B1055,'Select ECPs'!$B$2:$E$77,2,0)),\"\")","v":""}]
[null,null,{"$f":"IFERROR((VLOOKUP(B1056,'Select ECPs'!$B$2:$E$77,4,0)),\"\")","v":""},null,{"$f":"IFERROR((VLOOKUP(B1056,'Select ECPs'!$B$2:$E$77,2,0)),\"\")","v":""}]
[null,null,{"$f":"IFERROR((VLOOKUP(B1057,'Select ECPs'!$B$2:$E$77,4,0)),\"\")","v":""},null,{"$f":"IFERROR((VLOOKUP(B1057,'Select ECPs'!$B$2:$E$77,2,0)),\"\")","v":""}]
[null,null,{"$f":"IFERROR((VLOOKUP(B1058,'Select ECPs'!$B$2:$E$77,4,0)),\"\")","v":""},null,{"$f":"IFERROR((VLOOKUP(B1058,'Select ECPs'!$B$2:$E$77,2,0)),\"\")","v":""}]
[null,null,{"$f":"IFERROR((VLOOKUP(B1059,'Select ECPs'!$B$2:$E$77,4,0)),\"\")","v":""},null,{"$f":"IFERROR((VLOOKUP(B1059,'Select ECPs'!$B$2:$E$77,2,0)),\"\")","v":""}]
[null,null,{"$f":"IFERROR((VLOOKUP(B1060,'Select ECPs'!$B$2:$E$77,4,0)),\"\")","v":""},null,{"$f":"IFERROR((VLOOKUP(B1060,'Select ECPs'!$B$2:$E$77,2,0)),\"\")","v":""}]
[null,null,{"$f":"IFERROR((VLOOKUP(B1061,'Select ECPs'!$B$2:$E$77,4,0)),\"\")","v":""},null,{"$f":"IFERROR((VLOOKUP(B1061,'Select ECPs'!$B$2:$E$77,2,0)),\"\")","v":""}]
[null,null,{"$f":"IFERROR((VLOOKUP(B1062,'Select ECPs'!$B$2:$E$77,4,0)),\"\")","v":""},null,{"$f":"IFERROR((VLOOKUP(B1062,'Select ECPs'!$B$2:$E$77,2,0)),\"\")","v":""}]
[null,null,{"$f":"IFERROR((VLOOKUP(B1063,'Select ECPs'!$B$2:$E$77,4,0)),\"\")","v":""},null,{"$f":"IFERROR((VLOOKUP(B1063,'Select ECPs'!$B$2:$E$77,2,0)),\"\")","v":""}]
[null,null,{"$f":"IFERROR((VLOOKUP(B1064,'Select ECPs'!$B$2:$E$77,4,0)),\"\")","v":""},null,{"$f":"IFERROR((VLOOKUP(B1064,'Select ECPs'!$B$2:$E$77,2,0)),\"\")","v":""}]
[null,null,{"$f":"IFERROR((VLOOKUP(B1065,'Select ECPs'!$B$2:$E$77,4,0)),\"\")","v":""},null,{"$f":"IFERROR((VLOOKUP(B1065,'Select ECPs'!$B$2:$E$77,2,0)),\"\")","v":""}]
[null,null,{"$f":"IFERROR((VLOOKUP(B1066,'Select ECPs'!$B$2:$E$77,4,0)),\"\")","v":""},null,{"$f":"IFERROR((VLOOKUP(B1066,'Select ECPs'!$B$2:$E$77,2,0)),\"\")","v":""}]
[null,null,{"$f":"IFERROR((VLOOKUP(B1067,'Select ECPs'!$B$2:$E$77,4,0)),\"\")","v":""},null,{"$f":"IFERROR((VLOOKUP(B1067,'Select ECPs'!$B$2:$E$77,2,0)),\"\")","v":""}]
[null,null,{"$f":"IFERROR((VLOOKUP(B1068,'Select ECPs'!$B$2:$E$77,4,0)),\"\")","v":""},null,{"$f":"IFERROR((VLOOKUP(B1068,'Select ECPs'!$B$2:$E$77,2,0)),\"\")","v":""}]
[null,null,{"$f":"IFERROR((VLOOKUP(B1069,'Select ECPs'!$B$2:$E$77,4,0)),\"\")","v":""},null,{"$f":"IFERROR((VLOOKUP(B1069,'Select ECPs'!$B$2:$E$77,2,0)),\"\")","v":""}]
[null,null,{"$f":"IFERROR((VLOOKUP(B1070,'Select ECPs'!$B$2:$E$77,4,0)),\"\")","v":""},null,{"$f":"IFERROR((VLOOKUP(B1070,'Select ECPs'!$B$2:$E$77,2,0)),\"\")","v":""}]
[null,null,{"$f":"IFERROR((VLOOKUP(B1071,'Select ECPs'!$B$2:$E$77,4,0)),\"\")","v":""},null,{"$f":"IFERROR((VLOOKUP(B1071,'Select ECPs'!$B$2:$E$77,2,0)),\"\")","v":""}]
[null,null,{"$f":"IFERROR((VLOOKUP(B1072,'Select ECPs'!$B$2:$E$77,4,0)),\"\")","v":""},null,{"$f":"IFERROR((VLOOKUP(B1072,'Select ECPs'!$B$2:$E$77,2,0)),\"\")","v":""}]
[null,null,{"$f":"IFERROR((VLOOKUP(B1073,'Select ECPs'!$B$2:$E$77,4,0)),\"\")","v":""},null,{"$f":"IFERROR((VLOOKUP(B1073,'Select ECPs'!$B$2:$E$77,2,0)),\"\")","v":""}]
[null,null,{"$f":"IFERROR((VLOOKUP(B1074,'Select ECPs'!$B$2:$E$77,4,0)),\"\")","v":""},null,{"$f":"IFERROR((VLOOKUP(B1074,'Select ECPs'!$B$2:$E$77,2,0)),\"\")","v":""}]
[null,null,{"$f":"IFERROR((VLOOKUP(B1075,'Select ECPs'!$B$2:$E$77,4,0)),\"\")","v":""},null,{"$f":"IFERROR((VLOOKUP(B1075,'Select ECPs'!$B$2:$E$77,2,0)),\"\")","v":""}]
[null,null,{"$f":"IFERROR((VLOOKUP(B1076,'Select ECPs'!$B$2:$E$77,4,0)),\"\")","v":""},null,{"$f":"IFERROR((VLOOKUP(B1076,'Select ECPs'!$B$2:$E$77,2,0)),\"\")","v":""}]
[null,null,{"$f":"IFERROR((VLOOKUP(B1077,'Select ECPs'!$B$2:$E$77,4,0)),\"\")","v":""},null,{"$f":"IFERROR((VLOOKUP(B1077,'Select ECPs'!$B$2:$E$77,2,0)),\"\")","v":""}]
[null,null,{"$f":"IFERROR((VLOOKUP(B1078,'Select ECPs'!$B$2:$E$77,4,0)),\"\")","v":""},null,{"$f":"IFERROR((VLOOKUP(B1078,'Select ECPs'!$B$2:$E$77,2,0)),\"\")","v":""}]
[null,null,{"$f":"IFERROR((VLOOKUP(B1079,'Select ECPs'!$B$2:$E$77,4,0)),\"\")","v":""},null,{"$f":"IFERROR((VLOOKUP(B1079,'Select ECPs'!$B$2:$E$77,2,0)),\"\")","v":""}]
[null,null,{"$f":"IFERROR((VLOOKUP(B1080,'Select ECPs'!$B$2:$E$77,4,0)),\"\")","v":""},null,{"$f":"IFERROR((VLOOKUP(B1080,'Select ECPs'!$B$2:$E$77,2,0)),\"\")","v":""}]
[null,null,{"$f":"IFERROR((VLOOKUP(B1081,'Select ECPs'!$B$2:$E$77,4,0)),\"\")","v":""},null,{"$f":"IFERROR((VLOOKUP(B1081,'Select ECPs'!$B$2:$E$77,2,0)),\"\")","v":""}]
[null,null,{"$f":"IFERROR((VLOOKUP(B1082,'Select ECPs'!$B$2:$E$77,4,0)),\"\")","v":""},null,{"$f":"IFERROR((VLOOKUP(B1082,'Select ECPs'!$B$2:$E$77,2,0)),\"\")","v":""}]
[null,null,{"$f":"IFERROR((VLOOKUP(B1083,'Select ECPs'!$B$2:$E$77,4,0)),\"\")","v":""},null,{"$f":"IFERROR((VLOOKUP(B1083,'Select ECPs'!$B$2:$E$77,2,0)),\"\")","v":""}]
[null,null,{"$f":"IFERROR((VLOOKUP(B1084,'Select ECPs'!$B$2:$E$77,4,0)),\"\")","v":""},null,{"$f":"IFERROR((VLOOKUP(B1084,'Select ECPs'!$B$2:$E$77,2,0)),\"\")","v":""}]
[null,null,{"$f":"IFERROR((VLOOKUP(B1085,'Select ECPs'!$B$2:$E$77,4,0)),\"\")","v":""},null,{"$f":"IFERROR((VLOOKUP(B1085,'Select ECPs'!$B$2:$E$77,2,0)),\"\")","v":""}]
[null,null,{"$f":"IFERROR((VLOOKUP(B1086,'Select ECPs'!$B$2:$E$77,4,0)),\"\")","v":""},null,{"$f":"IFERROR((VLOOKUP(B1086,'Select ECPs'!$B$2:$E$77,2,0)),\"\")","v":""}]
[null,null,{"$f":"IFERROR((VLOOKUP(B1087,'Select ECPs'!$B$2:$E$77,4,0)),\"\")","v":""},null,{"$f":"IFERROR((VLOOKUP(B1087,'Select ECPs'!$B$2:$E$77,2,0)),\"\")","v":""}]
[null,null,{"$f":"IFERROR((VLOOKUP(B1088,'Select ECPs'!$B$2:$E$77,4,0)),\"\")","v":""},null,{"$f":"IFERROR((VLOOKUP(B1088,'Select ECPs'!$B$2:$E$77,2,0)),\"\")","v":""}]
[null,null,{"$f":"IFERROR((VLOOKUP(B1089,'Select ECPs'!$B$2:$E$77,4,0)),\"\")","v":""},null,{"$f":"IFERROR((VLOOKUP(B1089,'Select ECPs'!$B$2:$E$77,2,0)),\"\")","v":""}]
[null,null,{"$f":"IFERROR((VLOOKUP(B1090,'Select ECPs'!$B$2:$E$77,4,0)),\"\")","v":""},null,{"$f":"IFERROR((VLOOKUP(B1090,'Select ECPs'!$B$2:$E$77,2,0)),\"\")","v":""}]
[null,null,{"$f":"IFERROR((VLOOKUP(B1091,'Select ECPs'!$B$2:$E$77,4,0)),\"\")","v":""},null,{"$f":"IFERROR((VLOOKUP(B1091,'Select ECPs'!$B$2:$E$77,2,0)),\"\")","v":""}]
[null,null,{"$f":"IFERROR((VLOOKUP(B1092,'Select ECPs'!$B$2:$E$77,4,0)),\"\")","v":""},null,{"$f":"IFERROR((VLOOKUP(B1092,'Select ECPs'!$B$2:$E$77,2,0)),\"\")","v":""}]
[null,null,{"$f":"IFERROR((VLOOKUP(B1093,'Select ECPs'!$B$2:$E$77,4,0)),\"\")","v":""},null,{"$f":"IFERROR((VLOOKUP(B1093,'Select ECPs'!$B$2:$E$77,2,0)),\"\")","v":""}]
[null,null,{"$f":"IFERROR((VLOOKUP(B1094,'Select ECPs'!$B$2:$E$77,4,0)),\"\")","v":""},null,{"$f":"IFERROR((VLOOKUP(B1094,'Select ECPs'!$B$2:$E$77,2,0)),\"\")","v":""}]
[null,null,{"$f":"IFERROR((VLOOKUP(B1095,'Select ECPs'!$B$2:$E$77,4,0)),\"\")","v":""},null,{"$f":"IFERROR((VLOOKUP(B1095,'Select ECPs'!$B$2:$E$77,2,0)),\"\")","v":""}]
[null,null,{"$f":"IFERROR((VLOOKUP(B1096,'Select ECPs'!$B$2:$E$77,4,0)),\"\")","v":""},null,{"$f":"IFERROR((VLOOKUP(B1096,'Select ECPs'!$B$2:$E$77,2,0)),\"\")","v":""}]
[null,null,{"$f":"IFERROR((VLOOKUP(B1097,'Select ECPs'!$B$2:$E$77,4,0)),\"\")","v":""},null,{"$f":"IFERROR((VLOOKUP(B1097,'Select ECPs'!$B$2:$E$77,2,0)),\"\")","v":""}]
[null,null,{"$f":"IFERROR((VLOOKUP(B1098,'Select ECPs'!$B$2:$E$77,4,0)),\"\")","v":""},null,{"$f":"IFERROR((VLOOKUP(B1098,'Select ECPs'!$B$2:$E$77,2,0)),\"\")","v":""}]
[null,null,{"$f":"IFERROR((VLOOKUP(B1099,'Select ECPs'!$B$2:$E$77,4,0)),\"\")","v":""},null,{"$f":"IFERROR((VLOOKUP(B1099,'Select ECPs'!$B$2:$E$77,2,0)),\"\")","v":""}]
[null,null,{"$f":"IFERROR((VLOOKUP(B1100,'Select ECPs'!$B$2:$E$77,4,0)),\"\")","v":""},null,{"$f":"IFERROR((VLOOKUP(B1100,'Select ECPs'!$B$2:$E$77,2,0)),\"\")","v":""}]
[null,null,{"$f":"IFERROR((VLOOKUP(B1101,'Select ECPs'!$B$2:$E$77,4,0)),\"\")","v":""},null,{"$f":"IFERROR((VLOOKUP(B1101,'Select ECPs'!$B$2:$E$77,2,0)),\"\")","v":""}]
[null,null,{"$f":"IFERROR((VLOOKUP(B1102,'Select ECPs'!$B$2:$E$77,4,0)),\"\")","v":""},null,{"$f":"IFERROR((VLOOKUP(B1102,'Select ECPs'!$B$2:$E$77,2,0)),\"\")","v":""}]
[null,null,{"$f":"IFERROR((VLOOKUP(B1103,'Select ECPs'!$B$2:$E$77,4,0)),\"\")","v":""},null,{"$f":"IFERROR((VLOOKUP(B1103,'Select ECPs'!$B$2:$E$77,2,0)),\"\")","v":""}]
[null,null,{"$f":"IFERROR((VLOOKUP(B1104,'Select ECPs'!$B$2:$E$77,4,0)),\"\")","v":""},null,{"$f":"IFERROR((VLOOKUP(B1104,'Select ECPs'!$B$2:$E$77,2,0)),\"\")","v":""}]
[null,null,{"$f":"IFERROR((VLOOKUP(B1105,'Select ECPs'!$B$2:$E$77,4,0)),\"\")","v":""},null,{"$f":"IFERROR((VLOOKUP(B1105,'Select ECPs'!$B$2:$E$77,2,0)),\"\")","v":""}]
[null,null,{"$f":"IFERROR((VLOOKUP(B1106,'Select ECPs'!$B$2:$E$77,4,0)),\"\")","v":""},null,{"$f":"IFERROR((VLOOKUP(B1106,'Select ECPs'!$B$2:$E$77,2,0)),\"\")","v":""}]
[null,null,{"$f":"IFERROR((VLOOKUP(B1107,'Select ECPs'!$B$2:$E$77,4,0)),\"\")","v":""},null,{"$f":"IFERROR((VLOOKUP(B1107,'Select ECPs'!$B$2:$E$77,2,0)),\"\")","v":""}]
[null,null,{"$f":"IFERROR((VLOOKUP(B1108,'Select ECPs'!$B$2:$E$77,4,0)),\"\")","v":""},null,{"$f":"IFERROR((VLOOKUP(B1108,'Select ECPs'!$B$2:$E$77,2,0)),\"\")","v":""}]
[null,null,{"$f":"IFERROR((VLOOKUP(B1109,'Select ECPs'!$B$2:$E$77,4,0)),\"\")","v":""},null,{"$f":"IFERROR((VLOOKUP(B1109,'Select ECPs'!$B$2:$E$77,2,0)),\"\")","v":""}]
[null,null,{"$f":"IFERROR((VLOOKUP(B1110,'Select ECPs'!$B$2:$E$77,4,0)),\"\")","v":""},null,{"$f":"IFERROR((VLOOKUP(B1110,'Select ECPs'!$B$2:$E$77,2,0)),\"\")","v":""}]
[null,null,{"$f":"IFERROR((VLOOKUP(B1111,'Select ECPs'!$B$2:$E$77,4,0)),\"\")","v":""},null,{"$f":"IFERROR((VLOOKUP(B1111,'Select ECPs'!$B$2:$E$77,2,0)),\"\")","v":""}]
[null,null,{"$f":"IFERROR((VLOOKUP(B1112,'Select ECPs'!$B$2:$E$77,4,0)),\"\")","v":""},null,{"$f":"IFERROR((VLOOKUP(B1112,'Select ECPs'!$B$2:$E$77,2,0)),\"\")","v":""}]
[null,null,{"$f":"IFERROR((VLOOKUP(B1113,'Select ECPs'!$B$2:$E$77,4,0)),\"\")","v":""},null,{"$f":"IFERROR((VLOOKUP(B1113,'Select ECPs'!$B$2:$E$77,2,0)),\"\")","v":""}]
[null,null,{"$f":"IFERROR((VLOOKUP(B1114,'Select ECPs'!$B$2:$E$77,4,0)),\"\")","v":""},null,{"$f":"IFERROR((VLOOKUP(B1114,'Select ECPs'!$B$2:$E$77,2,0)),\"\")","v":""}]
[null,null,{"$f":"IFERROR((VLOOKUP(B1115,'Select ECPs'!$B$2:$E$77,4,0)),\"\")","v":""},null,{"$f":"IFERROR((VLOOKUP(B1115,'Select ECPs'!$B$2:$E$77,2,0)),\"\")","v":""}]
[null,null,{"$f":"IFERROR((VLOOKUP(B1116,'Select ECPs'!$B$2:$E$77,4,0)),\"\")","v":""},null,{"$f":"IFERROR((VLOOKUP(B1116,'Select ECPs'!$B$2:$E$77,2,0)),\"\")","v":""}]
[null,null,{"$f":"IFERROR((VLOOKUP(B1117,'Select ECPs'!$B$2:$E$77,4,0)),\"\")","v":""},null,{"$f":"IFERROR((VLOOKUP(B1117,'Select ECPs'!$B$2:$E$77,2,0)),\"\")","v":""}]
[null,null,{"$f":"IFERROR((VLOOKUP(B1118,'Select ECPs'!$B$2:$E$77,4,0)),\"\")","v":""},null,{"$f":"IFERROR((VLOOKUP(B1118,'Select ECPs'!$B$2:$E$77,2,0)),\"\")","v":""}]
[null,null,{"$f":"IFERROR((VLOOKUP(B1119,'Select ECPs'!$B$2:$E$77,4,0)),\"\")","v":""},null,{"$f":"IFERROR((VLOOKUP(B1119,'Select ECPs'!$B$2:$E$77,2,0)),\"\")","v":""}]
[null,null,{"$f":"IFERROR((VLOOKUP(B1120,'Select ECPs'!$B$2:$E$77,4,0)),\"\")","v":""},null,{"$f":"IFERROR((VLOOKUP(B1120,'Select ECPs'!$B$2:$E$77,2,0)),\"\")","v":""}]
[null,null,{"$f":"IFERROR((VLOOKUP(B1121,'Select ECPs'!$B$2:$E$77,4,0)),\"\")","v":""},null,{"$f":"IFERROR((VLOOKUP(B1121,'Select ECPs'!$B$2:$E$77,2,0)),\"\")","v":""}]
[null,null,{"$f":"IFERROR((VLOOKUP(B1122,'Select ECPs'!$B$2:$E$77,4,0)),\"\")","v":""},null,{"$f":"IFERROR((VLOOKUP(B1122,'Select ECPs'!$B$2:$E$77,2,0)),\"\")","v":""}]
[null,null,{"$f":"IFERROR((VLOOKUP(B1123,'Select ECPs'!$B$2:$E$77,4,0)),\"\")","v":""},null,{"$f":"IFERROR((VLOOKUP(B1123,'Select ECPs'!$B$2:$E$77,2,0)),\"\")","v":""}]
[null,null,{"$f":"IFERROR((VLOOKUP(B1124,'Select ECPs'!$B$2:$E$77,4,0)),\"\")","v":""},null,{"$f":"IFERROR((VLOOKUP(B1124,'Select ECPs'!$B$2:$E$77,2,0)),\"\")","v":""}]
[null,null,{"$f":"IFERROR((VLOOKUP(B1125,'Select ECPs'!$B$2:$E$77,4,0)),\"\")","v":""},null,{"$f":"IFERROR((VLOOKUP(B1125,'Select ECPs'!$B$2:$E$77,2,0)),\"\")","v":""}]
[null,null,{"$f":"IFERROR((VLOOKUP(B1126,'Select ECPs'!$B$2:$E$77,4,0)),\"\")","v":""},null,{"$f":"IFERROR((VLOOKUP(B1126,'Select ECPs'!$B$2:$E$77,2,0)),\"\")","v":""}]
[null,null,{"$f":"IFERROR((VLOOKUP(B1127,'Select ECPs'!$B$2:$E$77,4,0)),\"\")","v":""},null,{"$f":"IFERROR((VLOOKUP(B1127,'Select ECPs'!$B$2:$E$77,2,0)),\"\")","v":""}]
[null,null,{"$f":"IFERROR((VLOOKUP(B1128,'Select ECPs'!$B$2:$E$77,4,0)),\"\")","v":""},null,{"$f":"IFERROR((VLOOKUP(B1128,'Select ECPs'!$B$2:$E$77,2,0)),\"\")","v":""}]
[null,null,{"$f":"IFERROR((VLOOKUP(B1129,'Select ECPs'!$B$2:$E$77,4,0)),\"\")","v":""},null,{"$f":"IFERROR((VLOOKUP(B1129,'Select ECPs'!$B$2:$E$77,2,0)),\"\")","v":""}]
[null,null,{"$f":"IFERROR((VLOOKUP(B1130,'Select ECPs'!$B$2:$E$77,4,0)),\"\")","v":""},null,{"$f":"IFERROR((VLOOKUP(B1130,'Select ECPs'!$B$2:$E$77,2,0)),\"\")","v":""}]
[null,null,{"$f":"IFERROR((VLOOKUP(B1131,'Select ECPs'!$B$2:$E$77,4,0)),\"\")","v":""},null,{"$f":"IFERROR((VLOOKUP(B1131,'Select ECPs'!$B$2:$E$77,2,0)),\"\")","v":""}]
[null,null,{"$f":"IFERROR((VLOOKUP(B1132,'Select ECPs'!$B$2:$E$77,4,0)),\"\")","v":""},null,{"$f":"IFERROR((VLOOKUP(B1132,'Select ECPs'!$B$2:$E$77,2,0)),\"\")","v":""}]
[null,null,{"$f":"IFERROR((VLOOKUP(B1133,'Select ECPs'!$B$2:$E$77,4,0)),\"\")","v":""},null,{"$f":"IFERROR((VLOOKUP(B1133,'Select ECPs'!$B$2:$E$77,2,0)),\"\")","v":""}]
[null,null,{"$f":"IFERROR((VLOOKUP(B1134,'Select ECPs'!$B$2:$E$77,4,0)),\"\")","v":""},null,{"$f":"IFERROR((VLOOKUP(B1134,'Select ECPs'!$B$2:$E$77,2,0)),\"\")","v":""}]
[null,null,{"$f":"IFERROR((VLOOKUP(B1135,'Select ECPs'!$B$2:$E$77,4,0)),\"\")","v":""},null,{"$f":"IFERROR((VLOOKUP(B1135,'Select ECPs'!$B$2:$E$77,2,0)),\"\")","v":""}]
[null,null,{"$f":"IFERROR((VLOOKUP(B1136,'Select ECPs'!$B$2:$E$77,4,0)),\"\")","v":""},null,{"$f":"IFERROR((VLOOKUP(B1136,'Select ECPs'!$B$2:$E$77,2,0)),\"\")","v":""}]
[null,null,{"$f":"IFERROR((VLOOKUP(B1137,'Select ECPs'!$B$2:$E$77,4,0)),\"\")","v":""},null,{"$f":"IFERROR((VLOOKUP(B1137,'Select ECPs'!$B$2:$E$77,2,0)),\"\")","v":""}]
[null,null,{"$f":"IFERROR((VLOOKUP(B1138,'Select ECPs'!$B$2:$E$77,4,0)),\"\")","v":""},null,{"$f":"IFERROR((VLOOKUP(B1138,'Select ECPs'!$B$2:$E$77,2,0)),\"\")","v":""}]
[null,null,{"$f":"IFERROR((VLOOKUP(B1139,'Select ECPs'!$B$2:$E$77,4,0)),\"\")","v":""},null,{"$f":"IFERROR((VLOOKUP(B1139,'Select ECPs'!$B$2:$E$77,2,0)),\"\")","v":""}]
[null,null,{"$f":"IFERROR((VLOOKUP(B1140,'Select ECPs'!$B$2:$E$77,4,0)),\"\")","v":""},null,{"$f":"IFERROR((VLOOKUP(B1140,'Select ECPs'!$B$2:$E$77,2,0)),\"\")","v":""}]
[null,null,{"$f":"IFERROR((VLOOKUP(B1141,'Select ECPs'!$B$2:$E$77,4,0)),\"\")","v":""},null,{"$f":"IFERROR((VLOOKUP(B1141,'Select ECPs'!$B$2:$E$77,2,0)),\"\")","v":""}]
[null,null,{"$f":"IFERROR((VLOOKUP(B1142,'Select ECPs'!$B$2:$E$77,4,0)),\"\")","v":""},null,{"$f":"IFERROR((VLOOKUP(B1142,'Select ECPs'!$B$2:$E$77,2,0)),\"\")","v":""}]
[null,null,{"$f":"IFERROR((VLOOKUP(B1143,'Select ECPs'!$B$2:$E$77,4,0)),\"\")","v":""},null,{"$f":"IFERROR((VLOOKUP(B1143,'Select ECPs'!$B$2:$E$77,2,0)),\"\")","v":""}]
[null,null,{"$f":"IFERROR((VLOOKUP(B1144,'Select ECPs'!$B$2:$E$77,4,0)),\"\")","v":""},null,{"$f":"IFERROR((VLOOKUP(B1144,'Select ECPs'!$B$2:$E$77,2,0)),\"\")","v":""}]
[null,null,{"$f":"IFERROR((VLOOKUP(B1145,'Select ECPs'!$B$2:$E$77,4,0)),\"\")","v":""},null,{"$f":"IFERROR((VLOOKUP(B1145,'Select ECPs'!$B$2:$E$77,2,0)),\"\")","v":""}]
[null,null,{"$f":"IFERROR((VLOOKUP(B1146,'Select ECPs'!$B$2:$E$77,4,0)),\"\")","v":""},null,{"$f":"IFERROR((VLOOKUP(B1146,'Select ECPs'!$B$2:$E$77,2,0)),\"\")","v":""}]
[null,null,{"$f":"IFERROR((VLOOKUP(B1147,'Select ECPs'!$B$2:$E$77,4,0)),\"\")","v":""},null,{"$f":"IFERROR((VLOOKUP(B1147,'Select ECPs'!$B$2:$E$77,2,0)),\"\")","v":""}]
[null,null,{"$f":"IFERROR((VLOOKUP(B1148,'Select ECPs'!$B$2:$E$77,4,0)),\"\")","v":""},null,{"$f":"IFERROR((VLOOKUP(B1148,'Select ECPs'!$B$2:$E$77,2,0)),\"\")","v":""}]
[null,null,{"$f":"IFERROR((VLOOKUP(B1149,'Select ECPs'!$B$2:$E$77,4,0)),\"\")","v":""},null,{"$f":"IFERROR((VLOOKUP(B1149,'Select ECPs'!$B$2:$E$77,2,0)),\"\")","v":""}]
[null,null,{"$f":"IFERROR((VLOOKUP(B1150,'Select ECPs'!$B$2:$E$77,4,0)),\"\")","v":""},null,{"$f":"IFERROR((VLOOKUP(B1150,'Select ECPs'!$B$2:$E$77,2,0)),\"\")","v":""}]
[null,null,{"$f":"IFERROR((VLOOKUP(B1151,'Select ECPs'!$B$2:$E$77,4,0)),\"\")","v":""},null,{"$f":"IFERROR((VLOOKUP(B1151,'Select ECPs'!$B$2:$E$77,2,0)),\"\")","v":""}]
[null,null,{"$f":"IFERROR((VLOOKUP(B1152,'Select ECPs'!$B$2:$E$77,4,0)),\"\")","v":""},null,{"$f":"IFERROR((VLOOKUP(B1152,'Select ECPs'!$B$2:$E$77,2,0)),\"\")","v":""}]
[null,null,{"$f":"IFERROR((VLOOKUP(B1153,'Select ECPs'!$B$2:$E$77,4,0)),\"\")","v":""},null,{"$f":"IFERROR((VLOOKUP(B1153,'Select ECPs'!$B$2:$E$77,2,0)),\"\")","v":""}]
[null,null,{"$f":"IFERROR((VLOOKUP(B1154,'Select ECPs'!$B$2:$E$77,4,0)),\"\")","v":""},null,{"$f":"IFERROR((VLOOKUP(B1154,'Select ECPs'!$B$2:$E$77,2,0)),\"\")","v":""}]
[null,null,{"$f":"IFERROR((VLOOKUP(B1155,'Select ECPs'!$B$2:$E$77,4,0)),\"\")","v":""},null,{"$f":"IFERROR((VLOOKUP(B1155,'Select ECPs'!$B$2:$E$77,2,0)),\"\")","v":""}]
[null,null,{"$f":"IFERROR((VLOOKUP(B1156,'Select ECPs'!$B$2:$E$77,4,0)),\"\")","v":""},null,{"$f":"IFERROR((VLOOKUP(B1156,'Select ECPs'!$B$2:$E$77,2,0)),\"\")","v":""}]
[null,null,{"$f":"IFERROR((VLOOKUP(B1157,'Select ECPs'!$B$2:$E$77,4,0)),\"\")","v":""},null,{"$f":"IFERROR((VLOOKUP(B1157,'Select ECPs'!$B$2:$E$77,2,0)),\"\")","v":""}]
[null,null,{"$f":"IFERROR((VLOOKUP(B1158,'Select ECPs'!$B$2:$E$77,4,0)),\"\")","v":""},null,{"$f":"IFERROR((VLOOKUP(B1158,'Select ECPs'!$B$2:$E$77,2,0)),\"\")","v":""}]
[null,null,{"$f":"IFERROR((VLOOKUP(B1159,'Select ECPs'!$B$2:$E$77,4,0)),\"\")","v":""},null,{"$f":"IFERROR((VLOOKUP(B1159,'Select ECPs'!$B$2:$E$77,2,0)),\"\")","v":""}]
[null,null,{"$f":"IFERROR((VLOOKUP(B1160,'Select ECPs'!$B$2:$E$77,4,0)),\"\")","v":""},null,{"$f":"IFERROR((VLOOKUP(B1160,'Select ECPs'!$B$2:$E$77,2,0)),\"\")","v":""}]
[null,null,{"$f":"IFERROR((VLOOKUP(B1161,'Select ECPs'!$B$2:$E$77,4,0)),\"\")","v":""},null,{"$f":"IFERROR((VLOOKUP(B1161,'Select ECPs'!$B$2:$E$77,2,0)),\"\")","v":""}]
[null,null,{"$f":"IFERROR((VLOOKUP(B1162,'Select ECPs'!$B$2:$E$77,4,0)),\"\")","v":""},null,{"$f":"IFERROR((VLOOKUP(B1162,'Select ECPs'!$B$2:$E$77,2,0)),\"\")","v":""}]
[null,null,{"$f":"IFERROR((VLOOKUP(B1163,'Select ECPs'!$B$2:$E$77,4,0)),\"\")","v":""},null,{"$f":"IFERROR((VLOOKUP(B1163,'Select ECPs'!$B$2:$E$77,2,0)),\"\")","v":""}]
[null,null,{"$f":"IFERROR((VLOOKUP(B1164,'Select ECPs'!$B$2:$E$77,4,0)),\"\")","v":""},null,{"$f":"IFERROR((VLOOKUP(B1164,'Select ECPs'!$B$2:$E$77,2,0)),\"\")","v":""}]
[null,null,{"$f":"IFERROR((VLOOKUP(B1165,'Select ECPs'!$B$2:$E$77,4,0)),\"\")","v":""},null,{"$f":"IFERROR((VLOOKUP(B1165,'Select ECPs'!$B$2:$E$77,2,0)),\"\")","v":""}]
[null,null,{"$f":"IFERROR((VLOOKUP(B1166,'Select ECPs'!$B$2:$E$77,4,0)),\"\")","v":""},null,{"$f":"IFERROR((VLOOKUP(B1166,'Select ECPs'!$B$2:$E$77,2,0)),\"\")","v":""}]
[null,null,{"$f":"IFERROR((VLOOKUP(B1167,'Select ECPs'!$B$2:$E$77,4,0)),\"\")","v":""},null,{"$f":"IFERROR((VLOOKUP(B1167,'Select ECPs'!$B$2:$E$77,2,0)),\"\")","v":""}]
[null,null,{"$f":"IFERROR((VLOOKUP(B1168,'Select ECPs'!$B$2:$E$77,4,0)),\"\")","v":""},null,{"$f":"IFERROR((VLOOKUP(B1168,'Select ECPs'!$B$2:$E$77,2,0)),\"\")","v":""}]
[null,null,{"$f":"IFERROR((VLOOKUP(B1169,'Select ECPs'!$B$2:$E$77,4,0)),\"\")","v":""},null,{"$f":"IFERROR((VLOOKUP(B1169,'Select ECPs'!$B$2:$E$77,2,0)),\"\")","v":""}]
[null,null,{"$f":"IFERROR((VLOOKUP(B1170,'Select ECPs'!$B$2:$E$77,4,0)),\"\")","v":""},null,{"$f":"IFERROR((VLOOKUP(B1170,'Select ECPs'!$B$2:$E$77,2,0)),\"\")","v":""}]
[null,null,{"$f":"IFERROR((VLOOKUP(B1171,'Select ECPs'!$B$2:$E$77,4,0)),\"\")","v":""},null,{"$f":"IFERROR((VLOOKUP(B1171,'Select ECPs'!$B$2:$E$77,2,0)),\"\")","v":""}]
[null,null,{"$f":"IFERROR((VLOOKUP(B1172,'Select ECPs'!$B$2:$E$77,4,0)),\"\")","v":""},null,{"$f":"IFERROR((VLOOKUP(B1172,'Select ECPs'!$B$2:$E$77,2,0)),\"\")","v":""}]
[null,null,{"$f":"IFERROR((VLOOKUP(B1173,'Select ECPs'!$B$2:$E$77,4,0)),\"\")","v":""},null,{"$f":"IFERROR((VLOOKUP(B1173,'Select ECPs'!$B$2:$E$77,2,0)),\"\")","v":""}]
[null,null,{"$f":"IFERROR((VLOOKUP(B1174,'Select ECPs'!$B$2:$E$77,4,0)),\"\")","v":""},null,{"$f":"IFERROR((VLOOKUP(B1174,'Select ECPs'!$B$2:$E$77,2,0)),\"\")","v":""}]
[null,null,{"$f":"IFERROR((VLOOKUP(B1175,'Select ECPs'!$B$2:$E$77,4,0)),\"\")","v":""},null,{"$f":"IFERROR((VLOOKUP(B1175,'Select ECPs'!$B$2:$E$77,2,0)),\"\")","v":""}]
[null,null,{"$f":"IFERROR((VLOOKUP(B1176,'Select ECPs'!$B$2:$E$77,4,0)),\"\")","v":""},null,{"$f":"IFERROR((VLOOKUP(B1176,'Select ECPs'!$B$2:$E$77,2,0)),\"\")","v":""}]
[null,null,{"$f":"IFERROR((VLOOKUP(B1177,'Select ECPs'!$B$2:$E$77,4,0)),\"\")","v":""},null,{"$f":"IFERROR((VLOOKUP(B1177,'Select ECPs'!$B$2:$E$77,2,0)),\"\")","v":""}]
[null,null,{"$f":"IFERROR((VLOOKUP(B1178,'Select ECPs'!$B$2:$E$77,4,0)),\"\")","v":""},null,{"$f":"IFERROR((VLOOKUP(B1178,'Select ECPs'!$B$2:$E$77,2,0)),\"\")","v":""}]
[null,null,{"$f":"IFERROR((VLOOKUP(B1179,'Select ECPs'!$B$2:$E$77,4,0)),\"\")","v":""},null,{"$f":"IFERROR((VLOOKUP(B1179,'Select ECPs'!$B$2:$E$77,2,0)),\"\")","v":""}]
[null,null,{"$f":"IFERROR((VLOOKUP(B1180,'Select ECPs'!$B$2:$E$77,4,0)),\"\")","v":""},null,{"$f":"IFERROR((VLOOKUP(B1180,'Select ECPs'!$B$2:$E$77,2,0)),\"\")","v":""}]
[null,null,{"$f":"IFERROR((VLOOKUP(B1181,'Select ECPs'!$B$2:$E$77,4,0)),\"\")","v":""},null,{"$f":"IFERROR((VLOOKUP(B1181,'Select ECPs'!$B$2:$E$77,2,0)),\"\")","v":""}]
[null,null,{"$f":"IFERROR((VLOOKUP(B1182,'Select ECPs'!$B$2:$E$77,4,0)),\"\")","v":""},null,{"$f":"IFERROR((VLOOKUP(B1182,'Select ECPs'!$B$2:$E$77,2,0)),\"\")","v":""}]
[null,null,{"$f":"IFERROR((VLOOKUP(B1183,'Select ECPs'!$B$2:$E$77,4,0)),\"\")","v":""},null,{"$f":"IFERROR((VLOOKUP(B1183,'Select ECPs'!$B$2:$E$77,2,0)),\"\")","v":""}]
[null,null,{"$f":"IFERROR((VLOOKUP(B1184,'Select ECPs'!$B$2:$E$77,4,0)),\"\")","v":""},null,{"$f":"IFERROR((VLOOKUP(B1184,'Select ECPs'!$B$2:$E$77,2,0)),\"\")","v":""}]
[null,null,{"$f":"IFERROR((VLOOKUP(B1185,'Select ECPs'!$B$2:$E$77,4,0)),\"\")","v":""},null,{"$f":"IFERROR((VLOOKUP(B1185,'Select ECPs'!$B$2:$E$77,2,0)),\"\")","v":""}]
[null,null,{"$f":"IFERROR((VLOOKUP(B1186,'Select ECPs'!$B$2:$E$77,4,0)),\"\")","v":""},null,{"$f":"IFERROR((VLOOKUP(B1186,'Select ECPs'!$B$2:$E$77,2,0)),\"\")","v":""}]
[null,null,{"$f":"IFERROR((VLOOKUP(B1187,'Select ECPs'!$B$2:$E$77,4,0)),\"\")","v":""},null,{"$f":"IFERROR((VLOOKUP(B1187,'Select ECPs'!$B$2:$E$77,2,0)),\"\")","v":""}]
[null,null,{"$f":"IFERROR((VLOOKUP(B1188,'Select ECPs'!$B$2:$E$77,4,0)),\"\")","v":""},null,{"$f":"IFERROR((VLOOKUP(B1188,'Select ECPs'!$B$2:$E$77,2,0)),\"\")","v":""}]
[null,null,{"$f":"IFERROR((VLOOKUP(B1189,'Select ECPs'!$B$2:$E$77,4,0)),\"\")","v":""},null,{"$f":"IFERROR((VLOOKUP(B1189,'Select ECPs'!$B$2:$E$77,2,0)),\"\")","v":""}]
[null,null,{"$f":"IFERROR((VLOOKUP(B1190,'Select ECPs'!$B$2:$E$77,4,0)),\"\")","v":""},null,{"$f":"IFERROR((VLOOKUP(B1190,'Select ECPs'!$B$2:$E$77,2,0)),\"\")","v":""}]
[null,null,{"$f":"IFERROR((VLOOKUP(B1191,'Select ECPs'!$B$2:$E$77,4,0)),\"\")","v":""},null,{"$f":"IFERROR((VLOOKUP(B1191,'Select ECPs'!$B$2:$E$77,2,0)),\"\")","v":""}]
[null,null,{"$f":"IFERROR((VLOOKUP(B1192,'Select ECPs'!$B$2:$E$77,4,0)),\"\")","v":""},null,{"$f":"IFERROR((VLOOKUP(B1192,'Select ECPs'!$B$2:$E$77,2,0)),\"\")","v":""}]
[null,null,{"$f":"IFERROR((VLOOKUP(B1193,'Select ECPs'!$B$2:$E$77,4,0)),\"\")","v":""},null,{"$f":"IFERROR((VLOOKUP(B1193,'Select ECPs'!$B$2:$E$77,2,0)),\"\")","v":""}]
[null,null,{"$f":"IFERROR((VLOOKUP(B1194,'Select ECPs'!$B$2:$E$77,4,0)),\"\")","v":""},null,{"$f":"IFERROR((VLOOKUP(B1194,'Select ECPs'!$B$2:$E$77,2,0)),\"\")","v":""}]
[null,null,{"$f":"IFERROR((VLOOKUP(B1195,'Select ECPs'!$B$2:$E$77,4,0)),\"\")","v":""},null,{"$f":"IFERROR((VLOOKUP(B1195,'Select ECPs'!$B$2:$E$77,2,0)),\"\")","v":""}]
[null,null,{"$f":"IFERROR((VLOOKUP(B1196,'Select ECPs'!$B$2:$E$77,4,0)),\"\")","v":""},null,{"$f":"IFERROR((VLOOKUP(B1196,'Select ECPs'!$B$2:$E$77,2,0)),\"\")","v":""}]
[null,null,{"$f":"IFERROR((VLOOKUP(B1197,'Select ECPs'!$B$2:$E$77,4,0)),\"\")","v":""},null,{"$f":"IFERROR((VLOOKUP(B1197,'Select ECPs'!$B$2:$E$77,2,0)),\"\")","v":""}]
[null,null,{"$f":"IFERROR((VLOOKUP(B1198,'Select ECPs'!$B$2:$E$77,4,0)),\"\")","v":""},null,{"$f":"IFERROR((VLOOKUP(B1198,'Select ECPs'!$B$2:$E$77,2,0)),\"\")","v":""}]
[null,null,{"$f":"IFERROR((VLOOKUP(B1199,'Select ECPs'!$B$2:$E$77,4,0)),\"\")","v":""},null,{"$f":"IFERROR((VLOOKUP(B1199,'Select ECPs'!$B$2:$E$77,2,0)),\"\")","v":""}]
[null,null,{"$f":"IFERROR((VLOOKUP(B1200,'Select ECPs'!$B$2:$E$77,4,0)),\"\")","v":""},null,{"$f":"IFERROR((VLOOKUP(B1200,'Select ECPs'!$B$2:$E$77,2,0)),\"\")","v":""}]
[null,null,{"$f":"IFERROR((VLOOKUP(B1201,'Select ECPs'!$B$2:$E$77,4,0)),\"\")","v":""},null,{"$f":"IFERROR((VLOOKUP(B1201,'Select ECPs'!$B$2:$E$77,2,0)),\"\")","v":""}]
[null,null,{"$f":"IFERROR((VLOOKUP(B1202,'Select ECPs'!$B$2:$E$77,4,0)),\"\")","v":""},null,{"$f":"IFERROR((VLOOKUP(B1202,'Select ECPs'!$B$2:$E$77,2,0)),\"\")","v":""}]
[null,null,{"$f":"IFERROR((VLOOKUP(B1203,'Select ECPs'!$B$2:$E$77,4,0)),\"\")","v":""},null,{"$f":"IFERROR((VLOOKUP(B1203,'Select ECPs'!$B$2:$E$77,2,0)),\"\")","v":""}]
[null,null,{"$f":"IFERROR((VLOOKUP(B1204,'Select ECPs'!$B$2:$E$77,4,0)),\"\")","v":""},null,{"$f":"IFERROR((VLOOKUP(B1204,'Select ECPs'!$B$2:$E$77,2,0)),\"\")","v":""}]
[null,null,{"$f":"IFERROR((VLOOKUP(B1205,'Select ECPs'!$B$2:$E$77,4,0)),\"\")","v":""},null,{"$f":"IFERROR((VLOOKUP(B1205,'Select ECPs'!$B$2:$E$77,2,0)),\"\")","v":""}]
[null,null,{"$f":"IFERROR((VLOOKUP(B1206,'Select ECPs'!$B$2:$E$77,4,0)),\"\")","v":""},null,{"$f":"IFERROR((VLOOKUP(B1206,'Select ECPs'!$B$2:$E$77,2,0)),\"\")","v":""}]
[null,null,{"$f":"IFERROR((VLOOKUP(B1207,'Select ECPs'!$B$2:$E$77,4,0)),\"\")","v":""},null,{"$f":"IFERROR((VLOOKUP(B1207,'Select ECPs'!$B$2:$E$77,2,0)),\"\")","v":""}]
[null,null,{"$f":"IFERROR((VLOOKUP(B1208,'Select ECPs'!$B$2:$E$77,4,0)),\"\")","v":""},null,{"$f":"IFERROR((VLOOKUP(B1208,'Select ECPs'!$B$2:$E$77,2,0)),\"\")","v":""}]
[null,null,{"$f":"IFERROR((VLOOKUP(B1209,'Select ECPs'!$B$2:$E$77,4,0)),\"\")","v":""},null,{"$f":"IFERROR((VLOOKUP(B1209,'Select ECPs'!$B$2:$E$77,2,0)),\"\")","v":""}]
[null,null,{"$f":"IFERROR((VLOOKUP(B1210,'Select ECPs'!$B$2:$E$77,4,0)),\"\")","v":""},null,{"$f":"IFERROR((VLOOKUP(B1210,'Select ECPs'!$B$2:$E$77,2,0)),\"\")","v":""}]
[null,null,{"$f":"IFERROR((VLOOKUP(B1211,'Select ECPs'!$B$2:$E$77,4,0)),\"\")","v":""},null,{"$f":"IFERROR((VLOOKUP(B1211,'Select ECPs'!$B$2:$E$77,2,0)),\"\")","v":""}]
[null,null,{"$f":"IFERROR((VLOOKUP(B1212,'Select ECPs'!$B$2:$E$77,4,0)),\"\")","v":""},null,{"$f":"IFERROR((VLOOKUP(B1212,'Select ECPs'!$B$2:$E$77,2,0)),\"\")","v":""}]
[null,null,{"$f":"IFERROR((VLOOKUP(B1213,'Select ECPs'!$B$2:$E$77,4,0)),\"\")","v":""},null,{"$f":"IFERROR((VLOOKUP(B1213,'Select ECPs'!$B$2:$E$77,2,0)),\"\")","v":""}]
[null,null,{"$f":"IFERROR((VLOOKUP(B1214,'Select ECPs'!$B$2:$E$77,4,0)),\"\")","v":""},null,{"$f":"IFERROR((VLOOKUP(B1214,'Select ECPs'!$B$2:$E$77,2,0)),\"\")","v":""}]
[null,null,{"$f":"IFERROR((VLOOKUP(B1215,'Select ECPs'!$B$2:$E$77,4,0)),\"\")","v":""},null,{"$f":"IFERROR((VLOOKUP(B1215,'Select ECPs'!$B$2:$E$77,2,0)),\"\")","v":""}]
[null,null,{"$f":"IFERROR((VLOOKUP(B1216,'Select ECPs'!$B$2:$E$77,4,0)),\"\")","v":""},null,{"$f":"IFERROR((VLOOKUP(B1216,'Select ECPs'!$B$2:$E$77,2,0)),\"\")","v":""}]
[null,null,{"$f":"IFERROR((VLOOKUP(B1217,'Select ECPs'!$B$2:$E$77,4,0)),\"\")","v":""},null,{"$f":"IFERROR((VLOOKUP(B1217,'Select ECPs'!$B$2:$E$77,2,0)),\"\")","v":""}]
[null,null,{"$f":"IFERROR((VLOOKUP(B1218,'Select ECPs'!$B$2:$E$77,4,0)),\"\")","v":""},null,{"$f":"IFERROR((VLOOKUP(B1218,'Select ECPs'!$B$2:$E$77,2,0)),\"\")","v":""}]
[null,null,{"$f":"IFERROR((VLOOKUP(B1219,'Select ECPs'!$B$2:$E$77,4,0)),\"\")","v":""},null,{"$f":"IFERROR((VLOOKUP(B1219,'Select ECPs'!$B$2:$E$77,2,0)),\"\")","v":""}]
[null,null,{"$f":"IFERROR((VLOOKUP(B1220,'Select ECPs'!$B$2:$E$77,4,0)),\"\")","v":""},null,{"$f":"IFERROR((VLOOKUP(B1220,'Select ECPs'!$B$2:$E$77,2,0)),\"\")","v":""}]
[null,null,{"$f":"IFERROR((VLOOKUP(B1221,'Select ECPs'!$B$2:$E$77,4,0)),\"\")","v":""},null,{"$f":"IFERROR((VLOOKUP(B1221,'Select ECPs'!$B$2:$E$77,2,0)),\"\")","v":""}]
[null,null,{"$f":"IFERROR((VLOOKUP(B1222,'Select ECPs'!$B$2:$E$77,4,0)),\"\")","v":""},null,{"$f":"IFERROR((VLOOKUP(B1222,'Select ECPs'!$B$2:$E$77,2,0)),\"\")","v":""}]
[null,null,{"$f":"IFERROR((VLOOKUP(B1223,'Select ECPs'!$B$2:$E$77,4,0)),\"\")","v":""},null,{"$f":"IFERROR((VLOOKUP(B1223,'Select ECPs'!$B$2:$E$77,2,0)),\"\")","v":""}]
[null,null,{"$f":"IFERROR((VLOOKUP(B1224,'Select ECPs'!$B$2:$E$77,4,0)),\"\")","v":""},null,{"$f":"IFERROR((VLOOKUP(B1224,'Select ECPs'!$B$2:$E$77,2,0)),\"\")","v":""}]
[null,null,{"$f":"IFERROR((VLOOKUP(B1225,'Select ECPs'!$B$2:$E$77,4,0)),\"\")","v":""},null,{"$f":"IFERROR((VLOOKUP(B1225,'Select ECPs'!$B$2:$E$77,2,0)),\"\")","v":""}]
[null,null,{"$f":"IFERROR((VLOOKUP(B1226,'Select ECPs'!$B$2:$E$77,4,0)),\"\")","v":""},null,{"$f":"IFERROR((VLOOKUP(B1226,'Select ECPs'!$B$2:$E$77,2,0)),\"\")","v":""}]
[null,null,{"$f":"IFERROR((VLOOKUP(B1227,'Select ECPs'!$B$2:$E$77,4,0)),\"\")","v":""},null,{"$f":"IFERROR((VLOOKUP(B1227,'Select ECPs'!$B$2:$E$77,2,0)),\"\")","v":""}]
[null,null,{"$f":"IFERROR((VLOOKUP(B1228,'Select ECPs'!$B$2:$E$77,4,0)),\"\")","v":""},null,{"$f":"IFERROR((VLOOKUP(B1228,'Select ECPs'!$B$2:$E$77,2,0)),\"\")","v":""}]
[null,null,{"$f":"IFERROR((VLOOKUP(B1229,'Select ECPs'!$B$2:$E$77,4,0)),\"\")","v":""},null,{"$f":"IFERROR((VLOOKUP(B1229,'Select ECPs'!$B$2:$E$77,2,0)),\"\")","v":""}]
[null,null,{"$f":"IFERROR((VLOOKUP(B1230,'Select ECPs'!$B$2:$E$77,4,0)),\"\")","v":""},null,{"$f":"IFERROR((VLOOKUP(B1230,'Select ECPs'!$B$2:$E$77,2,0)),\"\")","v":""}]
[null,null,{"$f":"IFERROR((VLOOKUP(B1231,'Select ECPs'!$B$2:$E$77,4,0)),\"\")","v":""},null,{"$f":"IFERROR((VLOOKUP(B1231,'Select ECPs'!$B$2:$E$77,2,0)),\"\")","v":""}]
[null,null,{"$f":"IFERROR((VLOOKUP(B1232,'Select ECPs'!$B$2:$E$77,4,0)),\"\")","v":""},null,{"$f":"IFERROR((VLOOKUP(B1232,'Select ECPs'!$B$2:$E$77,2,0)),\"\")","v":""}]
[null,null,{"$f":"IFERROR((VLOOKUP(B1233,'Select ECPs'!$B$2:$E$77,4,0)),\"\")","v":""},null,{"$f":"IFERROR((VLOOKUP(B1233,'Select ECPs'!$B$2:$E$77,2,0)),\"\")","v":""}]
[null,null,{"$f":"IFERROR((VLOOKUP(B1234,'Select ECPs'!$B$2:$E$77,4,0)),\"\")","v":""},null,{"$f":"IFERROR((VLOOKUP(B1234,'Select ECPs'!$B$2:$E$77,2,0)),\"\")","v":""}]
[null,null,{"$f":"IFERROR((VLOOKUP(B1235,'Select ECPs'!$B$2:$E$77,4,0)),\"\")","v":""},null,{"$f":"IFERROR((VLOOKUP(B1235,'Select ECPs'!$B$2:$E$77,2,0)),\"\")","v":""}]
[null,null,{"$f":"IFERROR((VLOOKUP(B1236,'Select ECPs'!$B$2:$E$77,4,0)),\"\")","v":""},null,{"$f":"IFERROR((VLOOKUP(B1236,'Select ECPs'!$B$2:$E$77,2,0)),\"\")","v":""}]
[null,null,{"$f":"IFERROR((VLOOKUP(B1237,'Select ECPs'!$B$2:$E$77,4,0)),\"\")","v":""},null,{"$f":"IFERROR((VLOOKUP(B1237,'Select ECPs'!$B$2:$E$77,2,0)),\"\")","v":""}]
[null,null,{"$f":"IFERROR((VLOOKUP(B1238,'Select ECPs'!$B$2:$E$77,4,0)),\"\")","v":""},null,{"$f":"IFERROR((VLOOKUP(B1238,'Select ECPs'!$B$2:$E$77,2,0)),\"\")","v":""}]
[null,null,{"$f":"IFERROR((VLOOKUP(B1239,'Select ECPs'!$B$2:$E$77,4,0)),\"\")","v":""},null,{"$f":"IFERROR((VLOOKUP(B1239,'Select ECPs'!$B$2:$E$77,2,0)),\"\")","v":""}]
[null,null,{"$f":"IFERROR((VLOOKUP(B1240,'Select ECPs'!$B$2:$E$77,4,0)),\"\")","v":""},null,{"$f":"IFERROR((VLOOKUP(B1240,'Select ECPs'!$B$2:$E$77,2,0)),\"\")","v":""}]
[null,null,{"$f":"IFERROR((VLOOKUP(B1241,'Select ECPs'!$B$2:$E$77,4,0)),\"\")","v":""},null,{"$f":"IFERROR((VLOOKUP(B1241,'Select ECPs'!$B$2:$E$77,2,0)),\"\")","v":""}]
[null,null,{"$f":"IFERROR((VLOOKUP(B1242,'Select ECPs'!$B$2:$E$77,4,0)),\"\")","v":""},null,{"$f":"IFERROR((VLOOKUP(B1242,'Select ECPs'!$B$2:$E$77,2,0)),\"\")","v":""}]
[null,null,{"$f":"IFERROR((VLOOKUP(B1243,'Select ECPs'!$B$2:$E$77,4,0)),\"\")","v":""},null,{"$f":"IFERROR((VLOOKUP(B1243,'Select ECPs'!$B$2:$E$77,2,0)),\"\")","v":""}]
[null,null,{"$f":"IFERROR((VLOOKUP(B1244,'Select ECPs'!$B$2:$E$77,4,0)),\"\")","v":""},null,{"$f":"IFERROR((VLOOKUP(B1244,'Select ECPs'!$B$2:$E$77,2,0)),\"\")","v":""}]
[null,null,{"$f":"IFERROR((VLOOKUP(B1245,'Select ECPs'!$B$2:$E$77,4,0)),\"\")","v":""},null,{"$f":"IFERROR((VLOOKUP(B1245,'Select ECPs'!$B$2:$E$77,2,0)),\"\")","v":""}]
[null,null,{"$f":"IFERROR((VLOOKUP(B1246,'Select ECPs'!$B$2:$E$77,4,0)),\"\")","v":""},null,{"$f":"IFERROR((VLOOKUP(B1246,'Select ECPs'!$B$2:$E$77,2,0)),\"\")","v":""}]
[null,null,{"$f":"IFERROR((VLOOKUP(B1247,'Select ECPs'!$B$2:$E$77,4,0)),\"\")","v":""},null,{"$f":"IFERROR((VLOOKUP(B1247,'Select ECPs'!$B$2:$E$77,2,0)),\"\")","v":""}]
[null,null,{"$f":"IFERROR((VLOOKUP(B1248,'Select ECPs'!$B$2:$E$77,4,0)),\"\")","v":""},null,{"$f":"IFERROR((VLOOKUP(B1248,'Select ECPs'!$B$2:$E$77,2,0)),\"\")","v":""}]
[null,null,{"$f":"IFERROR((VLOOKUP(B1249,'Select ECPs'!$B$2:$E$77,4,0)),\"\")","v":""},null,{"$f":"IFERROR((VLOOKUP(B1249,'Select ECPs'!$B$2:$E$77,2,0)),\"\")","v":""}]
[null,null,{"$f":"IFERROR((VLOOKUP(B1250,'Select ECPs'!$B$2:$E$77,4,0)),\"\")","v":""},null,{"$f":"IFERROR((VLOOKUP(B1250,'Select ECPs'!$B$2:$E$77,2,0)),\"\")","v":""}]
[null,null,{"$f":"IFERROR((VLOOKUP(B1251,'Select ECPs'!$B$2:$E$77,4,0)),\"\")","v":""},null,{"$f":"IFERROR((VLOOKUP(B1251,'Select ECPs'!$B$2:$E$77,2,0)),\"\")","v":""}]
[null,null,{"$f":"IFERROR((VLOOKUP(B1252,'Select ECPs'!$B$2:$E$77,4,0)),\"\")","v":""},null,{"$f":"IFERROR((VLOOKUP(B1252,'Select ECPs'!$B$2:$E$77,2,0)),\"\")","v":""}]
[null,null,{"$f":"IFERROR((VLOOKUP(B1253,'Select ECPs'!$B$2:$E$77,4,0)),\"\")","v":""},null,{"$f":"IFERROR((VLOOKUP(B1253,'Select ECPs'!$B$2:$E$77,2,0)),\"\")","v":""}]
[null,null,{"$f":"IFERROR((VLOOKUP(B1254,'Select ECPs'!$B$2:$E$77,4,0)),\"\")","v":""},null,{"$f":"IFERROR((VLOOKUP(B1254,'Select ECPs'!$B$2:$E$77,2,0)),\"\")","v":""}]
[null,null,{"$f":"IFERROR((VLOOKUP(B1255,'Select ECPs'!$B$2:$E$77,4,0)),\"\")","v":""},null,{"$f":"IFERROR((VLOOKUP(B1255,'Select ECPs'!$B$2:$E$77,2,0)),\"\")","v":""}]
[null,null,{"$f":"IFERROR((VLOOKUP(B1256,'Select ECPs'!$B$2:$E$77,4,0)),\"\")","v":""},null,{"$f":"IFERROR((VLOOKUP(B1256,'Select ECPs'!$B$2:$E$77,2,0)),\"\")","v":""}]
[null,null,{"$f":"IFERROR((VLOOKUP(B1257,'Select ECPs'!$B$2:$E$77,4,0)),\"\")","v":""},null,{"$f":"IFERROR((VLOOKUP(B1257,'Select ECPs'!$B$2:$E$77,2,0)),\"\")","v":""}]
[null,null,{"$f":"IFERROR((VLOOKUP(B1258,'Select ECPs'!$B$2:$E$77,4,0)),\"\")","v":""},null,{"$f":"IFERROR((VLOOKUP(B1258,'Select ECPs'!$B$2:$E$77,2,0)),\"\")","v":""}]
[null,null,{"$f":"IFERROR((VLOOKUP(B1259,'Select ECPs'!$B$2:$E$77,4,0)),\"\")","v":""},null,{"$f":"IFERROR((VLOOKUP(B1259,'Select ECPs'!$B$2:$E$77,2,0)),\"\")","v":""}]
[null,null,{"$f":"IFERROR((VLOOKUP(B1260,'Select ECPs'!$B$2:$E$77,4,0)),\"\")","v":""},null,{"$f":"IFERROR((VLOOKUP(B1260,'Select ECPs'!$B$2:$E$77,2,0)),\"\")","v":""}]
[null,null,{"$f":"IFERROR((VLOOKUP(B1261,'Select ECPs'!$B$2:$E$77,4,0)),\"\")","v":""},null,{"$f":"IFERROR((VLOOKUP(B1261,'Select ECPs'!$B$2:$E$77,2,0)),\"\")","v":""}]
[null,null,{"$f":"IFERROR((VLOOKUP(B1262,'Select ECPs'!$B$2:$E$77,4,0)),\"\")","v":""},null,{"$f":"IFERROR((VLOOKUP(B1262,'Select ECPs'!$B$2:$E$77,2,0)),\"\")","v":""}]
[null,null,{"$f":"IFERROR((VLOOKUP(B1263,'Select ECPs'!$B$2:$E$77,4,0)),\"\")","v":""},null,{"$f":"IFERROR((VLOOKUP(B1263,'Select ECPs'!$B$2:$E$77,2,0)),\"\")","v":""}]
[null,null,{"$f":"IFERROR((VLOOKUP(B1264,'Select ECPs'!$B$2:$E$77,4,0)),\"\")","v":""},null,{"$f":"IFERROR((VLOOKUP(B1264,'Select ECPs'!$B$2:$E$77,2,0)),\"\")","v":""}]
[null,null,{"$f":"IFERROR((VLOOKUP(B1265,'Select ECPs'!$B$2:$E$77,4,0)),\"\")","v":""},null,{"$f":"IFERROR((VLOOKUP(B1265,'Select ECPs'!$B$2:$E$77,2,0)),\"\")","v":""}]
[null,null,{"$f":"IFERROR((VLOOKUP(B1266,'Select ECPs'!$B$2:$E$77,4,0)),\"\")","v":""},null,{"$f":"IFERROR((VLOOKUP(B1266,'Select ECPs'!$B$2:$E$77,2,0)),\"\")","v":""}]
[null,null,{"$f":"IFERROR((VLOOKUP(B1267,'Select ECPs'!$B$2:$E$77,4,0)),\"\")","v":""},null,{"$f":"IFERROR((VLOOKUP(B1267,'Select ECPs'!$B$2:$E$77,2,0)),\"\")","v":""}]
[null,null,{"$f":"IFERROR((VLOOKUP(B1268,'Select ECPs'!$B$2:$E$77,4,0)),\"\")","v":""},null,{"$f":"IFERROR((VLOOKUP(B1268,'Select ECPs'!$B$2:$E$77,2,0)),\"\")","v":""}]
[null,null,{"$f":"IFERROR((VLOOKUP(B1269,'Select ECPs'!$B$2:$E$77,4,0)),\"\")","v":""},null,{"$f":"IFERROR((VLOOKUP(B1269,'Select ECPs'!$B$2:$E$77,2,0)),\"\")","v":""}]
[null,null,{"$f":"IFERROR((VLOOKUP(B1270,'Select ECPs'!$B$2:$E$77,4,0)),\"\")","v":""},null,{"$f":"IFERROR((VLOOKUP(B1270,'Select ECPs'!$B$2:$E$77,2,0)),\"\")","v":""}]
[null,null,{"$f":"IFERROR((VLOOKUP(B1271,'Select ECPs'!$B$2:$E$77,4,0)),\"\")","v":""},null,{"$f":"IFERROR((VLOOKUP(B1271,'Select ECPs'!$B$2:$E$77,2,0)),\"\")","v":""}]
[null,null,{"$f":"IFERROR((VLOOKUP(B1272,'Select ECPs'!$B$2:$E$77,4,0)),\"\")","v":""},null,{"$f":"IFERROR((VLOOKUP(B1272,'Select ECPs'!$B$2:$E$77,2,0)),\"\")","v":""}]
[null,null,{"$f":"IFERROR((VLOOKUP(B1273,'Select ECPs'!$B$2:$E$77,4,0)),\"\")","v":""},null,{"$f":"IFERROR((VLOOKUP(B1273,'Select ECPs'!$B$2:$E$77,2,0)),\"\")","v":""}]
[null,null,{"$f":"IFERROR((VLOOKUP(B1274,'Select ECPs'!$B$2:$E$77,4,0)),\"\")","v":""},null,{"$f":"IFERROR((VLOOKUP(B1274,'Select ECPs'!$B$2:$E$77,2,0)),\"\")","v":""}]
[null,null,{"$f":"IFERROR((VLOOKUP(B1275,'Select ECPs'!$B$2:$E$77,4,0)),\"\")","v":""},null,{"$f":"IFERROR((VLOOKUP(B1275,'Select ECPs'!$B$2:$E$77,2,0)),\"\")","v":""}]
[null,null,{"$f":"IFERROR((VLOOKUP(B1276,'Select ECPs'!$B$2:$E$77,4,0)),\"\")","v":""},null,{"$f":"IFERROR((VLOOKUP(B1276,'Select ECPs'!$B$2:$E$77,2,0)),\"\")","v":""}]
[null,null,{"$f":"IFERROR((VLOOKUP(B1277,'Select ECPs'!$B$2:$E$77,4,0)),\"\")","v":""},null,{"$f":"IFERROR((VLOOKUP(B1277,'Select ECPs'!$B$2:$E$77,2,0)),\"\")","v":""}]
[null,null,{"$f":"IFERROR((VLOOKUP(B1278,'Select ECPs'!$B$2:$E$77,4,0)),\"\")","v":""},null,{"$f":"IFERROR((VLOOKUP(B1278,'Select ECPs'!$B$2:$E$77,2,0)),\"\")","v":""}]
[null,null,{"$f":"IFERROR((VLOOKUP(B1279,'Select ECPs'!$B$2:$E$77,4,0)),\"\")","v":""},null,{"$f":"IFERROR((VLOOKUP(B1279,'Select ECPs'!$B$2:$E$77,2,0)),\"\")","v":""}]
[null,null,{"$f":"IFERROR((VLOOKUP(B1280,'Select ECPs'!$B$2:$E$77,4,0)),\"\")","v":""},null,{"$f":"IFERROR((VLOOKUP(B1280,'Select ECPs'!$B$2:$E$77,2,0)),\"\")","v":""}]
[null,null,{"$f":"IFERROR((VLOOKUP(B1281,'Select ECPs'!$B$2:$E$77,4,0)),\"\")","v":""},null,{"$f":"IFERROR((VLOOKUP(B1281,'Select ECPs'!$B$2:$E$77,2,0)),\"\")","v":""}]
[null,null,{"$f":"IFERROR((VLOOKUP(B1282,'Select ECPs'!$B$2:$E$77,4,0)),\"\")","v":""},null,{"$f":"IFERROR((VLOOKUP(B1282,'Select ECPs'!$B$2:$E$77,2,0)),\"\")","v":""}]
[null,null,{"$f":"IFERROR((VLOOKUP(B1283,'Select ECPs'!$B$2:$E$77,4,0)),\"\")","v":""},null,{"$f":"IFERROR((VLOOKUP(B1283,'Select ECPs'!$B$2:$E$77,2,0)),\"\")","v":""}]
[null,null,{"$f":"IFERROR((VLOOKUP(B1284,'Select ECPs'!$B$2:$E$77,4,0)),\"\")","v":""},null,{"$f":"IFERROR((VLOOKUP(B1284,'Select ECPs'!$B$2:$E$77,2,0)),\"\")","v":""}]
[null,null,{"$f":"IFERROR((VLOOKUP(B1285,'Select ECPs'!$B$2:$E$77,4,0)),\"\")","v":""},null,{"$f":"IFERROR((VLOOKUP(B1285,'Select ECPs'!$B$2:$E$77,2,0)),\"\")","v":""}]
[null,null,{"$f":"IFERROR((VLOOKUP(B1286,'Select ECPs'!$B$2:$E$77,4,0)),\"\")","v":""},null,{"$f":"IFERROR((VLOOKUP(B1286,'Select ECPs'!$B$2:$E$77,2,0)),\"\")","v":""}]
[null,null,{"$f":"IFERROR((VLOOKUP(B1287,'Select ECPs'!$B$2:$E$77,4,0)),\"\")","v":""},null,{"$f":"IFERROR((VLOOKUP(B1287,'Select ECPs'!$B$2:$E$77,2,0)),\"\")","v":""}]
[null,null,{"$f":"IFERROR((VLOOKUP(B1288,'Select ECPs'!$B$2:$E$77,4,0)),\"\")","v":""},null,{"$f":"IFERROR((VLOOKUP(B1288,'Select ECPs'!$B$2:$E$77,2,0)),\"\")","v":""}]
[null,null,{"$f":"IFERROR((VLOOKUP(B1289,'Select ECPs'!$B$2:$E$77,4,0)),\"\")","v":""},null,{"$f":"IFERROR((VLOOKUP(B1289,'Select ECPs'!$B$2:$E$77,2,0)),\"\")","v":""}]
[null,null,{"$f":"IFERROR((VLOOKUP(B1290,'Select ECPs'!$B$2:$E$77,4,0)),\"\")","v":""},null,{"$f":"IFERROR((VLOOKUP(B1290,'Select ECPs'!$B$2:$E$77,2,0)),\"\")","v":""}]
[null,null,{"$f":"IFERROR((VLOOKUP(B1291,'Select ECPs'!$B$2:$E$77,4,0)),\"\")","v":""},null,{"$f":"IFERROR((VLOOKUP(B1291,'Select ECPs'!$B$2:$E$77,2,0)),\"\")","v":""}]
[null,null,{"$f":"IFERROR((VLOOKUP(B1292,'Select ECPs'!$B$2:$E$77,4,0)),\"\")","v":""},null,{"$f":"IFERROR((VLOOKUP(B1292,'Select ECPs'!$B$2:$E$77,2,0)),\"\")","v":""}]
[null,null,{"$f":"IFERROR((VLOOKUP(B1293,'Select ECPs'!$B$2:$E$77,4,0)),\"\")","v":""},null,{"$f":"IFERROR((VLOOKUP(B1293,'Select ECPs'!$B$2:$E$77,2,0)),\"\")","v":""}]
[null,null,{"$f":"IFERROR((VLOOKUP(B1294,'Select ECPs'!$B$2:$E$77,4,0)),\"\")","v":""},null,{"$f":"IFERROR((VLOOKUP(B1294,'Select ECPs'!$B$2:$E$77,2,0)),\"\")","v":""}]
[null,null,{"$f":"IFERROR((VLOOKUP(B1295,'Select ECPs'!$B$2:$E$77,4,0)),\"\")","v":""},null,{"$f":"IFERROR((VLOOKUP(B1295,'Select ECPs'!$B$2:$E$77,2,0)),\"\")","v":""}]
[null,null,{"$f":"IFERROR((VLOOKUP(B1296,'Select ECPs'!$B$2:$E$77,4,0)),\"\")","v":""},null,{"$f":"IFERROR((VLOOKUP(B1296,'Select ECPs'!$B$2:$E$77,2,0)),\"\")","v":""}]
[null,null,{"$f":"IFERROR((VLOOKUP(B1297,'Select ECPs'!$B$2:$E$77,4,0)),\"\")","v":""},null,{"$f":"IFERROR((VLOOKUP(B1297,'Select ECPs'!$B$2:$E$77,2,0)),\"\")","v":""}]
[null,null,{"$f":"IFERROR((VLOOKUP(B1298,'Select ECPs'!$B$2:$E$77,4,0)),\"\")","v":""},null,{"$f":"IFERROR((VLOOKUP(B1298,'Select ECPs'!$B$2:$E$77,2,0)),\"\")","v":""}]
[null,null,{"$f":"IFERROR((VLOOKUP(B1299,'Select ECPs'!$B$2:$E$77,4,0)),\"\")","v":""},null,{"$f":"IFERROR((VLOOKUP(B1299,'Select ECPs'!$B$2:$E$77,2,0)),\"\")","v":""}]
[null,null,{"$f":"IFERROR((VLOOKUP(B1300,'Select ECPs'!$B$2:$E$77,4,0)),\"\")","v":""},null,{"$f":"IFERROR((VLOOKUP(B1300,'Select ECPs'!$B$2:$E$77,2,0)),\"\")","v":""}]
[null,null,{"$f":"IFERROR((VLOOKUP(B1301,'Select ECPs'!$B$2:$E$77,4,0)),\"\")","v":""},null,{"$f":"IFERROR((VLOOKUP(B1301,'Select ECPs'!$B$2:$E$77,2,0)),\"\")","v":""}]
[null,null,{"$f":"IFERROR((VLOOKUP(B1302,'Select ECPs'!$B$2:$E$77,4,0)),\"\")","v":""},null,{"$f":"IFERROR((VLOOKUP(B1302,'Select ECPs'!$B$2:$E$77,2,0)),\"\")","v":""}]
[null,null,{"$f":"IFERROR((VLOOKUP(B1303,'Select ECPs'!$B$2:$E$77,4,0)),\"\")","v":""},null,{"$f":"IFERROR((VLOOKUP(B1303,'Select ECPs'!$B$2:$E$77,2,0)),\"\")","v":""}]
[null,null,{"$f":"IFERROR((VLOOKUP(B1304,'Select ECPs'!$B$2:$E$77,4,0)),\"\")","v":""},null,{"$f":"IFERROR((VLOOKUP(B1304,'Select ECPs'!$B$2:$E$77,2,0)),\"\")","v":""}]
[null,null,{"$f":"IFERROR((VLOOKUP(B1305,'Select ECPs'!$B$2:$E$77,4,0)),\"\")","v":""},null,{"$f":"IFERROR((VLOOKUP(B1305,'Select ECPs'!$B$2:$E$77,2,0)),\"\")","v":""}]
[null,null,{"$f":"IFERROR((VLOOKUP(B1306,'Select ECPs'!$B$2:$E$77,4,0)),\"\")","v":""},null,{"$f":"IFERROR((VLOOKUP(B1306,'Select ECPs'!$B$2:$E$77,2,0)),\"\")","v":""}]
[null,null,{"$f":"IFERROR((VLOOKUP(B1307,'Select ECPs'!$B$2:$E$77,4,0)),\"\")","v":""},null,{"$f":"IFERROR((VLOOKUP(B1307,'Select ECPs'!$B$2:$E$77,2,0)),\"\")","v":""}]
[null,null,{"$f":"IFERROR((VLOOKUP(B1308,'Select ECPs'!$B$2:$E$77,4,0)),\"\")","v":""},null,{"$f":"IFERROR((VLOOKUP(B1308,'Select ECPs'!$B$2:$E$77,2,0)),\"\")","v":""}]
[null,null,{"$f":"IFERROR((VLOOKUP(B1309,'Select ECPs'!$B$2:$E$77,4,0)),\"\")","v":""},null,{"$f":"IFERROR((VLOOKUP(B1309,'Select ECPs'!$B$2:$E$77,2,0)),\"\")","v":""}]
[null,null,{"$f":"IFERROR((VLOOKUP(B1310,'Select ECPs'!$B$2:$E$77,4,0)),\"\")","v":""},null,{"$f":"IFERROR((VLOOKUP(B1310,'Select ECPs'!$B$2:$E$77,2,0)),\"\")","v":""}]
[null,null,{"$f":"IFERROR((VLOOKUP(B1311,'Select ECPs'!$B$2:$E$77,4,0)),\"\")","v":""},null,{"$f":"IFERROR((VLOOKUP(B1311,'Select ECPs'!$B$2:$E$77,2,0)),\"\")","v":""}]
[null,null,{"$f":"IFERROR((VLOOKUP(B1312,'Select ECPs'!$B$2:$E$77,4,0)),\"\")","v":""},null,{"$f":"IFERROR((VLOOKUP(B1312,'Select ECPs'!$B$2:$E$77,2,0)),\"\")","v":""}]
[null,null,{"$f":"IFERROR((VLOOKUP(B1313,'Select ECPs'!$B$2:$E$77,4,0)),\"\")","v":""},null,{"$f":"IFERROR((VLOOKUP(B1313,'Select ECPs'!$B$2:$E$77,2,0)),\"\")","v":""}]
[null,null,{"$f":"IFERROR((VLOOKUP(B1314,'Select ECPs'!$B$2:$E$77,4,0)),\"\")","v":""},null,{"$f":"IFERROR((VLOOKUP(B1314,'Select ECPs'!$B$2:$E$77,2,0)),\"\")","v":""}]
[null,null,{"$f":"IFERROR((VLOOKUP(B1315,'Select ECPs'!$B$2:$E$77,4,0)),\"\")","v":""},null,{"$f":"IFERROR((VLOOKUP(B1315,'Select ECPs'!$B$2:$E$77,2,0)),\"\")","v":""}]
[null,null,{"$f":"IFERROR((VLOOKUP(B1316,'Select ECPs'!$B$2:$E$77,4,0)),\"\")","v":""},null,{"$f":"IFERROR((VLOOKUP(B1316,'Select ECPs'!$B$2:$E$77,2,0)),\"\")","v":""}]
[null,null,{"$f":"IFERROR((VLOOKUP(B1317,'Select ECPs'!$B$2:$E$77,4,0)),\"\")","v":""},null,{"$f":"IFERROR((VLOOKUP(B1317,'Select ECPs'!$B$2:$E$77,2,0)),\"\")","v":""}]
[null,null,{"$f":"IFERROR((VLOOKUP(B1318,'Select ECPs'!$B$2:$E$77,4,0)),\"\")","v":""},null,{"$f":"IFERROR((VLOOKUP(B1318,'Select ECPs'!$B$2:$E$77,2,0)),\"\")","v":""}]
[null,null,{"$f":"IFERROR((VLOOKUP(B1319,'Select ECPs'!$B$2:$E$77,4,0)),\"\")","v":""},null,{"$f":"IFERROR((VLOOKUP(B1319,'Select ECPs'!$B$2:$E$77,2,0)),\"\")","v":""}]
[null,null,{"$f":"IFERROR((VLOOKUP(B1320,'Select ECPs'!$B$2:$E$77,4,0)),\"\")","v":""},null,{"$f":"IFERROR((VLOOKUP(B1320,'Select ECPs'!$B$2:$E$77,2,0)),\"\")","v":""}]
[null,null,{"$f":"IFERROR((VLOOKUP(B1321,'Select ECPs'!$B$2:$E$77,4,0)),\"\")","v":""},null,{"$f":"IFERROR((VLOOKUP(B1321,'Select ECPs'!$B$2:$E$77,2,0)),\"\")","v":""}]
[null,null,{"$f":"IFERROR((VLOOKUP(B1322,'Select ECPs'!$B$2:$E$77,4,0)),\"\")","v":""},null,{"$f":"IFERROR((VLOOKUP(B1322,'Select ECPs'!$B$2:$E$77,2,0)),\"\")","v":""}]
[null,null,{"$f":"IFERROR((VLOOKUP(B1323,'Select ECPs'!$B$2:$E$77,4,0)),\"\")","v":""},null,{"$f":"IFERROR((VLOOKUP(B1323,'Select ECPs'!$B$2:$E$77,2,0)),\"\")","v":""}]
[null,null,{"$f":"IFERROR((VLOOKUP(B1324,'Select ECPs'!$B$2:$E$77,4,0)),\"\")","v":""},null,{"$f":"IFERROR((VLOOKUP(B1324,'Select ECPs'!$B$2:$E$77,2,0)),\"\")","v":""}]
[null,null,{"$f":"IFERROR((VLOOKUP(B1325,'Select ECPs'!$B$2:$E$77,4,0)),\"\")","v":""},null,{"$f":"IFERROR((VLOOKUP(B1325,'Select ECPs'!$B$2:$E$77,2,0)),\"\")","v":""}]
[null,null,{"$f":"IFERROR((VLOOKUP(B1326,'Select ECPs'!$B$2:$E$77,4,0)),\"\")","v":""},null,{"$f":"IFERROR((VLOOKUP(B1326,'Select ECPs'!$B$2:$E$77,2,0)),\"\")","v":""}]
[null,null,{"$f":"IFERROR((VLOOKUP(B1327,'Select ECPs'!$B$2:$E$77,4,0)),\"\")","v":""},null,{"$f":"IFERROR((VLOOKUP(B1327,'Select ECPs'!$B$2:$E$77,2,0)),\"\")","v":""}]
[null,null,{"$f":"IFERROR((VLOOKUP(B1328,'Select ECPs'!$B$2:$E$77,4,0)),\"\")","v":""},null,{"$f":"IFERROR((VLOOKUP(B1328,'Select ECPs'!$B$2:$E$77,2,0)),\"\")","v":""}]
[null,null,{"$f":"IFERROR((VLOOKUP(B1329,'Select ECPs'!$B$2:$E$77,4,0)),\"\")","v":""},null,{"$f":"IFERROR((VLOOKUP(B1329,'Select ECPs'!$B$2:$E$77,2,0)),\"\")","v":""}]
[null,null,{"$f":"IFERROR((VLOOKUP(B1330,'Select ECPs'!$B$2:$E$77,4,0)),\"\")","v":""},null,{"$f":"IFERROR((VLOOKUP(B1330,'Select ECPs'!$B$2:$E$77,2,0)),\"\")","v":""}]
[null,null,{"$f":"IFERROR((VLOOKUP(B1331,'Select ECPs'!$B$2:$E$77,4,0)),\"\")","v":""},null,{"$f":"IFERROR((VLOOKUP(B1331,'Select ECPs'!$B$2:$E$77,2,0)),\"\")","v":""}]
[null,null,{"$f":"IFERROR((VLOOKUP(B1332,'Select ECPs'!$B$2:$E$77,4,0)),\"\")","v":""},null,{"$f":"IFERROR((VLOOKUP(B1332,'Select ECPs'!$B$2:$E$77,2,0)),\"\")","v":""}]
[null,null,{"$f":"IFERROR((VLOOKUP(B1333,'Select ECPs'!$B$2:$E$77,4,0)),\"\")","v":""},null,{"$f":"IFERROR((VLOOKUP(B1333,'Select ECPs'!$B$2:$E$77,2,0)),\"\")","v":""}]
[null,null,{"$f":"IFERROR((VLOOKUP(B1334,'Select ECPs'!$B$2:$E$77,4,0)),\"\")","v":""},null,{"$f":"IFERROR((VLOOKUP(B1334,'Select ECPs'!$B$2:$E$77,2,0)),\"\")","v":""}]
[null,null,{"$f":"IFERROR((VLOOKUP(B1335,'Select ECPs'!$B$2:$E$77,4,0)),\"\")","v":""},null,{"$f":"IFERROR((VLOOKUP(B1335,'Select ECPs'!$B$2:$E$77,2,0)),\"\")","v":""}]
[null,null,{"$f":"IFERROR((VLOOKUP(B1336,'Select ECPs'!$B$2:$E$77,4,0)),\"\")","v":""},null,{"$f":"IFERROR((VLOOKUP(B1336,'Select ECPs'!$B$2:$E$77,2,0)),\"\")","v":""}]
[null,null,{"$f":"IFERROR((VLOOKUP(B1337,'Select ECPs'!$B$2:$E$77,4,0)),\"\")","v":""},null,{"$f":"IFERROR((VLOOKUP(B1337,'Select ECPs'!$B$2:$E$77,2,0)),\"\")","v":""}]
[null,null,{"$f":"IFERROR((VLOOKUP(B1338,'Select ECPs'!$B$2:$E$77,4,0)),\"\")","v":""},null,{"$f":"IFERROR((VLOOKUP(B1338,'Select ECPs'!$B$2:$E$77,2,0)),\"\")","v":""}]
[null,null,{"$f":"IFERROR((VLOOKUP(B1339,'Select ECPs'!$B$2:$E$77,4,0)),\"\")","v":""},null,{"$f":"IFERROR((VLOOKUP(B1339,'Select ECPs'!$B$2:$E$77,2,0)),\"\")","v":""}]
[null,null,{"$f":"IFERROR((VLOOKUP(B1340,'Select ECPs'!$B$2:$E$77,4,0)),\"\")","v":""},null,{"$f":"IFERROR((VLOOKUP(B1340,'Select ECPs'!$B$2:$E$77,2,0)),\"\")","v":""}]
[null,null,{"$f":"IFERROR((VLOOKUP(B1341,'Select ECPs'!$B$2:$E$77,4,0)),\"\")","v":""},null,{"$f":"IFERROR((VLOOKUP(B1341,'Select ECPs'!$B$2:$E$77,2,0)),\"\")","v":""}]
[null,null,{"$f":"IFERROR((VLOOKUP(B1342,'Select ECPs'!$B$2:$E$77,4,0)),\"\")","v":""},null,{"$f":"IFERROR((VLOOKUP(B1342,'Select ECPs'!$B$2:$E$77,2,0)),\"\")","v":""}]
[null,null,{"$f":"IFERROR((VLOOKUP(B1343,'Select ECPs'!$B$2:$E$77,4,0)),\"\")","v":""},null,{"$f":"IFERROR((VLOOKUP(B1343,'Select ECPs'!$B$2:$E$77,2,0)),\"\")","v":""}]
[null,null,{"$f":"IFERROR((VLOOKUP(B1344,'Select ECPs'!$B$2:$E$77,4,0)),\"\")","v":""},null,{"$f":"IFERROR((VLOOKUP(B1344,'Select ECPs'!$B$2:$E$77,2,0)),\"\")","v":""}]
[null,null,{"$f":"IFERROR((VLOOKUP(B1345,'Select ECPs'!$B$2:$E$77,4,0)),\"\")","v":""},null,{"$f":"IFERROR((VLOOKUP(B1345,'Select ECPs'!$B$2:$E$77,2,0)),\"\")","v":""}]
[null,null,{"$f":"IFERROR((VLOOKUP(B1346,'Select ECPs'!$B$2:$E$77,4,0)),\"\")","v":""},null,{"$f":"IFERROR((VLOOKUP(B1346,'Select ECPs'!$B$2:$E$77,2,0)),\"\")","v":""}]
[null,null,{"$f":"IFERROR((VLOOKUP(B1347,'Select ECPs'!$B$2:$E$77,4,0)),\"\")","v":""},null,{"$f":"IFERROR((VLOOKUP(B1347,'Select ECPs'!$B$2:$E$77,2,0)),\"\")","v":""}]
[null,null,{"$f":"IFERROR((VLOOKUP(B1348,'Select ECPs'!$B$2:$E$77,4,0)),\"\")","v":""},null,{"$f":"IFERROR((VLOOKUP(B1348,'Select ECPs'!$B$2:$E$77,2,0)),\"\")","v":""}]
[null,null,{"$f":"IFERROR((VLOOKUP(B1349,'Select ECPs'!$B$2:$E$77,4,0)),\"\")","v":""},null,{"$f":"IFERROR((VLOOKUP(B1349,'Select ECPs'!$B$2:$E$77,2,0)),\"\")","v":""}]
[null,null,{"$f":"IFERROR((VLOOKUP(B1350,'Select ECPs'!$B$2:$E$77,4,0)),\"\")","v":""},null,{"$f":"IFERROR((VLOOKUP(B1350,'Select ECPs'!$B$2:$E$77,2,0)),\"\")","v":""}]
[null,null,{"$f":"IFERROR((VLOOKUP(B1351,'Select ECPs'!$B$2:$E$77,4,0)),\"\")","v":""},null,{"$f":"IFERROR((VLOOKUP(B1351,'Select ECPs'!$B$2:$E$77,2,0)),\"\")","v":""}]
[null,null,{"$f":"IFERROR((VLOOKUP(B1352,'Select ECPs'!$B$2:$E$77,4,0)),\"\")","v":""},null,{"$f":"IFERROR((VLOOKUP(B1352,'Select ECPs'!$B$2:$E$77,2,0)),\"\")","v":""}]
[null,null,{"$f":"IFERROR((VLOOKUP(B1353,'Select ECPs'!$B$2:$E$77,4,0)),\"\")","v":""},null,{"$f":"IFERROR((VLOOKUP(B1353,'Select ECPs'!$B$2:$E$77,2,0)),\"\")","v":""}]
[null,null,{"$f":"IFERROR((VLOOKUP(B1354,'Select ECPs'!$B$2:$E$77,4,0)),\"\")","v":""},null,{"$f":"IFERROR((VLOOKUP(B1354,'Select ECPs'!$B$2:$E$77,2,0)),\"\")","v":""}]
[null,null,{"$f":"IFERROR((VLOOKUP(B1355,'Select ECPs'!$B$2:$E$77,4,0)),\"\")","v":""},null,{"$f":"IFERROR((VLOOKUP(B1355,'Select ECPs'!$B$2:$E$77,2,0)),\"\")","v":""}]
[null,null,{"$f":"IFERROR((VLOOKUP(B1356,'Select ECPs'!$B$2:$E$77,4,0)),\"\")","v":""},null,{"$f":"IFERROR((VLOOKUP(B1356,'Select ECPs'!$B$2:$E$77,2,0)),\"\")","v":""}]
[null,null,{"$f":"IFERROR((VLOOKUP(B1357,'Select ECPs'!$B$2:$E$77,4,0)),\"\")","v":""},null,{"$f":"IFERROR((VLOOKUP(B1357,'Select ECPs'!$B$2:$E$77,2,0)),\"\")","v":""}]
[null,null,{"$f":"IFERROR((VLOOKUP(B1358,'Select ECPs'!$B$2:$E$77,4,0)),\"\")","v":""},null,{"$f":"IFERROR((VLOOKUP(B1358,'Select ECPs'!$B$2:$E$77,2,0)),\"\")","v":""}]
[null,null,{"$f":"IFERROR((VLOOKUP(B1359,'Select ECPs'!$B$2:$E$77,4,0)),\"\")","v":""},null,{"$f":"IFERROR((VLOOKUP(B1359,'Select ECPs'!$B$2:$E$77,2,0)),\"\")","v":""}]
[null,null,{"$f":"IFERROR((VLOOKUP(B1360,'Select ECPs'!$B$2:$E$77,4,0)),\"\")","v":""},null,{"$f":"IFERROR((VLOOKUP(B1360,'Select ECPs'!$B$2:$E$77,2,0)),\"\")","v":""}]
[null,null,{"$f":"IFERROR((VLOOKUP(B1361,'Select ECPs'!$B$2:$E$77,4,0)),\"\")","v":""},null,{"$f":"IFERROR((VLOOKUP(B1361,'Select ECPs'!$B$2:$E$77,2,0)),\"\")","v":""}]
[null,null,{"$f":"IFERROR((VLOOKUP(B1362,'Select ECPs'!$B$2:$E$77,4,0)),\"\")","v":""},null,{"$f":"IFERROR((VLOOKUP(B1362,'Select ECPs'!$B$2:$E$77,2,0)),\"\")","v":""}]
[null,null,{"$f":"IFERROR((VLOOKUP(B1363,'Select ECPs'!$B$2:$E$77,4,0)),\"\")","v":""},null,{"$f":"IFERROR((VLOOKUP(B1363,'Select ECPs'!$B$2:$E$77,2,0)),\"\")","v":""}]
[null,null,{"$f":"IFERROR((VLOOKUP(B1364,'Select ECPs'!$B$2:$E$77,4,0)),\"\")","v":""},null,{"$f":"IFERROR((VLOOKUP(B1364,'Select ECPs'!$B$2:$E$77,2,0)),\"\")","v":""}]
[null,null,{"$f":"IFERROR((VLOOKUP(B1365,'Select ECPs'!$B$2:$E$77,4,0)),\"\")","v":""},null,{"$f":"IFERROR((VLOOKUP(B1365,'Select ECPs'!$B$2:$E$77,2,0)),\"\")","v":""}]
[null,null,{"$f":"IFERROR((VLOOKUP(B1366,'Select ECPs'!$B$2:$E$77,4,0)),\"\")","v":""},null,{"$f":"IFERROR((VLOOKUP(B1366,'Select ECPs'!$B$2:$E$77,2,0)),\"\")","v":""}]
[null,null,{"$f":"IFERROR((VLOOKUP(B1367,'Select ECPs'!$B$2:$E$77,4,0)),\"\")","v":""},null,{"$f":"IFERROR((VLOOKUP(B1367,'Select ECPs'!$B$2:$E$77,2,0)),\"\")","v":""}]
[null,null,{"$f":"IFERROR((VLOOKUP(B1368,'Select ECPs'!$B$2:$E$77,4,0)),\"\")","v":""},null,{"$f":"IFERROR((VLOOKUP(B1368,'Select ECPs'!$B$2:$E$77,2,0)),\"\")","v":""}]
[null,null,{"$f":"IFERROR((VLOOKUP(B1369,'Select ECPs'!$B$2:$E$77,4,0)),\"\")","v":""},null,{"$f":"IFERROR((VLOOKUP(B1369,'Select ECPs'!$B$2:$E$77,2,0)),\"\")","v":""}]
[null,null,{"$f":"IFERROR((VLOOKUP(B1370,'Select ECPs'!$B$2:$E$77,4,0)),\"\")","v":""},null,{"$f":"IFERROR((VLOOKUP(B1370,'Select ECPs'!$B$2:$E$77,2,0)),\"\")","v":""}]
[null,null,{"$f":"IFERROR((VLOOKUP(B1371,'Select ECPs'!$B$2:$E$77,4,0)),\"\")","v":""},null,{"$f":"IFERROR((VLOOKUP(B1371,'Select ECPs'!$B$2:$E$77,2,0)),\"\")","v":""}]
[null,null,{"$f":"IFERROR((VLOOKUP(B1372,'Select ECPs'!$B$2:$E$77,4,0)),\"\")","v":""},null,{"$f":"IFERROR((VLOOKUP(B1372,'Select ECPs'!$B$2:$E$77,2,0)),\"\")","v":""}]
[null,null,{"$f":"IFERROR((VLOOKUP(B1373,'Select ECPs'!$B$2:$E$77,4,0)),\"\")","v":""},null,{"$f":"IFERROR((VLOOKUP(B1373,'Select ECPs'!$B$2:$E$77,2,0)),\"\")","v":""}]
[null,null,{"$f":"IFERROR((VLOOKUP(B1374,'Select ECPs'!$B$2:$E$77,4,0)),\"\")","v":""},null,{"$f":"IFERROR((VLOOKUP(B1374,'Select ECPs'!$B$2:$E$77,2,0)),\"\")","v":""}]
[null,null,{"$f":"IFERROR((VLOOKUP(B1375,'Select ECPs'!$B$2:$E$77,4,0)),\"\")","v":""},null,{"$f":"IFERROR((VLOOKUP(B1375,'Select ECPs'!$B$2:$E$77,2,0)),\"\")","v":""}]
[null,null,{"$f":"IFERROR((VLOOKUP(B1376,'Select ECPs'!$B$2:$E$77,4,0)),\"\")","v":""},null,{"$f":"IFERROR((VLOOKUP(B1376,'Select ECPs'!$B$2:$E$77,2,0)),\"\")","v":""}]
[null,null,{"$f":"IFERROR((VLOOKUP(B1377,'Select ECPs'!$B$2:$E$77,4,0)),\"\")","v":""},null,{"$f":"IFERROR((VLOOKUP(B1377,'Select ECPs'!$B$2:$E$77,2,0)),\"\")","v":""}]
[null,null,{"$f":"IFERROR((VLOOKUP(B1378,'Select ECPs'!$B$2:$E$77,4,0)),\"\")","v":""},null,{"$f":"IFERROR((VLOOKUP(B1378,'Select ECPs'!$B$2:$E$77,2,0)),\"\")","v":""}]
[null,null,{"$f":"IFERROR((VLOOKUP(B1379,'Select ECPs'!$B$2:$E$77,4,0)),\"\")","v":""},null,{"$f":"IFERROR((VLOOKUP(B1379,'Select ECPs'!$B$2:$E$77,2,0)),\"\")","v":""}]
[null,null,{"$f":"IFERROR((VLOOKUP(B1380,'Select ECPs'!$B$2:$E$77,4,0)),\"\")","v":""},null,{"$f":"IFERROR((VLOOKUP(B1380,'Select ECPs'!$B$2:$E$77,2,0)),\"\")","v":""}]
[null,null,{"$f":"IFERROR((VLOOKUP(B1381,'Select ECPs'!$B$2:$E$77,4,0)),\"\")","v":""},null,{"$f":"IFERROR((VLOOKUP(B1381,'Select ECPs'!$B$2:$E$77,2,0)),\"\")","v":""}]
[null,null,{"$f":"IFERROR((VLOOKUP(B1382,'Select ECPs'!$B$2:$E$77,4,0)),\"\")","v":""},null,{"$f":"IFERROR((VLOOKUP(B1382,'Select ECPs'!$B$2:$E$77,2,0)),\"\")","v":""}]
[null,null,{"$f":"IFERROR((VLOOKUP(B1383,'Select ECPs'!$B$2:$E$77,4,0)),\"\")","v":""},null,{"$f":"IFERROR((VLOOKUP(B1383,'Select ECPs'!$B$2:$E$77,2,0)),\"\")","v":""}]
[null,null,{"$f":"IFERROR((VLOOKUP(B1384,'Select ECPs'!$B$2:$E$77,4,0)),\"\")","v":""},null,{"$f":"IFERROR((VLOOKUP(B1384,'Select ECPs'!$B$2:$E$77,2,0)),\"\")","v":""}]
[null,null,{"$f":"IFERROR((VLOOKUP(B1385,'Select ECPs'!$B$2:$E$77,4,0)),\"\")","v":""},null,{"$f":"IFERROR((VLOOKUP(B1385,'Select ECPs'!$B$2:$E$77,2,0)),\"\")","v":""}]
[null,null,{"$f":"IFERROR((VLOOKUP(B1386,'Select ECPs'!$B$2:$E$77,4,0)),\"\")","v":""},null,{"$f":"IFERROR((VLOOKUP(B1386,'Select ECPs'!$B$2:$E$77,2,0)),\"\")","v":""}]
[null,null,{"$f":"IFERROR((VLOOKUP(B1387,'Select ECPs'!$B$2:$E$77,4,0)),\"\")","v":""},null,{"$f":"IFERROR((VLOOKUP(B1387,'Select ECPs'!$B$2:$E$77,2,0)),\"\")","v":""}]
[null,null,{"$f":"IFERROR((VLOOKUP(B1388,'Select ECPs'!$B$2:$E$77,4,0)),\"\")","v":""},null,{"$f":"IFERROR((VLOOKUP(B1388,'Select ECPs'!$B$2:$E$77,2,0)),\"\")","v":""}]
[null,null,{"$f":"IFERROR((VLOOKUP(B1389,'Select ECPs'!$B$2:$E$77,4,0)),\"\")","v":""},null,{"$f":"IFERROR((VLOOKUP(B1389,'Select ECPs'!$B$2:$E$77,2,0)),\"\")","v":""}]
[null,null,{"$f":"IFERROR((VLOOKUP(B1390,'Select ECPs'!$B$2:$E$77,4,0)),\"\")","v":""},null,{"$f":"IFERROR((VLOOKUP(B1390,'Select ECPs'!$B$2:$E$77,2,0)),\"\")","v":""}]
[null,null,{"$f":"IFERROR((VLOOKUP(B1391,'Select ECPs'!$B$2:$E$77,4,0)),\"\")","v":""},null,{"$f":"IFERROR((VLOOKUP(B1391,'Select ECPs'!$B$2:$E$77,2,0)),\"\")","v":""}]
[null,null,{"$f":"IFERROR((VLOOKUP(B1392,'Select ECPs'!$B$2:$E$77,4,0)),\"\")","v":""},null,{"$f":"IFERROR((VLOOKUP(B1392,'Select ECPs'!$B$2:$E$77,2,0)),\"\")","v":""}]
[null,null,{"$f":"IFERROR((VLOOKUP(B1393,'Select ECPs'!$B$2:$E$77,4,0)),\"\")","v":""},null,{"$f":"IFERROR((VLOOKUP(B1393,'Select ECPs'!$B$2:$E$77,2,0)),\"\")","v":""}]
[null,null,{"$f":"IFERROR((VLOOKUP(B1394,'Select ECPs'!$B$2:$E$77,4,0)),\"\")","v":""},null,{"$f":"IFERROR((VLOOKUP(B1394,'Select ECPs'!$B$2:$E$77,2,0)),\"\")","v":""}]
[null,null,{"$f":"IFERROR((VLOOKUP(B1395,'Select ECPs'!$B$2:$E$77,4,0)),\"\")","v":""},null,{"$f":"IFERROR((VLOOKUP(B1395,'Select ECPs'!$B$2:$E$77,2,0)),\"\")","v":""}]
[null,null,{"$f":"IFERROR((VLOOKUP(B1396,'Select ECPs'!$B$2:$E$77,4,0)),\"\")","v":""},null,{"$f":"IFERROR((VLOOKUP(B1396,'Select ECPs'!$B$2:$E$77,2,0)),\"\")","v":""}]
[null,null,{"$f":"IFERROR((VLOOKUP(B1397,'Select ECPs'!$B$2:$E$77,4,0)),\"\")","v":""},null,{"$f":"IFERROR((VLOOKUP(B1397,'Select ECPs'!$B$2:$E$77,2,0)),\"\")","v":""}]
[null,null,{"$f":"IFERROR((VLOOKUP(B1398,'Select ECPs'!$B$2:$E$77,4,0)),\"\")","v":""},null,{"$f":"IFERROR((VLOOKUP(B1398,'Select ECPs'!$B$2:$E$77,2,0)),\"\")","v":""}]
[null,null,{"$f":"IFERROR((VLOOKUP(B1399,'Select ECPs'!$B$2:$E$77,4,0)),\"\")","v":""},null,{"$f":"IFERROR((VLOOKUP(B1399,'Select ECPs'!$B$2:$E$77,2,0)),\"\")","v":""}]
[null,null,{"$f":"IFERROR((VLOOKUP(B1400,'Select ECPs'!$B$2:$E$77,4,0)),\"\")","v":""},null,{"$f":"IFERROR((VLOOKUP(B1400,'Select ECPs'!$B$2:$E$77,2,0)),\"\")","v":""}]
[null,null,{"$f":"IFERROR((VLOOKUP(B1401,'Select ECPs'!$B$2:$E$77,4,0)),\"\")","v":""},null,{"$f":"IFERROR((VLOOKUP(B1401,'Select ECPs'!$B$2:$E$77,2,0)),\"\")","v":""}]
[null,null,{"$f":"IFERROR((VLOOKUP(B1402,'Select ECPs'!$B$2:$E$77,4,0)),\"\")","v":""},null,{"$f":"IFERROR((VLOOKUP(B1402,'Select ECPs'!$B$2:$E$77,2,0)),\"\")","v":""}]
[null,null,{"$f":"IFERROR((VLOOKUP(B1403,'Select ECPs'!$B$2:$E$77,4,0)),\"\")","v":""},null,{"$f":"IFERROR((VLOOKUP(B1403,'Select ECPs'!$B$2:$E$77,2,0)),\"\")","v":""}]
[null,null,{"$f":"IFERROR((VLOOKUP(B1404,'Select ECPs'!$B$2:$E$77,4,0)),\"\")","v":""},null,{"$f":"IFERROR((VLOOKUP(B1404,'Select ECPs'!$B$2:$E$77,2,0)),\"\")","v":""}]
[null,null,{"$f":"IFERROR((VLOOKUP(B1405,'Select ECPs'!$B$2:$E$77,4,0)),\"\")","v":""},null,{"$f":"IFERROR((VLOOKUP(B1405,'Select ECPs'!$B$2:$E$77,2,0)),\"\")","v":""}]
[null,null,{"$f":"IFERROR((VLOOKUP(B1406,'Select ECPs'!$B$2:$E$77,4,0)),\"\")","v":""},null,{"$f":"IFERROR((VLOOKUP(B1406,'Select ECPs'!$B$2:$E$77,2,0)),\"\")","v":""}]
[null,null,{"$f":"IFERROR((VLOOKUP(B1407,'Select ECPs'!$B$2:$E$77,4,0)),\"\")","v":""},null,{"$f":"IFERROR((VLOOKUP(B1407,'Select ECPs'!$B$2:$E$77,2,0)),\"\")","v":""}]
[null,null,{"$f":"IFERROR((VLOOKUP(B1408,'Select ECPs'!$B$2:$E$77,4,0)),\"\")","v":""},null,{"$f":"IFERROR((VLOOKUP(B1408,'Select ECPs'!$B$2:$E$77,2,0)),\"\")","v":""}]
[null,null,{"$f":"IFERROR((VLOOKUP(B1409,'Select ECPs'!$B$2:$E$77,4,0)),\"\")","v":""},null,{"$f":"IFERROR((VLOOKUP(B1409,'Select ECPs'!$B$2:$E$77,2,0)),\"\")","v":""}]
[null,null,{"$f":"IFERROR((VLOOKUP(B1410,'Select ECPs'!$B$2:$E$77,4,0)),\"\")","v":""},null,{"$f":"IFERROR((VLOOKUP(B1410,'Select ECPs'!$B$2:$E$77,2,0)),\"\")","v":""}]
[null,null,{"$f":"IFERROR((VLOOKUP(B1411,'Select ECPs'!$B$2:$E$77,4,0)),\"\")","v":""},null,{"$f":"IFERROR((VLOOKUP(B1411,'Select ECPs'!$B$2:$E$77,2,0)),\"\")","v":""}]
[null,null,{"$f":"IFERROR((VLOOKUP(B1412,'Select ECPs'!$B$2:$E$77,4,0)),\"\")","v":""},null,{"$f":"IFERROR((VLOOKUP(B1412,'Select ECPs'!$B$2:$E$77,2,0)),\"\")","v":""}]
[null,null,{"$f":"IFERROR((VLOOKUP(B1413,'Select ECPs'!$B$2:$E$77,4,0)),\"\")","v":""},null,{"$f":"IFERROR((VLOOKUP(B1413,'Select ECPs'!$B$2:$E$77,2,0)),\"\")","v":""}]
[null,null,{"$f":"IFERROR((VLOOKUP(B1414,'Select ECPs'!$B$2:$E$77,4,0)),\"\")","v":""},null,{"$f":"IFERROR((VLOOKUP(B1414,'Select ECPs'!$B$2:$E$77,2,0)),\"\")","v":""}]
[null,null,{"$f":"IFERROR((VLOOKUP(B1415,'Select ECPs'!$B$2:$E$77,4,0)),\"\")","v":""},null,{"$f":"IFERROR((VLOOKUP(B1415,'Select ECPs'!$B$2:$E$77,2,0)),\"\")","v":""}]
[null,null,{"$f":"IFERROR((VLOOKUP(B1416,'Select ECPs'!$B$2:$E$77,4,0)),\"\")","v":""},null,{"$f":"IFERROR((VLOOKUP(B1416,'Select ECPs'!$B$2:$E$77,2,0)),\"\")","v":""}]
[null,null,{"$f":"IFERROR((VLOOKUP(B1417,'Select ECPs'!$B$2:$E$77,4,0)),\"\")","v":""},null,{"$f":"IFERROR((VLOOKUP(B1417,'Select ECPs'!$B$2:$E$77,2,0)),\"\")","v":""}]
[null,null,{"$f":"IFERROR((VLOOKUP(B1418,'Select ECPs'!$B$2:$E$77,4,0)),\"\")","v":""},null,{"$f":"IFERROR((VLOOKUP(B1418,'Select ECPs'!$B$2:$E$77,2,0)),\"\")","v":""}]
[null,null,{"$f":"IFERROR((VLOOKUP(B1419,'Select ECPs'!$B$2:$E$77,4,0)),\"\")","v":""},null,{"$f":"IFERROR((VLOOKUP(B1419,'Select ECPs'!$B$2:$E$77,2,0)),\"\")","v":""}]
[null,null,{"$f":"IFERROR((VLOOKUP(B1420,'Select ECPs'!$B$2:$E$77,4,0)),\"\")","v":""},null,{"$f":"IFERROR((VLOOKUP(B1420,'Select ECPs'!$B$2:$E$77,2,0)),\"\")","v":""}]
[null,null,{"$f":"IFERROR((VLOOKUP(B1421,'Select ECPs'!$B$2:$E$77,4,0)),\"\")","v":""},null,{"$f":"IFERROR((VLOOKUP(B1421,'Select ECPs'!$B$2:$E$77,2,0)),\"\")","v":""}]
[null,null,{"$f":"IFERROR((VLOOKUP(B1422,'Select ECPs'!$B$2:$E$77,4,0)),\"\")","v":""},null,{"$f":"IFERROR((VLOOKUP(B1422,'Select ECPs'!$B$2:$E$77,2,0)),\"\")","v":""}]
[null,null,{"$f":"IFERROR((VLOOKUP(B1423,'Select ECPs'!$B$2:$E$77,4,0)),\"\")","v":""},null,{"$f":"IFERROR((VLOOKUP(B1423,'Select ECPs'!$B$2:$E$77,2,0)),\"\")","v":""}]
[null,null,{"$f":"IFERROR((VLOOKUP(B1424,'Select ECPs'!$B$2:$E$77,4,0)),\"\")","v":""},null,{"$f":"IFERROR((VLOOKUP(B1424,'Select ECPs'!$B$2:$E$77,2,0)),\"\")","v":""}]
[null,null,{"$f":"IFERROR((VLOOKUP(B1425,'Select ECPs'!$B$2:$E$77,4,0)),\"\")","v":""},null,{"$f":"IFERROR((VLOOKUP(B1425,'Select ECPs'!$B$2:$E$77,2,0)),\"\")","v":""}]
[null,null,{"$f":"IFERROR((VLOOKUP(B1426,'Select ECPs'!$B$2:$E$77,4,0)),\"\")","v":""},null,{"$f":"IFERROR((VLOOKUP(B1426,'Select ECPs'!$B$2:$E$77,2,0)),\"\")","v":""}]
[null,null,{"$f":"IFERROR((VLOOKUP(B1427,'Select ECPs'!$B$2:$E$77,4,0)),\"\")","v":""},null,{"$f":"IFERROR((VLOOKUP(B1427,'Select ECPs'!$B$2:$E$77,2,0)),\"\")","v":""}]
[null,null,{"$f":"IFERROR((VLOOKUP(B1428,'Select ECPs'!$B$2:$E$77,4,0)),\"\")","v":""}]
[null,null,{"$f":"IFERROR((VLOOKUP(B1429,'Select ECPs'!$B$2:$E$77,4,0)),\"\")","v":""}]
[null,null,{"$f":"IFERROR((VLOOKUP(B1430,'Select ECPs'!$B$2:$E$77,4,0)),\"\")","v":""}]

{"sheet":"Geographic Analysis","index":4,"n_rows":31,"n_cols":5,"rows_kept":31,"cut":false,"hidden":false,"merged":[]}
["Select the \"Refresh Pivot Table\" when \"Contracted ECP List\" tab has been updated."]
[]
[null,null,null,"Count of ECPs by County"]
[null,null,null,null,"Grand Total"]
["County Name","Contracted ECPs",null,"Grand Total"]
["Allegany",{"$f":"COUNTIF('Contracted ECP List'!$W$950, 'Geographic Analysis'!A6)","v":0}]
["Anne Arundel",{"$f":"COUNTIF('Contracted ECP List'!$W$950, 'Geographic Analysis'!A7)","v":0}]
["Baltimore City",{"$f":"COUNTIF('Contracted ECP List'!$W$950, 'Geographic Analysis'!A8)","v":0}]
["Baltimore",{"$f":"COUNTIF('Contracted ECP List'!$W$950, 'Geographic Analysis'!A9)","v":0}]
["Calvert",{"$f":"COUNTIF('Contracted ECP List'!$W$950, 'Geographic Analysis'!A10)","v":0}]
["Caroline",{"$f":"COUNTIF('Contracted ECP List'!$W$950, 'Geographic Analysis'!A11)","v":0}]
["Carroll",{"$f":"COUNTIF('Contracted ECP List'!$W$950, 'Geographic Analysis'!A12)","v":0}]
["Cecil",{"$f":"COUNTIF('Contracted ECP List'!$W$950, 'Geographic Analysis'!A13)","v":0}]
["Charles",{"$f":"COUNTIF('Contracted ECP List'!$W$950, 'Geographic Analysis'!A14)","v":0}]
["Dorchester",{"$f":"COUNTIF('Contracted ECP List'!$W$950, 'Geographic Analysis'!A15)","v":0}]
["Frederick",{"$f":"COUNTIF('Contracted ECP List'!$W$950, 'Geographic Analysis'!A16)","v":0}]
["Garrett",{"$f":"COUNTIF('Contracted ECP List'!$W$950, 'Geographic Analysis'!A17)","v":0}]
["Harford",{"$f":"COUNTIF('Contracted ECP List'!$W$950, 'Geographic Analysis'!A18)","v":0}]
["Howard",{"$f":"COUNTIF('Contracted ECP List'!$W$950, 'Geographic Analysis'!A19)","v":0}]
["Kent",{"$f":"COUNTIF('Contracted ECP List'!$W$950, 'Geographic Analysis'!A20)","v":0}]
["Montgomery",{"$f":"COUNTIF('Contracted ECP List'!$W$950, 'Geographic Analysis'!A21)","v":0}]
["Prince Georges",{"$f":"COUNTIF('Contracted ECP List'!$W$950, 'Geographic Analysis'!A22)","v":0}]
["Queen Annes",{"$f":"COUNTIF('Contracted ECP List'!$W$950, 'Geographic Analysis'!A23)","v":0}]
["St Marys",{"$f":"COUNTIF('Contracted ECP List'!$W$950, 'Geographic Analysis'!A24)","v":0}]
["Somerset",{"$f":"COUNTIF('Contracted ECP List'!$W$950, 'Geographic Analysis'!A25)","v":0}]
["Talbot",{"$f":"COUNTIF('Contracted ECP List'!$W$950, 'Geographic Analysis'!A26)","v":0}]
["Washington",{"$f":"COUNTIF('Contracted ECP List'!$W$950, 'Geographic Analysis'!A27)","v":0}]
["Wicomico",{"$f":"COUNTIF('Contracted ECP List'!$W$950, 'Geographic Analysis'!A28)","v":0}]
["Worcester",{"$f":"COUNTIF('Contracted ECP List'!$W$950, 'Geographic Analysis'!A29)","v":0}]
["Out of State",{"$f":"COUNTIF('Contracted ECP List'!$W$950, 'Geographic Analysis'!A30)","v":0}]
["District of Columbia",{"$f":"COUNTIF('Contracted ECP List'!$W$950, 'Geographic Analysis'!A31)","v":0}]

{"sheet":"Errors","index":5,"n_rows":2,"n_cols":3,"rows_kept":2,"cut":false,"hidden":false,"merged":[[0,0,0,2]]}
["Below are the validation errors that were identified in the submitted data. Please correct these errors. You must have a valid template before you can export data to XML files. Select the Cell address that is underlined and highlighted in blue to navigate to the specified error. \n\nImportant Note: If one or more rows are deleted in a provider tab or data is reorganized, cell hyperlinks in that tab may no longer be accurate. Please re-run the data validation on the 'User Control' tab to refresh the hyperlinks if this occurs."]
["Tab","Cell","Validation Error Message"]

{"sheet":"Specialty Types","index":6,"n_rows":44,"n_cols":4,"rows_kept":44,"cut":false,"hidden":false,"merged":[[2,2,2,3],[1,1,1,4]]}
["The instructions for populating the Specialty/Facility Types can be found from cell C3.\nIndividual Provider (MD/DO) Specialty Types table can be found in cells C5 through C44.\nFacility, Pharmacy, and Other Non-MD/DO Specialty Types can be found in cells D5 through D44."]
[null,"Instructions for populating the Specialty/Facility Types without using the drop-down menu"]
[null,null,"The lists below show the specialty/facility & pharmacy types that can be entered in the ECP template. Column C shows the Individual Provider (MD/DO) Specialty Types. Column D shows the Facility, Pharmacy, and Other Non-MD/DO Specialty Types.  Both sets of Specialty Types are allowed to be entered for a provider.  If you would like to enter more than 1 specialty/facility type for a record, please comma separate each type. For example, if you would like to assign 001 General Practice and 002 Family Medicine specialty types to a provider, please enter the types as \"001 General Practice, 002 Family Medicine\". Entering multiple specialty/facility types using any other convention will result in a validation error. The same comma separation technique can be used to assign multiple Network IDs to the same provider. For example, an issuer in Maryland with 3 Netowrk IDs could assign network 1 and network 3 to the same provider by entering \"MDN001, MDN003\"."]
[null,null,"Individual Provider (MD/DO) Specialty Types","Facility, Pharmacy, and Other Non-MD/DO Specialty Types"]
[null,null,"001 General Practice","Pharmacy"]
[null,null,"002 Family Medicine","040 General Acute Care Hospital"]
[null,null,"003 Internal Medicine","041 Cardiac Surgery Program"]
[null,null,"004 Geriatrics","042 Cardiac Catheterization Services"]
[null,null,"005 Primary Care - Physician Assistant","043 Critical Care Services - Intensive Care Units (ICU)"]
[null,null,"006 Primary Care - Nurse Practitioner","044 Outpatient Dialysis"]
[null,null,"007 Allergy and Immunology","045 Surgical Services (Ambulatory Surgical Centers and Outpatient Hospital)"]
[null,null,"008 Cardiovascular Disease","046 Skilled Nursing Facilities"]
[null,null,"010 Chiropracty","047 Diagnostic Radiology (free-standing; hospital outpatient; ambulatory health facilities with Dx Radiology)"]
[null,null,"011 Dermatology","048 Mammography"]
[null,null,"012 Endocrinology","049 Physical Therapy (individual physical therapists providing care in Free-standing; hospital outpatient and ambulatory health care facilities)"]
[null,null,"013 ENT/Otolaryngology","050 Occupational Therapist"]
[null,null,"014 Gastroenterology","051 Speech Therapy"]
[null,null,"015 General Surgery","052 Inpatient Psychiatry (Free-standing inpatient psychiatric facility and psychiatric beds within an Acute Care Hospital)"]
[null,null,"016 Gynecology (OB/GYN)","054 Orthotics and Prosthetics"]
[null,null,"017 Infectious Diseases","055 Home Health"]
[null,null,"018 Nephrology","056 Durable Medical Equipment"]
[null,null,"019 Neurology","057 Ambulatory Health Care Facilities - Infusion Therapy/Oncology/Radiology"]
[null,null,"020 Neurological Surgery","061 Heart Transplant Program"]
[null,null,"021 Medical Oncology & Surgical Oncology","062 Heart/Lung Transplant Program"]
[null,null,"022 Radiation Oncology","064 Kidney Transplant Program"]
[null,null,"023 Ophthalmology","065 Liver Transplant Program"]
[null,null,"025 Orthopedic Surgery","066 Lung Transplant Program"]
[null,null,"026 Physical Medicine & Rehabilitation","067 Pancreas Transplant Program"]
[null,null,"027 Plastic Surgery","068 Mental Health Treatment Facility"]
[null,null,"028 Podiatry","069 Substance Use Disorder Treatment Center"]
[null,null,"029 Psychiatry","000 OTHER"]
[null,null,"030 Pulmonology"]
[null,null,"031 Rheumatology"]
[null,null,"033 Urology"]
[null,null,"034 Vascular Surgery"]
[null,null,"035 Cardiothoracic Surgery"]
[null,null,"101 Pediatrics - Routine/Primary Care"]
[null,null,"102 Licensed Clinical Social Workers"]
[null,null,"103 Psychology"]
[null,null,"000 OTHER"]
[null,null,"Dental - General"]
[null,null,"Dental - Orthodontist"]
[null,null,"Dental - Periodontist"]
[null,null,"Dental - Endodontist"]

{"sheet":"DataValidationFields","index":7,"n_rows":289,"n_cols":23,"rows_kept":289,"cut":false,"hidden":true,"merged":[]}
["Physician/ Non-Physician","Codes associated with column C in this tab","Facility/Specialty Types for ECPs Tabs","Codes associated with column E in this tab","Facility/Specialty Types for NA Tabs","States List","Contiguous State List","County Drop-Down List","State","County","StateCountyCheck","StCtyCode","FIPScode","SelectEcpCol","IndividualEcpCol","Provider","Codes associated with column S in this tab","ECP Categories","Networks","MHBE Numbers","ECP Names","NPIs","Uncontracted ECP List Reasons"]
["Physician, Non-Physician",1,"Black Lung Clinics",1,"001 General Practice","DC","DC, MD, VA","District of Columbia","DC","District of Columbia","DCDISTRICT OF COLUMBIA",null,11001,3,4,"Primary Care",19,"Black Lung Clinics","MDN001","MD_46886131_ECP","ANNE ARUNDEL COUNTY DEPARTMENT OF HEALTH","1932263795","Provider moved/retired or facility closed (provide contact information if it differs from MHBE's ECP List)."]
["Physician",2,"Community Mental Health Centers",2,"002 Family Medicine","DE","DE, MD, NJ, PA","Kent, New Castle, Sussex","DC","Out of State","DCOUT OF STATE",null,"11111",4,8,"Specialty Care",9,"Community Mental Health Centers","MDN002","MD_87948973_ECP","BALTIMORE COUNTY DEPARTMENT OF HEALTH/DENTAL","1003042045","Good faith contract offer(s) for upcoming plan year rejected by provider (please detail efforts in next column)."]
["Non-Physician",3,"Dental Providers",3,"003 Internal Medicine","MD","MD, DC, DE, PA, VA, WV","Allegany, Anne Arundel, Baltimore, Baltimore City, Calvert, Caroline, Carroll, Cecil, Charles, Dorchester, Frederick, Garrett, Harford, Howard, Kent, Montgomery, Prince Georges, Queen Annes, St Marys, Somerset, Talbot, Washington, Wicomico, Worcester","DE","Kent","DEKENT",null,10001,5,3,"Pharmacy",6,"Dental Providers","MDN003","MD_17990602_ECP","BALTIMORE MEDICAL SYSTEM","1346664562","Provider contracts exclusively with another carrier/organization (please list the carrier in the next column)."]
[null,4,"Family Planning Providers",4,"004 Geriatrics","PA","PA, DE, MD, NJ, NY, OH, WV","Adams, Allegheny, Armstrong, Beaver, Bedford, Berks, Blair, Bradford, Bucks, Butler, Cambria, Cameron, Carbon, Centre, Chester, Clarion, Clearfield, Clinton, Columbia, Crawford, Cumberland, Dauphin, Delaware, Elk, Erie, Fayette, Forest, Franklin, Fulton, Greene, Huntingdon, Indiana, Jefferson, Juniata, Lackawanna, Lancaster, Lawrence, Lebanon, Lehigh, Luzerne, Lycoming, McKean, Mercer, Mifflin, Monroe, Montgomery, Montour, Northampton, Northumberland, Perry, Philadelphia, Pike, Potter, Schuylkill, Snyder, Somerset, Sullivan, Susquehanna, Tioga, Union, Venango, Warren, Washington, Wayne, Westmoreland, Wyoming, York","DE","New Castle","DENEW CASTLE",null,10003,6,9,"Hospital",21,"Family Planning Providers","MDN004","MD_60900928_ECP","BAY HUNDRED HEALTH CENTER AND DENTAL CENTER","1356388599","Provider does not contract with your organization's plan type (provide contact information for MHBE to follow-up)."]
[null,5,"Federally Qualified Health Centers",5,"005 Primary Care - Physician Assistant","VA","VA, DC, KY, MD, NC, TN, WV","Accomack, Albemarle, Alexandria City, Alleghany, Amelia, Amherst, Appomattox, Arlington, Augusta, Bath, Bedford, Bland, Botetourt, Bristol City, Brunswick, Buchanan, Buckingham, Buena Vista City, Campbell, Caroline, Carroll, Charles City, Charlotte, Charlottesville City, Chesapeake City, Chesterfield, Clarke, Colonial Heights City, Covington City, Craig, Culpeper, Cumberland, Danville City, Dickenson, Dinwiddie, Emporia City, Essex, Fairfax, Fairfax City, Falls Church City, Fauquier, Floyd, Fluvanna, Franklin, Franklin City, Frederick, Fredericksburg City, Galax City, Giles, Gloucester, Goochland, Grayson, Greene, Greensville, Halifax, Hampton City, Hanover, Harrisonburg City, Henrico, Henry, Highland, Hopewell City, Isle of Wight, James City, King and Queen, King George, King William, Lancaster, Lee, Lexington City, Loudoun, Louisa, Lunenburg, Lynchburg City, Madison, Manassas City, Manassas Park City, Martinsville City, Mathews, Mecklenburg, Middlesex, Montgomery, Nelson, New Kent, Newport News City, Norfolk City, Northampton, Northumberland, Norton City, Nottoway, Orange, Page, Patrick, Petersburg City, Pittsylvania, Poquoson City, Portsmouth City, Powhatan, Prince Edward, Prince George, Prince William, Pulaski, Radford, Rappahannock, Richmond, Richmond City, Roanoke, Roanoke City, Rockbridge, Rockingham, Russell, Salem, Scott, Shenandoah, Smyth, Southampton, Spotsylvania, Stafford, Staunton City, Suffolk City, Surry, Sussex, Tazewell, Virginia Beach City, Warren, Washington, Waynesboro City, Westmoreland, Williamsburg City, Winchester City, Wise, Wythe, York","DE","Sussex","DESUSSEX",null,10005,7,10,"Ancillary Services",23,"Federally Qualified Health Centers",null,"MD_44244608_ECP","BCHD ORAL HEALTH SERVICES","1679628846"]
[null,6,"Freestanding Cancer Centers",6,"006 Primary Care - Nurse Practitioner","WV","WV, KY, MD, OH, PA, VA","Barbour, Berkeley, Boone, Braxton, Brooke, Cabell, Calhoun, Clay, Doddridge, Fayette, Gilmer, Grant, Greenbrier, Hampshire, Hancock, Hardy, Harrison, Jackson, Jefferson, Kanawha, Lewis, Lincoln, Logan, Marion, Marshall, Mason, McDowell, Mercer, Mineral, Mingo, Monongalia, Monroe, Morgan, Nicholas, Ohio, Pendleton, Pleasants, Pocahontas, Preston, Putnam, Raleigh, Randolph, Ritchie, Roane, Summers, Taylor, Tucker, Tyler, Upshur, Wayne, Webster, Wetzel, Wirt, Wood, Wyoming","DE","Out of State","DEOUT OF STATE",null,24001,8,11,"NA",11,"Freestanding Cancer Centers",null,"MD_89925442_ECP","BROOKLYN","1336326248"]
[null,7,"Hemophilia Treatment Centers",7,"007 Allergy and Immunology",null,null,null,"MD","Allegany","MDALLEGANY",null,"11111",9,12,null,12,"Hemophilia Treatment Centers",null,"MD_70794553_ECP","CARROLL HOSPITAL","1528403995"]
[null,8,"Children's Hospitals (inpatient only)",8,"008 Cardiovascular Disease",null,null,null,"MD","Anne Arundel","MDANNE ARUNDEL",null,24003,10,13,null,26,"Children's Hospitals (inpatient only)",null,"MD_13629719_ECP","CHASE BREXTON HEALTH CARE AT COLUMBIA","1376589309"]
[null,9,"Inpatient Hospitals (other than children's hospitals)",10,"010 Chiropracty",null,null,null,"MD","Baltimore","MDBALTIMORE",null,24005,11,14,null,27,"Inpatient Hospitals (other than children's hospitals)",null,"MD_80120920_ECP","CHASE BREXTON HEALTH CARE AT MOUNT VERNON","1588606305"]
[null,10,"Outpatient Hospital Clinics",11,"011 Dermatology",null,null,null,"MD","Baltimore City","MDBALTIMORE CITY",null,24510,12,15,null,28,"Outpatient Hospital Clinics",null,"MD_89490453_ECP","CHASE BREXTON HEALTH CARE OF RANDALLSTOWN","1851320147"]
[null,11,"Indian Health Service",12,"012 Endocrinology",null,null,null,"MD","Calvert","MDCALVERT",null,24009,13,16,null,13,"Indian Health Service",null,"MD_91346924_ECP","CHEVERLY HEALTH CENTER","1083945125"]
[null,12,"Tribal Health Program operated under P.L. 93-638",13,"013 ENT/Otolaryngology",null,null,null,"MD","Caroline","MDCAROLINE",null,24011,14,17,null,14,"Tribal Health Program operated under P.L. 93-638",null,"MD_71267541_ECP","CHOPTANK COMMUNITY HEALT","1487333035"]
[null,13,"Urban Indian Health Program",14,"014 Gastroenterology",null,null,null,"MD","Carroll","MDCARROLL",null,24013,15,18,null,15,"Urban Indian Health Program",null,"MD_39725170_ECP","CHOPTANK COMMUNITY HEALT","1508577578"]
[null,14,"Rural Health Clinics",15,"015 General Surgery",null,null,null,"MD","Cecil","MDCECIL",null,24015,18,21,null,16,"Rural Health Clinics",null,"MD_13128334_ECP","CHOPTANK COMMUNITY HEALTH EASTON PEDIATRICS","1356388599"]
[null,15,"Ryan White Providers",16,"016 Gynecology (OB/GYN)",null,null,null,"MD","Charles","MDCHARLES",null,24017,19,22,null,20,"Ryan White Providers",null,"MD_69661397_ECP","CHOPTANK COMMUNITY HEALTH SYSTEM, INC.","1356388599"]
[null,16,"Sexually Transmitted Disease Clinics",17,"017 Infectious Diseases",null,null,null,"MD","Dorchester","MDDORCHESTER",null,24019,20,24,null,17,"Sexually Transmitted Disease Clinics",null,"MD_98514452_ECP","CHOPTANK MOBILE VAN #1 MEDICAL","1609533637"]
[null,17,"Tuberculosis Clinics",18,"018 Nephrology",null,null,null,"MD","Frederick","MDFREDERICK",null,24021,21,23,null,18,"Tuberculosis Clinics",null,"MD_47686746_ECP","COMMUNITY CLINIC AT WAH","1790730281"]
[null,18,"Other ECP Providers",19,"019 Neurology",null,null,null,"MD","Garrett","MDGARRETT",null,24023,2,2,null,22,"Other ECP Providers",null,"MD_54575083_ECP","COMMUNITY CLINIC, INC.","1619287638"]
[null,20,"001 General Practice",20,"020 Neurological Surgery",null,null,null,"MD","Harford","MDHARFORD",null,24025,16,19,null,null,null,null,"MD_16446471_ECP","COMMUNITY OF HOPE","1881639714"]
[null,21,"002 Family Medicine",21,"021 Medical Oncology & Surgical Oncology",null,null,null,"MD","Howard","MDHOWARD",null,24027,17,20,null,null,null,null,"MD_27810656_ECP","DENTAL CARE CENTER","1063595163"]
[null,22,"003 Internal Medicine",22,"022 Radiation Oncology",null,null,null,"MD","Kent","MDKENT",null,24029,null,null,null,null,null,null,"MD_88743925_ECP","DENTAL ROCKVILLE CLINIC","1235734708"]
[null,23,"004 Geriatrics",23,"023 Ophthalmology",null,null,null,"MD","Montgomery","MDMONTGOMERY",null,24031,null,null,null,null,null,null,"MD_92282308_ECP","DENTON MEDICAL CENTER","1356388599"]
[null,24,"005 Primary Care - Physician Assistant",25,"025 Orthopedic Surgery",null,null,null,"MD","Prince Georges","MDPRINCE GEORGES",null,24033,null,null,null,null,null,null,"MD_39573537_ECP","DYER HEALTH CENTER","1083945125"]
[null,25,"006 Primary Care - Nurse Practitioner",26,"026 Physical Medicine & Rehabilitation",null,null,null,"MD","Queen Annes","MDQUEEN ANNES",null,24035,null,null,null,null,null,null,"MD_21568503_ECP","EASTERN FAMILY RESOURCE CENTER","1538439617"]
[null,26,"007 Allergy and Immunology",27,"027 Plastic Surgery",null,null,null,"MD","St Marys","MDST MARYS",null,24037,null,null,null,null,null,null,"MD_30839252_ECP","ELAINE ELLIS CENTER OF HEALTH","1427331461"]
[null,27,"008 Cardiovascular Disease",28,"028 Podiatry",null,null,null,"MD","Somerset","MDSOMERSET",null,24039,null,null,null,null,null,null,"MD_51460809_ECP","FAMILY HEALTH CENTER OF BALTIMORE","1346286713"]
[null,28,"010 Chiropracty",29,"029 Psychiatry",null,null,null,"MD","Talbot","MDTALBOT",null,24041,null,null,null,null,null,null,"MD_25377975_ECP","FAMILY HEALTH CENTERS OF BALTIMORE, INC.","1205013539"]
[null,29,"011 Dermatology",30,"030 Pulmonology",null,null,null,"MD","Washington","MDWASHINGTON",null,24043,null,null,null,null,null,null,"MD_16266289_ECP","FAMILY HEALTHCARE OF HAGERSTOWN","1366425266"]
[null,30,"012 Endocrinology",31,"031 Rheumatology",null,null,null,"MD","Wicomico","MDWICOMICO",null,24045,null,null,null,null,null,null,"MD_93478563_ECP","FASSETT-MAGEE HEALTH CENTER AND CAMBRIDGE DENTAL CENTER","1356388599"]
[null,31,"013 ENT/Otolaryngology",33,"033 Urology",null,null,null,"MD","Worcester","MDWORCESTER",null,24047,null,null,null,null,null,null,"MD_70460231_ECP","FEDERALSBURG MEDICAL AND DENTAL CENTER","1356388599"]
[null,32,"014 Gastroenterology",34,"034 Vascular Surgery",null,null,null,"PA","Out of State","PAOUT OF STATE",null,42001,null,null,null,null,null,null,"MD_93385327_ECP","FRANKLIN PARK HEALTH CENTER","1790730281"]
[null,33,"015 General Surgery",35,"035 Cardiothoracic Surgery",null,null,null,"PA","Adams","PAADAMS",null,42003,null,null,null,null,null,null,"MD_47494213_ECP","GAITHERSBURG HEALTH CENTER","1790730281"]
[null,34,"016 Gynecology (OB/GYN)",101,"101 Pediatrics - Routine/Primary Care",null,null,null,"PA","Allegheny","PAALLEGHENY",null,"11111",null,null,null,null,null,null,"MD_36627425_ECP","GARRETT COUNTY HEALTH DEPT.","1326096751"]
[null,35,"017 Infectious Diseases",102,"102 Licensed Clinical Social Workers",null,null,null,"PA","Armstrong","PAARMSTRONG",null,42005,null,null,null,null,null,null,"MD_92471014_ECP","GARRETT COUNTY HEALTH DEPT.","1326096751"]
[null,36,"018 Nephrology",103,"103 Psychology",null,null,null,"PA","Beaver","PABEAVER",null,42007,null,null,null,null,null,null,"MD_16638833_ECP","GARRETT COUNTY HEALTH DEPT.- GRANSTVILLE CLINIC","1255467346"]
[null,37,"019 Neurology",105,"Dental - General",null,null,null,"PA","Bedford","PABEDFORD",null,42009,null,null,null,null,null,null,"MD_59896146_ECP","GOLDSBORO MEDICAL AND DENTAL CENTER","1356388599"]
[null,38,"020 Neurological Surgery",106,"Dental - Orthodontist",null,null,null,"PA","Berks","PABERKS",null,42011,null,null,null,null,null,null,"MD_15613168_ECP","HARFORD COUNTY HEALTH DEPARTMENT-DENTAL","1255598686"]
[null,39,"021 Medical Oncology & Surgical Oncology",107,"Dental - Periodontist",null,null,null,"PA","Blair","PABLAIR",null,42013,null,null,null,null,null,null,"MD_35891775_ECP","HEALTHCARE FOR THE HOMELESS INC","1003819665"]
[null,40,"022 Radiation Oncology",104,"Dental - Endodontist",null,null,null,"PA","Bradford","PABRADFORD",null,42015,null,null,null,null,null,null,"MD_23725225_ECP","HEALTHCARE FOR THE HOMELESS INC","1003819665"]
[null,41,"023 Ophthalmology",108,"Pharmacy",null,null,null,"PA","Bucks","PABUCKS",null,42017,null,null,null,null,null,null,"MD_77542216_ECP","INDEPENDENT LIVING FOUNDATION","1437127586"]
[null,42,"025 Orthopedic Surgery",40,"040 General Acute Care Hospital",null,null,null,"PA","Butler","PABUTLER",null,42019,null,null,null,null,null,null,"MD_74346292_ECP","KCHD CHILDRENS DENTAL","1568601698"]
[null,43,"026 Physical Medicine & Rehabilitation",41,"041 Cardiac Surgery Program",null,null,null,"PA","Cambria","PACAMBRIA",null,42021,null,null,null,null,null,null,"MD_15816192_ECP","LIBERTY FAMILY RESOURCE CENTER","1174893259"]
[null,44,"027 Plastic Surgery",42,"042 Cardiac Catheterization Services",null,null,null,"PA","Cameron","PACAMERON",null,42023,null,null,null,null,null,null,"MD_38797517_ECP","MARY'S CENTER - MATERNAL & CHILD CARE INC.","1053522060"]
[null,45,"028 Podiatry",43,"043 Critical Care Services - Intensive Care Units (ICU)",null,null,null,"PA","Carbon","PACARBON",null,42025,null,null,null,null,null,null,"MD_55510133_ECP","MARY'S CENTER - MATERNAL & CHILD CARE, INC","1972920742"]
[null,46,"029 Psychiatry",44,"044 Outpatient Dialysis",null,null,null,"PA","Centre","PACENTRE",null,42027,null,null,null,null,null,null,"MD_27252325_ECP","MEDSTAR HARBOR HOSPITAL","1831110873"]
[null,47,"030 Pulmonology",45,"045 Surgical Services (Ambulatory Surgical Centers and Outpatient Hospital)",null,null,null,"PA","Chester","PACHESTER",null,42029,null,null,null,null,null,null,"MD_17164348_ECP","MI CASA ES SU CASA","1720793136"]
[null,48,"031 Rheumatology",46,"046 Skilled Nursing Facilities",null,null,null,"PA","Clarion","PACLARION",null,42031,null,null,null,null,null,null,"MD_26721850_ECP","NATIVE AMERICAN LIFELINES OF BOSTON AND BALTIMORE","1679863344"]
[null,49,"033 Urology",47,"047 Diagnostic Radiology (free-standing; hospital outpatient; ambulatory health facilities with Dx Radiology)",null,null,null,"PA","Clearfield","PACLEARFIELD",null,42033,null,null,null,null,null,null,"MD_96450081_ECP","ORAL HEALTH","1104422377"]
[null,50,"034 Vascular Surgery",48,"048 Mammography",null,null,null,"PA","Clinton","PACLINTON",null,42035,null,null,null,null,null,null,"MD_60983337_ECP","PARK WEST MEDICAL CENTER - BELVEDERE","1205896719"]
[null,51,"035 Cardiothoracic Surgery",49,"049 Physical Therapy (individual physical therapists providing care in Free-standing; hospital outpatient and ambulatory health care facilities)",null,null,null,"PA","Columbia","PACOLUMBIA",null,42037,null,null,null,null,null,null,"MD_66814435_ECP","PENINSULA REGIONAL MEDICAL CENTER","1184832040"]
[null,52,"101 Pediatrics - Routine/Primary Care",50,"050 Occupational Therapist",null,null,null,"PA","Crawford","PACRAWFORD",null,42039,null,null,null,null,null,null,"MD_83303273_ECP","QUEEN ANNES COUNTY HEALTH DENTAL CENTER","1962772319"]
[null,53,"102 Licensed Clinical Social Workers",51,"051 Speech Therapy",null,null,null,"PA","Cumberland","PACUMBERLAND",null,42041,null,null,null,null,null,null,"MD_85585679_ECP","TAKOMA PARK HEALTH CENTER","1790730281"]
[null,54,"103 Psychology",52,"052 Inpatient Psychiatry (Free-standing inpatient psychiatric facility and psychiatric beds within an Acute Care Hospital)",null,null,null,"PA","Dauphin","PADAUPHIN",null,42043,null,null,null,null,null,null,"MD_50279041_ECP","TEEN AND YOUNG ADULT (TAYA) HEALTH CONNECTION","1790730281"]
[null,55,"Dental - General",54,"054 Orthotics and Prosthetics",null,null,null,"PA","Delaware","PADELAWARE",null,42045,null,null,null,null,null,null,"MD_26209605_ECP","THE MATERNAL AND CHILD HEALTH CENTER AT LAUREL","1083945125"]
[null,56,"Dental - Orthodontist",55,"055 Home Health",null,null,null,"PA","Elk","PAELK",null,42047,null,null,null,null,null,null,"MD_89958607_ECP","TOTAL HEALTH CARE, INC","1841496304"]
[null,57,"Dental - Periodontist",56,"056 Durable Medical Equipment",null,null,null,"PA","Erie","PAERIE",null,42049,null,null,null,null,null,null,"MD_74879818_ECP","UNITY HEALTH CARE INC","1093894172"]
[null,58,"Dental - Endodontist",57,"057 Ambulatory Health Care Facilities - Infusion Therapy/Oncology/Radiology",null,null,null,"PA","Fayette","PAFAYETTE",null,42051,null,null,null,null,null,null,"MD_14724977_ECP","VILLAGE DENTAL CENTER","1508946047"]
[null,59,"Pharmacy",61,"061 Heart Transplant Program",null,null,null,"PA","Forest","PAFOREST",null,42053,null,null,null,null,null,null,"MD_15752869_ECP","WALNUT STREET COMMUNITY HEALTH CENTER, INC DBA FAMILY HEALTHCARE OF HAGERSTOWN","1104135268"]
[null,60,"040 General Acute Care Hospital",62,"062 Heart/Lung Transplant Program",null,null,null,"PA","Franklin","PAFRANKLIN",null,42055,null,null,null,null,null,null,"MD_45718131_ECP","WALNUT STREET COMMUNITY HEALTH CENTER, INC DBA FAMILY HEALTHCARE OF HAGERSTOWN","1487930913"]
[null,61,"041 Cardiac Surgery Program",64,"064 Kidney Transplant Program",null,null,null,"PA","Fulton","PAFULTON",null,42057,null,null,null,null,null,null,"MD_64865210_ECP","WALNUT STREET COMMUNITY HEALTH CENTER, INC DBA FAMILY HEALTHCARE OF HAGERSTOWN","1982804977"]
[null,62,"042 Cardiac Catheterization Services",65,"065 Liver Transplant Program",null,null,null,"PA","Greene","PAGREENE",null,42059,null,null,null,null,null,null,"MD_26269903_ECP","WALNUT STREET COMMUNITY HEALTH CENTER, INC.","1194276832"]
[null,63,"043 Critical Care Services - Intensive Care Units (ICU)",66,"066 Lung Transplant Program",null,null,null,"PA","Huntingdon","PAHUNTINGDON",null,42061,null,null,null,null,null,null,"MD_75919021_ECP","WEST CECIL HEALTH CENTER INC","1366625089"]
[null,64,"044 Outpatient Dialysis",67,"067 Pancreas Transplant Program",null,null,null,"PA","Indiana","PAINDIANA",null,42063,null,null,null,null,null,null,"MD_16642440_ECP","WEST CECIL HEALTH CENTER INC","1366625089"]
[null,65,"045 Surgical Services (Ambulatory Surgical Centers and Outpatient Hospital)",0,"000 OTHER",null,null,null,"PA","Jefferson","PAJEFFERSON",null,42065,null,null,null,null,null,null,"MD_53978386_ECP","WHITMAN-WALKER CLINIC, INC.","1184616617"]
[null,66,"046 Skilled Nursing Facilities",null,null,null,null,null,"PA","Juniata","PAJUNIATA",null,42067,null,null,null,null,null,null,"MD_55672091_ECP","WICOMICO COUNTY HEALTH DEPARTMENT","1013286111"]
[null,67,"047 Diagnostic Radiology (free-standing; hospital outpatient; ambulatory health facilities with Dx Radiology)",null,null,null,null,null,"PA","Lackawanna","PALACKAWANNA",null,42069,null,null,null,null,null,null,"MD_50124135_ECP","WICOMICO COUNTY HEALTH DEPARTMENT COMMUNITY HEALTH SERVICES","1013286111"]
[null,68,"048 Mammography",null,null,null,null,null,"PA","Lancaster","PALANCASTER",null,42071,null,null,null,null,null,null,"MD_57345395_ECP","WORCESTER COUNTY HEALTH DEPARTMENT","1003868076"]
[null,69,"049 Physical Therapy (individual physical therapists providing care in Free-standing; hospital outpatient and ambulatory health care facilities)",null,null,null,null,null,"PA","Lawrence","PALAWRENCE",null,42073,null,null,null,null,null,null,"MD_98958364_ECP","WORCESTER COUNTY HEALTH DEPARTMENT","1003868076"]
[null,70,"050 Occupational Therapist",null,null,null,null,null,"PA","Lebanon","PALEBANON",null,42075]
[null,71,"051 Speech Therapy",null,null,null,null,null,"PA","Lehigh","PALEHIGH",null,42077]
[null,72,"052 Inpatient Psychiatry (Free-standing inpatient psychiatric facility and psychiatric beds within an Acute Care Hospital)",null,null,null,null,null,"PA","Luzerne","PALUZERNE",null,42079]
[null,73,"054 Orthotics and Prosthetics",null,null,null,null,null,"PA","Lycoming","PALYCOMING",null,42081]
[null,74,"055 Home Health",null,null,null,null,null,"PA","McKean","PAMCKEAN",null,42083]
[null,75,"056 Durable Medical Equipment",null,null,null,null,null,"PA","Mercer","PAMERCER",null,42085]
[null,76,"057 Ambulatory Health Care Facilities - Infusion Therapy/Oncology/Radiology",null,null,null,null,null,"PA","Mifflin","PAMIFFLIN",null,42087]
[null,77,"061 Heart Transplant Program",null,null,null,null,null,"PA","Monroe","PAMONROE",null,42089]
[null,78,"062 Heart/Lung Transplant Program",null,null,null,null,null,"PA","Montgomery","PAMONTGOMERY",null,42091]
[null,79,"064 Kidney Transplant Program",null,null,null,null,null,"PA","Montour","PAMONTOUR",null,42093]
[null,80,"065 Liver Transplant Program",null,null,null,null,null,"PA","Northampton","PANORTHAMPTON",null,42095]
[null,81,"066 Lung Transplant Program",null,null,null,null,null,"PA","Northumberland","PANORTHUMBERLAND",null,42097]
[null,82,"067 Pancreas Transplant Program",null,null,null,null,null,"PA","Perry","PAPERRY",null,42099]
[null,83,"068 Mental Health Treatment Facility",null,null,null,null,null,"PA","Philadelphia","PAPHILADELPHIA",null,42101]
[null,84,"069 Substance Use Disorder Treatment Center",null,null,null,null,null,"PA","Pike","PAPIKE",null,42103]
[null,19,"000 OTHER",null,null,null,null,null,"PA","Potter","PAPOTTER",null,42105]
[null,null,null,null,null,null,null,null,"PA","Schuylkill","PASCHUYLKILL",null,42107]
[null,null,null,null,null,null,null,null,"PA","Snyder","PASNYDER",null,42109]
[null,null,null,null,null,null,null,null,"PA","Somerset","PASOMERSET",null,42111]
[null,null,null,null,null,null,null,null,"PA","Sullivan","PASULLIVAN",null,42113]
[null,null,null,null,null,null,null,null,"PA","Susquehanna","PASUSQUEHANNA",null,42115]
[null,null,null,null,null,null,null,null,"PA","Tioga","PATIOGA",null,42117]
[null,null,null,null,null,null,null,null,"PA","Union","PAUNION",null,42119]
[null,null,null,null,null,null,null,null,"PA","Venango","PAVENANGO",null,42121]
[null,null,null,null,null,null,null,null,"PA","Warren","PAWARREN",null,42123]
[null,null,null,null,null,null,null,null,"PA","Washington","PAWASHINGTON",null,42125]
[null,null,null,null,null,null,null,null,"PA","Wayne","PAWAYNE",null,42127]
[null,null,null,null,null,null,null,null,"PA","Westmoreland","PAWESTMORELAND",null,42129]
[null,null,null,null,null,null,null,null,"PA","Wyoming","PAWYOMING",null,42131]
[null,null,null,null,null,null,null,null,"PA","York","PAYORK",null,42133]
[null,null,null,null,null,null,null,null,"VA","Out of State","VAOUT OF STATE",null,51001]
[null,null,null,null,null,null,null,null,"VA","Accomack","VAACCOMACK",null,51003]
[null,null,null,null,null,null,null,null,"VA","Albemarle","VAALBEMARLE",null,51510]
[null,null,null,null,null,null,null,null,"VA","Alexandria City","VAALEXANDRIA CITY",null,"11111"]
[null,null,null,null,null,null,null,null,"VA","Alleghany","VAALLEGHANY",null,51005]
[null,null,null,null,null,null,null,null,"VA","Amelia","VAAMELIA",null,51007]
[null,null,null,null,null,null,null,null,"VA","Amherst","VAAMHERST",null,51009]
[null,null,null,null,null,null,null,null,"VA","Appomattox","VAAPPOMATTOX",null,51011]
[null,null,null,null,null,null,null,null,"VA","Arlington","VAARLINGTON",null,51013]
[null,null,null,null,null,null,null,null,"VA","Augusta","VAAUGUSTA",null,51015]
[null,null,null,null,null,null,null,null,"VA","Bath","VABATH",null,51017]
[null,null,null,null,null,null,null,null,"VA","Bedford","VABEDFORD",null,51019]
[null,null,null,null,null,null,null,null,"VA","Bland","VABLAND",null,51021]
[null,null,null,null,null,null,null,null,"VA","Botetourt","VABOTETOURT",null,51023]
[null,null,null,null,null,null,null,null,"VA","Bristol City","VABRISTOL CITY",null,51520]
[null,null,null,null,null,null,null,null,"VA","Brunswick","VABRUNSWICK",null,51025]
[null,null,null,null,null,null,null,null,"VA","Buchanan","VABUCHANAN",null,51027]
[null,null,null,null,null,null,null,null,"VA","Buckingham","VABUCKINGHAM",null,51029]
[null,null,null,null,null,null,null,null,"VA","Buena Vista City","VABUENA VISTA CITY",null,51530]
[null,null,null,null,null,null,null,null,"VA","Campbell","VACAMPBELL",null,51031]
[null,null,null,null,null,null,null,null,"VA","Caroline","VACAROLINE",null,51033]
[null,null,null,null,null,null,null,null,"VA","Carroll","VACARROLL",null,51035]
[null,null,null,null,null,null,null,null,"VA","Charles City","VACHARLES CITY",null,51036]
[null,null,null,null,null,null,null,null,"VA","Charlotte","VACHARLOTTE",null,51037]
[null,null,null,null,null,null,null,null,"VA","Charlottesville City","VACHARLOTTESVILLE CITY",null,51540]
[null,null,null,null,null,null,null,null,"VA","Chesapeake City","VACHESAPEAKE CITY",null,51550]
[null,null,null,null,null,null,null,null,"VA","Chesterfield","VACHESTERFIELD",null,51041]
[null,null,null,null,null,null,null,null,"VA","Clarke","VACLARKE",null,51043]
[null,null,null,null,null,null,null,null,"VA","Colonial Heights City","VACOLONIAL HEIGHTS CITY",null,51570]
[null,null,null,null,null,null,null,null,"VA","Covington City","VACOVINGTON CITY",null,51580]
[null,null,null,null,null,null,null,null,"VA","Craig","VACRAIG",null,51045]
[null,null,null,null,null,null,null,null,"VA","Culpeper","VACULPEPER",null,51047]
[null,null,null,null,null,null,null,null,"VA","Cumberland","VACUMBERLAND",null,51049]
[null,null,null,null,null,null,null,null,"VA","Danville City","VADANVILLE CITY",null,51590]
[null,null,null,null,null,null,null,null,"VA","Dickenson","VADICKENSON",null,51051]
[null,null,null,null,null,null,null,null,"VA","Dinwiddie","VADINWIDDIE",null,51053]
[null,null,null,null,null,null,null,null,"VA","Emporia City","VAEMPORIA CITY",null,51595]
[null,null,null,null,null,null,null,null,"VA","Essex","VAESSEX",null,51057]
[null,null,null,null,null,null,null,null,"VA","Fairfax","VAFAIRFAX",null,51059]
[null,null,null,null,null,null,null,null,"VA","Fairfax City","VAFAIRFAX CITY",null,51600]
[null,null,null,null,null,null,null,null,"VA","Falls Church City","VAFALLS CHURCH CITY",null,51610]
[null,null,null,null,null,null,null,null,"VA","Fauquier","VAFAUQUIER",null,51061]
[null,null,null,null,null,null,null,null,"VA","Floyd","VAFLOYD",null,51063]
[null,null,null,null,null,null,null,null,"VA","Fluvanna","VAFLUVANNA",null,51065]
[null,null,null,null,null,null,null,null,"VA","Franklin","VAFRANKLIN",null,51067]
[null,null,null,null,null,null,null,null,"VA","Franklin City","VAFRANKLIN CITY",null,51620]
[null,null,null,null,null,null,null,null,"VA","Frederick","VAFREDERICK",null,51069]
[null,null,null,null,null,null,null,null,"VA","Fredericksburg City","VAFREDERICKSBURG CITY",null,51630]
[null,null,null,null,null,null,null,null,"VA","Galax City","VAGALAX CITY",null,51640]
[null,null,null,null,null,null,null,null,"VA","Giles","VAGILES",null,51071]
[null,null,null,null,null,null,null,null,"VA","Gloucester","VAGLOUCESTER",null,51073]
[null,null,null,null,null,null,null,null,"VA","Goochland","VAGOOCHLAND",null,51075]
[null,null,null,null,null,null,null,null,"VA","Grayson","VAGRAYSON",null,51077]
[null,null,null,null,null,null,null,null,"VA","Greene","VAGREENE",null,51079]
[null,null,null,null,null,null,null,null,"VA","Greensville","VAGREENSVILLE",null,51081]
[null,null,null,null,null,null,null,null,"VA","Halifax","VAHALIFAX",null,51083]
[null,null,null,null,null,null,null,null,"VA","Hampton City","VAHAMPTON CITY",null,51650]
[null,null,null,null,null,null,null,null,"VA","Hanover","VAHANOVER",null,51085]
[null,null,null,null,null,null,null,null,"VA","Harrisonburg City","VAHARRISONBURG CITY",null,51660]
[null,null,null,null,null,null,null,null,"VA","Henrico","VAHENRICO",null,51087]
[null,null,null,null,null,null,null,null,"VA","Henry","VAHENRY",null,51089]
[null,null,null,null,null,null,null,null,"VA","Highland","VAHIGHLAND",null,51091]
[null,null,null,null,null,null,null,null,"VA","Hopewell City","VAHOPEWELL CITY",null,51670]
[null,null,null,null,null,null,null,null,"VA","Isle of Wight","VAISLE OF WIGHT",null,51093]
[null,null,null,null,null,null,null,null,"VA","James City","VAJAMES CITY",null,51095]
[null,null,null,null,null,null,null,null,"VA","King and Queen","VAKING AND QUEEN",null,51097]
[null,null,null,null,null,null,null,null,"VA","King George","VAKING GEORGE",null,51099]
[null,null,null,null,null,null,null,null,"VA","King William","VAKING WILLIAM",null,51101]
[null,null,null,null,null,null,null,null,"VA","Lancaster","VALANCASTER",null,51103]
[null,null,null,null,null,null,null,null,"VA","Lee","VALEE",null,51105]
[null,null,null,null,null,null,null,null,"VA","Lexington City","VALEXINGTON CITY",null,51678]
[null,null,null,null,null,null,null,null,"VA","Loudoun","VALOUDOUN",null,51107]
[null,null,null,null,null,null,null,null,"VA","Louisa","VALOUISA",null,51109]
[null,null,null,null,null,null,null,null,"VA","Lunenburg","VALUNENBURG",null,51111]
[null,null,null,null,null,null,null,null,"VA","Lynchburg City","VALYNCHBURG CITY",null,51680]
[null,null,null,null,null,null,null,null,"VA","Madison","VAMADISON",null,51113]
[null,null,null,null,null,null,null,null,"VA","Manassas City","VAMANASSAS CITY",null,51683]
[null,null,null,null,null,null,null,null,"VA","Manassas Park City","VAMANASSAS PARK CITY",null,51685]
[null,null,null,null,null,null,null,null,"VA","Martinsville City","VAMARTINSVILLE CITY",null,51690]
[null,null,null,null,null,null,null,null,"VA","Mathews","VAMATHEWS",null,51115]
[null,null,null,null,null,null,null,null,"VA","Mecklenburg","VAMECKLENBURG",null,51117]
[null,null,null,null,null,null,null,null,"VA","Middlesex","VAMIDDLESEX",null,51119]
[null,null,null,null,null,null,null,null,"VA","Montgomery","VAMONTGOMERY",null,51121]
[null,null,null,null,null,null,null,null,"VA","Nelson","VANELSON",null,51125]
[null,null,null,null,null,null,null,null,"VA","New Kent","VANEW KENT",null,51127]
[null,null,null,null,null,null,null,null,"VA","Newport News City","VANEWPORT NEWS CITY",null,51700]
[null,null,null,null,null,null,null,null,"VA","Norfolk City","VANORFOLK CITY",null,51710]
[null,null,null,null,null,null,null,null,"VA","Northampton","VANORTHAMPTON",null,51131]
[null,null,null,null,null,null,null,null,"VA","Northumberland","VANORTHUMBERLAND",null,51133]
[null,null,null,null,null,null,null,null,"VA","Norton City","VANORTON CITY",null,51720]
[null,null,null,null,null,null,null,null,"VA","Nottoway","VANOTTOWAY",null,51135]
[null,null,null,null,null,null,null,null,"VA","Orange","VAORANGE",null,51137]
[null,null,null,null,null,null,null,null,"VA","Page","VAPAGE",null,51139]
[null,null,null,null,null,null,null,null,"VA","Patrick","VAPATRICK",null,51141]
[null,null,null,null,null,null,null,null,"VA","Petersburg City","VAPETERSBURG CITY",null,51730]
[null,null,null,null,null,null,null,null,"VA","Pittsylvania","VAPITTSYLVANIA",null,51143]
[null,null,null,null,null,null,null,null,"VA","Poquoson City","VAPOQUOSON CITY",null,51735]
[null,null,null,null,null,null,null,null,"VA","Portsmouth City","VAPORTSMOUTH CITY",null,51740]
[null,null,null,null,null,null,null,null,"VA","Powhatan","VAPOWHATAN",null,51145]
[null,null,null,null,null,null,null,null,"VA","Prince Edward","VAPRINCE EDWARD",null,51147]
[null,null,null,null,null,null,null,null,"VA","Prince George","VAPRINCE GEORGE",null,51149]
[null,null,null,null,null,null,null,null,"VA","Prince William","VAPRINCE WILLIAM",null,51153]
[null,null,null,null,null,null,null,null,"VA","Pulaski","VAPULASKI",null,51155]
[null,null,null,null,null,null,null,null,"VA","Radford","VARADFORD",null,51750]
[null,null,null,null,null,null,null,null,"VA","Rappahannock","VARAPPAHANNOCK",null,51157]
[null,null,null,null,null,null,null,null,"VA","Richmond","VARICHMOND",null,51159]
[null,null,null,null,null,null,null,null,"VA","Richmond City","VARICHMOND CITY",null,51760]
[null,null,null,null,null,null,null,null,"VA","Roanoke","VAROANOKE",null,51161]
[null,null,null,null,null,null,null,null,"VA","Roanoke City","VAROANOKE CITY",null,51770]
[null,null,null,null,null,null,null,null,"VA","Rockbridge","VAROCKBRIDGE",null,51163]
[null,null,null,null,null,null,null,null,"VA","Rockingham","VAROCKINGHAM",null,51165]
[null,null,null,null,null,null,null,null,"VA","Russell","VARUSSELL",null,51167]
[null,null,null,null,null,null,null,null,"VA","Salem","VASALEM",null,51775]
[null,null,null,null,null,null,null,null,"VA","Scott","VASCOTT",null,51169]
[null,null,null,null,null,null,null,null,"VA","Shenandoah","VASHENANDOAH",null,51171]
[null,null,null,null,null,null,null,null,"VA","Smyth","VASMYTH",null,51173]
[null,null,null,null,null,null,null,null,"VA","Southampton","VASOUTHAMPTON",null,51175]
[null,null,null,null,null,null,null,null,"VA","Spotsylvania","VASPOTSYLVANIA",null,51177]
[null,null,null,null,null,null,null,null,"VA","Stafford","VASTAFFORD",null,51179]
[null,null,null,null,null,null,null,null,"VA","Staunton City","VASTAUNTON CITY",null,51790]
[null,null,null,null,null,null,null,null,"VA","Suffolk City","VASUFFOLK CITY",null,51800]
[null,null,null,null,null,null,null,null,"VA","Surry","VASURRY",null,51181]
[null,null,null,null,null,null,null,null,"VA","Sussex","VASUSSEX",null,51183]
[null,null,null,null,null,null,null,null,"VA","Tazewell","VATAZEWELL",null,51185]
[null,null,null,null,null,null,null,null,"VA","Virginia Beach City","VAVIRGINIA BEACH CITY",null,51810]
[null,null,null,null,null,null,null,null,"VA","Warren","VAWARREN",null,51187]
[null,null,null,null,null,null,null,null,"VA","Washington","VAWASHINGTON",null,51191]
[null,null,null,null,null,null,null,null,"VA","Waynesboro City","VAWAYNESBORO CITY",null,51820]
[null,null,null,null,null,null,null,null,"VA","Westmoreland","VAWESTMORELAND",null,51193]
[null,null,null,null,null,null,null,null,"VA","Williamsburg City","VAWILLIAMSBURG CITY",null,51830]
[null,null,null,null,null,null,null,null,"VA","Winchester City","VAWINCHESTER CITY",null,51840]
[null,null,null,null,null,null,null,null,"VA","Wise","VAWISE",null,51195]
[null,null,null,null,null,null,null,null,"VA","Wythe","VAWYTHE",null,51197]
[null,null,null,null,null,null,null,null,"VA","York","VAYORK",null,51199]
[null,null,null,null,null,null,null,null,"WV","Out of State","WVOUT OF STATE",null,54001]
[null,null,null,null,null,null,null,null,"WV","Barbour","WVBARBOUR",null,54003]
[null,null,null,null,null,null,null,null,"WV","Berkeley","WVBERKELEY",null,54005]
[null,null,null,null,null,null,null,null,"WV","Boone","WVBOONE",null,54007]
[null,null,null,null,null,null,null,null,"WV","Braxton","WVBRAXTON",null,"11111"]
[null,null,null,null,null,null,null,null,"WV","Brooke","WVBROOKE",null,54009]
[null,null,null,null,null,null,null,null,"WV","Cabell","WVCABELL",null,54011]
[null,null,null,null,null,null,null,null,"WV","Calhoun","WVCALHOUN",null,54013]
[null,null,null,null,null,null,null,null,"WV","Clay","WVCLAY",null,54015]
[null,null,null,null,null,null,null,null,"WV","Doddridge","WVDODDRIDGE",null,54017]
[null,null,null,null,null,null,null,null,"WV","Fayette","WVFAYETTE",null,54019]
[null,null,null,null,null,null,null,null,"WV","Gilmer","WVGILMER",null,54021]
[null,null,null,null,null,null,null,null,"WV","Grant","WVGRANT",null,54023]
[null,null,null,null,null,null,null,null,"WV","Greenbrier","WVGREENBRIER",null,54025]
[null,null,null,null,null,null,null,null,"WV","Hampshire","WVHAMPSHIRE",null,54027]
[null,null,null,null,null,null,null,null,"WV","Hancock","WVHANCOCK",null,54029]
[null,null,null,null,null,null,null,null,"WV","Hardy","WVHARDY",null,54031]
[null,null,null,null,null,null,null,null,"WV","Harrison","WVHARRISON",null,54033]
[null,null,null,null,null,null,null,null,"WV","Jackson","WVJACKSON",null,54035]
[null,null,null,null,null,null,null,null,"WV","Jefferson","WVJEFFERSON",null,54037]
[null,null,null,null,null,null,null,null,"WV","Kanawha","WVKANAWHA",null,54039]
[null,null,null,null,null,null,null,null,"WV","Lewis","WVLEWIS",null,54041]
[null,null,null,null,null,null,null,null,"WV","Lincoln","WVLINCOLN",null,54043]
[null,null,null,null,null,null,null,null,"WV","Logan","WVLOGAN",null,54045]
[null,null,null,null,null,null,null,null,"WV","Marion","WVMARION",null,54049]
[null,null,null,null,null,null,null,null,"WV","Marshall","WVMARSHALL",null,54051]
[null,null,null,null,null,null,null,null,"WV","Mason","WVMASON",null,54053]
[null,null,null,null,null,null,null,null,"WV","McDowell","WVMCDOWELL",null,54047]
[null,null,null,null,null,null,null,null,"WV","Mercer","WVMERCER",null,54055]
[null,null,null,null,null,null,null,null,"WV","Mineral","WVMINERAL",null,54057]
[null,null,null,null,null,null,null,null,"WV","Mingo","WVMINGO",null,54059]
[null,null,null,null,null,null,null,null,"WV","Monongalia","WVMONONGALIA",null,54061]
[null,null,null,null,null,null,null,null,"WV","Monroe","WVMONROE",null,54063]
[null,null,null,null,null,null,null,null,"WV","Morgan","WVMORGAN",null,54065]
[null,null,null,null,null,null,null,null,"WV","Nicholas","WVNICHOLAS",null,54067]
[null,null,null,null,null,null,null,null,"WV","Ohio","WVOHIO",null,54069]
[null,null,null,null,null,null,null,null,"WV","Pendleton","WVPENDLETON",null,54071]
[null,null,null,null,null,null,null,null,"WV","Pleasants","WVPLEASANTS",null,54073]
[null,null,null,null,null,null,null,null,"WV","Pocahontas","WVPOCAHONTAS",null,54075]
[null,null,null,null,null,null,null,null,"WV","Preston","WVPRESTON",null,54077]
[null,null,null,null,null,null,null,null,"WV","Putnam","WVPUTNAM",null,54079]
[null,null,null,null,null,null,null,null,"WV","Raleigh","WVRALEIGH",null,54081]
[null,null,null,null,null,null,null,null,"WV","Randolph","WVRANDOLPH",null,54083]
[null,null,null,null,null,null,null,null,"WV","Ritchie","WVRITCHIE",null,54085]
[null,null,null,null,null,null,null,null,"WV","Roane","WVROANE",null,54087]
[null,null,null,null,null,null,null,null,"WV","Summers","WVSUMMERS",null,54089]
[null,null,null,null,null,null,null,null,"WV","Taylor","WVTAYLOR",null,54091]
[null,null,null,null,null,null,null,null,"WV","Tucker","WVTUCKER",null,54093]
[null,null,null,null,null,null,null,null,"WV","Tyler","WVTYLER",null,54095]
[null,null,null,null,null,null,null,null,"WV","Upshur","WVUPSHUR",null,54097]
[null,null,null,null,null,null,null,null,"WV","Wayne","WVWAYNE",null,54099]
[null,null,null,null,null,null,null,null,"WV","Webster","WVWEBSTER",null,54101]
[null,null,null,null,null,null,null,null,"WV","Wetzel","WVWETZEL",null,54103]
[null,null,null,null,null,null,null,null,"WV","Wirt","WVWIRT",null,54105]
[null,null,null,null,null,null,null,null,"WV","Wood","WVWOOD",null,54107]
[null,null,null,null,null,null,null,null,"WV","Wyoming","WVWYOMING",null,54109]

{"sheet":"HPSA","index":8,"n_rows":195,"n_cols":3,"rows_kept":195,"cut":false,"hidden":false,"merged":[]}
["Zip Code table can be found in cells B2 through B26932.\nState table can be found in cells C2 through C26932.","Zip Code","State"]
[null,"20233","MD"]
[null,"20389","MD"]
[null,"20395","MD"]
[null,"20409","MD"]
[null,"20599","MD"]
[null,"20608","MD"]
[null,"20611","MD"]
[null,"20612","MD"]
[null,"20625","MD"]
[null,"20628","MD"]
[null,"20632","MD"]
[null,"20660","MD"]
[null,"20661","MD"]
[null,"20667","MD"]
[null,"20670","MD"]
[null,"20680","MD"]
[null,"20684","MD"]
[null,"20686","MD"]
[null,"20687","MD"]
[null,"20697","MD"]
[null,"20710","MD"]
[null,"20712","MD"]
[null,"20722","MD"]
[null,"20731","MD"]
[null,"20737","MD"]
[null,"20738","MD"]
[null,"20740","MD"]
[null,"20741","MD"]
[null,"20747","MD"]
[null,"20752","MD"]
[null,"20753","MD"]
[null,"20755","MD"]
[null,"20757","MD"]
[null,"20762","MD"]
[null,"20782","MD"]
[null,"20783","MD"]
[null,"20784","MD"]
[null,"20787","MD"]
[null,"20788","MD"]
[null,"20790","MD"]
[null,"20791","MD"]
[null,"20797","MD"]
[null,"20799","MD"]
[null,"20877","MD"]
[null,"20884","MD"]
[null,"20899","MD"]
[null,"20903","MD"]
[null,"20993","MD"]
[null,"21020","MD"]
[null,"21031","MD"]
[null,"21040","MD"]
[null,"21052","MD"]
[null,"21065","MD"]
[null,"21130","MD"]
[null,"21155","MD"]
[null,"21201","MD"]
[null,"21202","MD"]
[null,"21203","MD"]
[null,"21205","MD"]
[null,"21206","MD"]
[null,"21207","MD"]
[null,"21211","MD"]
[null,"21213","MD"]
[null,"21215","MD"]
[null,"21216","MD"]
[null,"21217","MD"]
[null,"21218","MD"]
[null,"21222","MD"]
[null,"21223","MD"]
[null,"21224","MD"]
[null,"21225","MD"]
[null,"21226","MD"]
[null,"21227","MD"]
[null,"21229","MD"]
[null,"21230","MD"]
[null,"21231","MD"]
[null,"21233","MD"]
[null,"21235","MD"]
[null,"21239","MD"]
[null,"21241","MD"]
[null,"21252","MD"]
[null,"21263","MD"]
[null,"21264","MD"]
[null,"21270","MD"]
[null,"21273","MD"]
[null,"21275","MD"]
[null,"21278","MD"]
[null,"21279","MD"]
[null,"21280","MD"]
[null,"21281","MD"]
[null,"21287","MD"]
[null,"21288","MD"]
[null,"21289","MD"]
[null,"21290","MD"]
[null,"21297","MD"]
[null,"21298","MD"]
[null,"21501","MD"]
[null,"21502","MD"]
[null,"21503","MD"]
[null,"21504","MD"]
[null,"21505","MD"]
[null,"21520","MD"]
[null,"21521","MD"]
[null,"21522","MD"]
[null,"21523","MD"]
[null,"21524","MD"]
[null,"21528","MD"]
[null,"21529","MD"]
[null,"21530","MD"]
[null,"21531","MD"]
[null,"21532","MD"]
[null,"21536","MD"]
[null,"21538","MD"]
[null,"21539","MD"]
[null,"21540","MD"]
[null,"21541","MD"]
[null,"21542","MD"]
[null,"21545","MD"]
[null,"21550","MD"]
[null,"21556","MD"]
[null,"21560","MD"]
[null,"21561","MD"]
[null,"21562","MD"]
[null,"21610","MD"]
[null,"21613","MD"]
[null,"21620","MD"]
[null,"21622","MD"]
[null,"21623","MD"]
[null,"21626","MD"]
[null,"21632","MD"]
[null,"21636","MD"]
[null,"21639","MD"]
[null,"21641","MD"]
[null,"21643","MD"]
[null,"21645","MD"]
[null,"21649","MD"]
[null,"21653","MD"]
[null,"21656","MD"]
[null,"21657","MD"]
[null,"21660","MD"]
[null,"21664","MD"]
[null,"21668","MD"]
[null,"21670","MD"]
[null,"21672","MD"]
[null,"21675","MD"]
[null,"21676","MD"]
[null,"21690","MD"]
[null,"21705","MD"]
[null,"21719","MD"]
[null,"21734","MD"]
[null,"21740","MD"]
[null,"21741","MD"]
[null,"21750","MD"]
[null,"21767","MD"]
[null,"21781","MD"]
[null,"21792","MD"]
[null,"21801","MD"]
[null,"21802","MD"]
[null,"21803","MD"]
[null,"21804","MD"]
[null,"21811","MD"]
[null,"21813","MD"]
[null,"21814","MD"]
[null,"21817","MD"]
[null,"21821","MD"]
[null,"21822","MD"]
[null,"21824","MD"]
[null,"21826","MD"]
[null,"21829","MD"]
[null,"21836","MD"]
[null,"21840","MD"]
[null,"21841","MD"]
[null,"21842","MD"]
[null,"21843","MD"]
[null,"21849","MD"]
[null,"21851","MD"]
[null,"21853","MD"]
[null,"21856","MD"]
[null,"21857","MD"]
[null,"21861","MD"]
[null,"21862","MD"]
[null,"21863","MD"]
[null,"21864","MD"]
[null,"21865","MD"]
[null,"21866","MD"]
[null,"21867","MD"]
[null,"21871","MD"]
[null,"21872","MD"]
[null,"21875","MD"]
[null,"21902","MD"]
[null,"21903","MD"]
[null,"21913","MD"]
[null,"21916","MD"]
[null,"21930","MD"]

{"sheet":"County Names","index":9,"n_rows":29,"n_cols":5,"rows_kept":29,"cut":false,"hidden":false,"merged":[[1,2,1,4],[2,2,2,4]]}
["The instructions for using County Names used in the ECP/Network Adequacy Template can be found from cell C3.\nState table can be found in cells C5 through C3145.\nCounty Name table can be found in cells D5 through D3145.\nFips Code table can be found in cells E5 through E3145."]
[null,null,"County Names used in the ECP Template"]
[null,null,"The list below shows the county names that are used and accepted in the ECP template. If you aren't using the drop-down menus, please ensure that your county names match the names below. A different version of a county name will result in a validation error. The county names below are the same as those in the Service Area template. Only include the county name in the county field, do not include the FIPS code."]
[null,null,"State","County Name","FIPS Code"]
[null,null,"MD","Allegany",24001]
[null,null,"MD","Anne Arundel",24003]
[null,null,"MD","Baltimore County",24005]
[null,null,"MD","Baltimore City",24510]
[null,null,"MD","Calvert",24009]
[null,null,"MD","Caroline",24011]
[null,null,"MD","Carroll",24013]
[null,null,"MD","Cecil",24015]
[null,null,"MD","Charles",24017]
[null,null,"MD","Dorchester",24019]
[null,null,"MD","Frederick",24021]
[null,null,"MD","Garrett",24023]
[null,null,"MD","Harford",24025]
[null,null,"MD","Howard",24027]
[null,null,"MD","Kent",24029]
[null,null,"MD","Montgomery",24031]
[null,null,"MD","Prince Georges",24033]
[null,null,"MD","Queen Annes",24035]
[null,null,"MD","St Marys",24037]
[null,null,"MD","Somerset",24039]
[null,null,"MD","Talbot",24041]
[null,null,"MD","Washington",24043]
[null,null,"MD","Wicomico",24045]
[null,null,"MD","Worcester",24047]
[null,null,"DC, DE, PA, VA, WV","Out of State"]